BEGIN:VCALENDAR
VERSION:2.0
PRODID:-//Archaeological Institute of America - ECPv6.15.20//NONSGML v1.0//EN
CALSCALE:GREGORIAN
METHOD:PUBLISH
X-ORIGINAL-URL:https://www.archaeological.org
X-WR-CALDESC:Events for Archaeological Institute of America
REFRESH-INTERVAL;VALUE=DURATION:PT1H
X-Robots-Tag:noindex
X-PUBLISHED-TTL:PT1H
BEGIN:VTIMEZONE
TZID:America/Vancouver
BEGIN:DAYLIGHT
TZOFFSETFROM:-0800
TZOFFSETTO:-0700
TZNAME:PDT
DTSTART:20220313T100000
END:DAYLIGHT
BEGIN:STANDARD
TZOFFSETFROM:-0700
TZOFFSETTO:-0800
TZNAME:PST
DTSTART:20221106T090000
END:STANDARD
BEGIN:DAYLIGHT
TZOFFSETFROM:-0800
TZOFFSETTO:-0700
TZNAME:PDT
DTSTART:20230312T100000
END:DAYLIGHT
BEGIN:STANDARD
TZOFFSETFROM:-0700
TZOFFSETTO:-0800
TZNAME:PST
DTSTART:20231105T090000
END:STANDARD
BEGIN:DAYLIGHT
TZOFFSETFROM:-0800
TZOFFSETTO:-0700
TZNAME:PDT
DTSTART:20240310T100000
END:DAYLIGHT
BEGIN:STANDARD
TZOFFSETFROM:-0700
TZOFFSETTO:-0800
TZNAME:PST
DTSTART:20241103T090000
END:STANDARD
END:VTIMEZONE
BEGIN:VTIMEZONE
TZID:Europe/Prague
BEGIN:DAYLIGHT
TZOFFSETFROM:+0100
TZOFFSETTO:+0200
TZNAME:CEST
DTSTART:20220327T010000
END:DAYLIGHT
BEGIN:STANDARD
TZOFFSETFROM:+0200
TZOFFSETTO:+0100
TZNAME:CET
DTSTART:20221030T010000
END:STANDARD
BEGIN:DAYLIGHT
TZOFFSETFROM:+0100
TZOFFSETTO:+0200
TZNAME:CEST
DTSTART:20230326T010000
END:DAYLIGHT
BEGIN:STANDARD
TZOFFSETFROM:+0200
TZOFFSETTO:+0100
TZNAME:CET
DTSTART:20231029T010000
END:STANDARD
BEGIN:DAYLIGHT
TZOFFSETFROM:+0100
TZOFFSETTO:+0200
TZNAME:CEST
DTSTART:20240331T010000
END:DAYLIGHT
BEGIN:STANDARD
TZOFFSETFROM:+0200
TZOFFSETTO:+0100
TZNAME:CET
DTSTART:20241027T010000
END:STANDARD
END:VTIMEZONE
BEGIN:VTIMEZONE
TZID:America/New_York
BEGIN:DAYLIGHT
TZOFFSETFROM:-0500
TZOFFSETTO:-0400
TZNAME:EDT
DTSTART:20220313T070000
END:DAYLIGHT
BEGIN:STANDARD
TZOFFSETFROM:-0400
TZOFFSETTO:-0500
TZNAME:EST
DTSTART:20221106T060000
END:STANDARD
BEGIN:DAYLIGHT
TZOFFSETFROM:-0500
TZOFFSETTO:-0400
TZNAME:EDT
DTSTART:20230312T070000
END:DAYLIGHT
BEGIN:STANDARD
TZOFFSETFROM:-0400
TZOFFSETTO:-0500
TZNAME:EST
DTSTART:20231105T060000
END:STANDARD
BEGIN:DAYLIGHT
TZOFFSETFROM:-0500
TZOFFSETTO:-0400
TZNAME:EDT
DTSTART:20240310T070000
END:DAYLIGHT
BEGIN:STANDARD
TZOFFSETFROM:-0400
TZOFFSETTO:-0500
TZNAME:EST
DTSTART:20241103T060000
END:STANDARD
END:VTIMEZONE
BEGIN:VEVENT
DTSTART;TZID=America/Vancouver:20231007T100000
DTEND;TZID=America/Vancouver:20231007T150000
DTSTAMP:20260422T112220
CREATED:20230908T134233Z
LAST-MODIFIED:20230919T190801Z
UID:10006970-1696672800-1696690800@www.archaeological.org
SUMMARY:Spokane Archaeology Day
DESCRIPTION:The Spokane Society will have a table at Spokane Archeology Day\, along with other local organizations and the Northwest Museum of Arts and Culture. We will talk with visitors\, advertise the AIA\, promote the field of archaeology\, and the like.
URL:https://www.archaeological.org/event/spokane-archaeology-day-3/
LOCATION:Northwest Museum of Arts and Culture\, 2316 West First Avenue\, Spokane\, WA\, 99201\, United States
CATEGORIES:AIA Tours / Travel Program,International Archaeology Day
ATTACH;FMTTYPE=image/png:https://www.archaeological.org/wp-content/uploads/2023/09/2023-09-06-09.06.39.png
ORGANIZER;CN="Catharine Roth":MAILTO:catharineroth@gmail.com
GEO:47.656836;-117.446873
X-APPLE-STRUCTURED-LOCATION;VALUE=URI;X-ADDRESS=Northwest Museum of Arts and Culture 2316 West First Avenue Spokane WA 99201 United States;X-APPLE-RADIUS=500;X-TITLE=2316 West First Avenue:geo:-117.446873,47.656836
END:VEVENT
BEGIN:VEVENT
DTSTART;TZID=Europe/Prague:20231007T100000
DTEND;TZID=Europe/Prague:20231007T170000
DTSTAMP:20260422T112220
CREATED:20231004T144938Z
LAST-MODIFIED:20231004T144938Z
UID:10007024-1696672800-1696698000@www.archaeological.org
SUMMARY:International Archaeology Day
DESCRIPTION:You will learn about the specific work of an archaeologists\, about selected archaeological findings and the essentials of protecting archaeological heritage. You can search for relics of a specific period in a simulated archaeological site\, put together “broken” pottery or wooden building blocks of a log house\, learn about the burial means in the early Middle Ages using a model of a skeleton grave\, decorate your own pottery using ancient ornaments\, make your own clay amulet according to the prehistoric templates. The event also includes a complex live interpretation of the lives of inhabitants in an early medieval Slavic village.
URL:https://www.archaeological.org/event/international-archaeology-day-27/
LOCATION:Zážitkový park Zeměráj / Adventure park Zemeraj\, Kovarov 201\, Kovarov\, South Bohemia\, 39855\, Czechia
CATEGORIES:International Archaeology Day
ATTACH;FMTTYPE=image/jpeg:https://www.archaeological.org/wp-content/uploads/2023/10/MDA_zemeraj_archeo1.jpg
ORGANIZER;CN="Katerina Havrankova":MAILTO:info@zemeraj.cz
GEO:49.5163864;14.2828713
X-APPLE-STRUCTURED-LOCATION;VALUE=URI;X-ADDRESS=Zážitkový park Zeměráj / Adventure park Zemeraj Kovarov 201 Kovarov South Bohemia 39855 Czechia;X-APPLE-RADIUS=500;X-TITLE=Kovarov 201:geo:14.2828713,49.5163864
END:VEVENT
BEGIN:VEVENT
DTSTART;TZID=America/New_York:20231007T130000
DTEND;TZID=America/New_York:20231007T160000
DTSTAMP:20260422T112220
CREATED:20230822T135459Z
LAST-MODIFIED:20230822T135459Z
UID:10006948-1696683600-1696694400@www.archaeological.org
SUMMARY:"What the Heck Is It?: Archaeologists Identify Your Artifacts"
DESCRIPTION:Join the Hilton Head Chapter\, Archaeological Society of South Carolina and the Library’s Beaufort District Collection for “What the Heck Is It?” an artifact identification session with professional archeologists who will analyze\, identify and date your artifacts. Over the years folks have presented a full range of artifacts – prehistoric\, historic\, projectile points\, ceramic sherds\, Civil War crypto devices\, African dolls\, 1st century lamps\, etc. – to name a few. Look around the house and bring in that thing you wonder what the heck it is.  Note Well: Do not bring any weapons (guns\, swords\, daggers\, etc.) to be examined. It is the policy of the Beaufort County Library not to allow any weapons in the libraries. No monetary valuations will be provided. Drop-in during the session with your artifacts and try to stump our esteemed archaeologists.
URL:https://www.archaeological.org/event/what-the-heck-is-it-archaeologists-identify-your-artifacts/
LOCATION:Bluffton Branch Library\, 120 Palmetto Way\, Bluffton\, SC\, 29910\, United States
CATEGORIES:International Archaeology Day
ATTACH;FMTTYPE=image/png:https://www.archaeological.org/wp-content/uploads/2023/08/What-the-Heck_Bluffton-Library_HHI-ASSC_7Oct2023_5274487.png
ORGANIZER;CN="Grace Cordial":MAILTO:gracec@bcgov.net
GEO:32.2412511;-80.8572539
X-APPLE-STRUCTURED-LOCATION;VALUE=URI;X-ADDRESS=Bluffton Branch Library 120 Palmetto Way Bluffton SC 29910 United States;X-APPLE-RADIUS=500;X-TITLE=120 Palmetto Way:geo:-80.8572539,32.2412511
END:VEVENT
END:VCALENDAR