BEGIN:VCALENDAR
VERSION:2.0
PRODID:-//Archaeological Institute of America - ECPv6.15.20//NONSGML v1.0//EN
CALSCALE:GREGORIAN
METHOD:PUBLISH
X-WR-CALNAME:Archaeological Institute of America
X-ORIGINAL-URL:https://www.archaeological.org
X-WR-CALDESC:Events for Archaeological Institute of America
REFRESH-INTERVAL;VALUE=DURATION:PT1H
X-Robots-Tag:noindex
X-PUBLISHED-TTL:PT1H
BEGIN:VTIMEZONE
TZID:Europe/Prague
BEGIN:DAYLIGHT
TZOFFSETFROM:+0100
TZOFFSETTO:+0200
TZNAME:CEST
DTSTART:20220327T010000
END:DAYLIGHT
BEGIN:STANDARD
TZOFFSETFROM:+0200
TZOFFSETTO:+0100
TZNAME:CET
DTSTART:20221030T010000
END:STANDARD
BEGIN:DAYLIGHT
TZOFFSETFROM:+0100
TZOFFSETTO:+0200
TZNAME:CEST
DTSTART:20230326T010000
END:DAYLIGHT
BEGIN:STANDARD
TZOFFSETFROM:+0200
TZOFFSETTO:+0100
TZNAME:CET
DTSTART:20231029T010000
END:STANDARD
BEGIN:DAYLIGHT
TZOFFSETFROM:+0100
TZOFFSETTO:+0200
TZNAME:CEST
DTSTART:20240331T010000
END:DAYLIGHT
BEGIN:STANDARD
TZOFFSETFROM:+0200
TZOFFSETTO:+0100
TZNAME:CET
DTSTART:20241027T010000
END:STANDARD
END:VTIMEZONE
BEGIN:VTIMEZONE
TZID:America/New_York
BEGIN:DAYLIGHT
TZOFFSETFROM:-0500
TZOFFSETTO:-0400
TZNAME:EDT
DTSTART:20220313T070000
END:DAYLIGHT
BEGIN:STANDARD
TZOFFSETFROM:-0400
TZOFFSETTO:-0500
TZNAME:EST
DTSTART:20221106T060000
END:STANDARD
BEGIN:DAYLIGHT
TZOFFSETFROM:-0500
TZOFFSETTO:-0400
TZNAME:EDT
DTSTART:20230312T070000
END:DAYLIGHT
BEGIN:STANDARD
TZOFFSETFROM:-0400
TZOFFSETTO:-0500
TZNAME:EST
DTSTART:20231105T060000
END:STANDARD
BEGIN:DAYLIGHT
TZOFFSETFROM:-0500
TZOFFSETTO:-0400
TZNAME:EDT
DTSTART:20240310T070000
END:DAYLIGHT
BEGIN:STANDARD
TZOFFSETFROM:-0400
TZOFFSETTO:-0500
TZNAME:EST
DTSTART:20241103T060000
END:STANDARD
END:VTIMEZONE
BEGIN:VEVENT
DTSTART;TZID=Europe/Prague:20231014T100000
DTEND;TZID=Europe/Prague:20231014T130000
DTSTAMP:20260422T075441
CREATED:20231004T144655Z
LAST-MODIFIED:20231004T144655Z
UID:10007020-1697277600-1697288400@www.archaeological.org
SUMMARY:Pravěká Mohelnice v archeologické laboratoři
DESCRIPTION:Program:\n10\,00 – 10\,45 hod Archeologický výzkum v mohelnické štěrkovně a zpracování jeho movitých – přednáška\n11\,00 – 13\,00 hod Výstava vybraných pravěkých nálezů z mohelnické štěrkovny a prohlídka pracoviště sekce archeologie KHI FF UP\n11\,00 – 13\,00 hod Workshop archeologické práce – možnost vyzkoušet si základní práci s movitým archeologickým materiálem – třídění\, mytí\, kompletace\, lepení\, fyzická a počítačová evidence (zájemci o účast na workshopu se hlásí na mail: dominika.vaclavikova01@upol.cz – omezená kapacita 20 míst)
URL:https://www.archaeological.org/event/praveka-mohelnice-v-archeologicke-laboratori/
LOCATION:Pravěká Mohelnice v archeologické laboratoři\, Na Hradě 5\, Olomouc\, 77900\, Czechia
CATEGORIES:International Archaeology Day
ORGANIZER;CN="Pavl%C3%ADna Kal%C3%A1bkov%C3%A1":MAILTO:pavlina.kalabkova@upol.cz
GEO:49.5942354;17.2545706
X-APPLE-STRUCTURED-LOCATION;VALUE=URI;X-ADDRESS=Pravěká Mohelnice v archeologické laboratoři Na Hradě 5 Olomouc 77900 Czechia;X-APPLE-RADIUS=500;X-TITLE=Na Hradě 5:geo:17.2545706,49.5942354
END:VEVENT
BEGIN:VEVENT
DTSTART;TZID=America/New_York:20231014T110000
DTEND;TZID=America/New_York:20231014T150000
DTSTAMP:20260422T075442
CREATED:20230922T202645Z
LAST-MODIFIED:20230922T202645Z
UID:10007005-1697281200-1697295600@www.archaeological.org
SUMMARY:IAD: Community Archaeology Day in Providence\, RI
DESCRIPTION:To celebrate International Archaeology Day\, join the AIA Narragansett Society for a fun Saturday full of archaeological activities!\n– In Rhode Island Hall on the Main Green of Brown University\, come see ancient coins from Greece and Rome up close! Touch ancient animal bones! Examine and draw Persian and Roman ceramics\, prehistoric tools\, precious metals\, and other artifacts from thousands of years ago – coached by experts! And talk with Brown’s archaeologists about their fieldwork all over the world! Family friendly\, free and open to the public.\n– On the lawn in front of List Art Building (64 College Street)\, come be part of an active archaeological excavation! Students from ARCH 1900: The Archaeology of College Hill will be digging the site of a 19th century home and processing artifacts from that household. Stop by any time between 11:00 am and 3:00 pm to see what artifacts students are discovering or even try your hand at digging. Family friendly\, free and open to the public.
URL:https://www.archaeological.org/event/iad-community-archaeology-day-in-providence-ri-2/
LOCATION:Rhode Island Hall\, 60 George Street\, Providence\, RI\, 02912\, United States
CATEGORIES:International Archaeology Day
ATTACH;FMTTYPE=image/jpeg:https://www.archaeological.org/wp-content/uploads/2023/09/IAD2023.jpg
ORGANIZER;CN="Liza Davis":MAILTO:elizabeth_r_davis@brown.edu
GEO:41.826772;-71.402548
X-APPLE-STRUCTURED-LOCATION;VALUE=URI;X-ADDRESS=Rhode Island Hall 60 George Street Providence RI 02912 United States;X-APPLE-RADIUS=500;X-TITLE=60 George Street:geo:-71.402548,41.826772
END:VEVENT
BEGIN:VEVENT
DTSTART;TZID=America/New_York:20231014T110000
DTEND;TZID=America/New_York:20231014T153000
DTSTAMP:20260422T075442
CREATED:20230911T155141Z
LAST-MODIFIED:20230911T155141Z
UID:10006975-1697281200-1697297400@www.archaeological.org
SUMMARY:DigIt!
DESCRIPTION:Archeology-centered festival held at Emory University that celebrates International Archeology Day with an exciting program of talks by Emory researchers and hands-on activities. Museum galleries will be open to participants throughout the day. Free lunch is provided to guests who plan to attend a good part of the day\, while supplies last.
URL:https://www.archaeological.org/event/digit-2/
LOCATION:Michael C. Carlos Museum\, 571 South Kilgo Cir NE\, Atlanta\, GA\, 30322\, United States
CATEGORIES:International Archaeology Day
ORGANIZER;CN="Harrison Helms":MAILTO:harrison.helms@emory.edu
GEO:33.7903529;-84.3243218
X-APPLE-STRUCTURED-LOCATION;VALUE=URI;X-ADDRESS=Michael C. Carlos Museum 571 South Kilgo Cir NE Atlanta GA 30322 United States;X-APPLE-RADIUS=500;X-TITLE=571 South Kilgo Cir NE:geo:-84.3243218,33.7903529
END:VEVENT
END:VCALENDAR