BEGIN:VCALENDAR
VERSION:2.0
PRODID:-//Archaeological Institute of America - ECPv6.15.20//NONSGML v1.0//EN
CALSCALE:GREGORIAN
METHOD:PUBLISH
X-WR-CALNAME:Archaeological Institute of America
X-ORIGINAL-URL:https://www.archaeological.org
X-WR-CALDESC:Events for Archaeological Institute of America
REFRESH-INTERVAL;VALUE=DURATION:PT1H
X-Robots-Tag:noindex
X-PUBLISHED-TTL:PT1H
BEGIN:VTIMEZONE
TZID:America/Denver
BEGIN:DAYLIGHT
TZOFFSETFROM:-0700
TZOFFSETTO:-0600
TZNAME:MDT
DTSTART:20220313T090000
END:DAYLIGHT
BEGIN:STANDARD
TZOFFSETFROM:-0600
TZOFFSETTO:-0700
TZNAME:MST
DTSTART:20221106T080000
END:STANDARD
BEGIN:DAYLIGHT
TZOFFSETFROM:-0700
TZOFFSETTO:-0600
TZNAME:MDT
DTSTART:20230312T090000
END:DAYLIGHT
BEGIN:STANDARD
TZOFFSETFROM:-0600
TZOFFSETTO:-0700
TZNAME:MST
DTSTART:20231105T080000
END:STANDARD
BEGIN:DAYLIGHT
TZOFFSETFROM:-0700
TZOFFSETTO:-0600
TZNAME:MDT
DTSTART:20240310T090000
END:DAYLIGHT
BEGIN:STANDARD
TZOFFSETFROM:-0600
TZOFFSETTO:-0700
TZNAME:MST
DTSTART:20241103T080000
END:STANDARD
END:VTIMEZONE
BEGIN:VTIMEZONE
TZID:America/Chicago
BEGIN:DAYLIGHT
TZOFFSETFROM:-0600
TZOFFSETTO:-0500
TZNAME:CDT
DTSTART:20220313T080000
END:DAYLIGHT
BEGIN:STANDARD
TZOFFSETFROM:-0500
TZOFFSETTO:-0600
TZNAME:CST
DTSTART:20221106T070000
END:STANDARD
BEGIN:DAYLIGHT
TZOFFSETFROM:-0600
TZOFFSETTO:-0500
TZNAME:CDT
DTSTART:20230312T080000
END:DAYLIGHT
BEGIN:STANDARD
TZOFFSETFROM:-0500
TZOFFSETTO:-0600
TZNAME:CST
DTSTART:20231105T070000
END:STANDARD
BEGIN:DAYLIGHT
TZOFFSETFROM:-0600
TZOFFSETTO:-0500
TZNAME:CDT
DTSTART:20240310T080000
END:DAYLIGHT
BEGIN:STANDARD
TZOFFSETFROM:-0500
TZOFFSETTO:-0600
TZNAME:CST
DTSTART:20241103T070000
END:STANDARD
END:VTIMEZONE
BEGIN:VEVENT
DTSTART;TZID=America/Denver:20231016T100000
DTEND;TZID=America/Denver:20231020T140000
DTSTAMP:20260421T050016
CREATED:20230920T150235Z
LAST-MODIFIED:20230920T150235Z
UID:10006989-1697450400-1697810400@www.archaeological.org
SUMMARY:International Archaeology Day Coloring Poster at ENMU
DESCRIPTION:A large coloring poster featuring a variety of archaeological items\, specially designed for IAD\, will be set out in our building’s student lounge. Students will be able to take a break and color on the poster October 16-20. After that\, the completed poster will be hung in the Eastern New Mexico Department of Anthropology and Applied Archaeology. Images will also be shared on social media and in our department newsletter.
URL:https://www.archaeological.org/event/international-archaeology-day-coloring-poster-at-enmu/
LOCATION:Eastern New Mexico University Department of Anthropology and Applied Archaeology\, Art and Anthropology Building\, Portales\, NM\, 88130\, United States
CATEGORIES:International Archaeology Day,Other Event
ATTACH;FMTTYPE=image/jpeg:https://www.archaeological.org/wp-content/uploads/2023/09/ENMUIADPoster.jpg
ORGANIZER;CN="Barbara Senn":MAILTO:enmu.anthropology@enmu.edu
GEO:34.1762287;-103.3506518
X-APPLE-STRUCTURED-LOCATION;VALUE=URI;X-ADDRESS=Eastern New Mexico University Department of Anthropology and Applied Archaeology Art and Anthropology Building Portales NM 88130 United States;X-APPLE-RADIUS=500;X-TITLE=Art and Anthropology Building:geo:-103.3506518,34.1762287
END:VEVENT
BEGIN:VEVENT
DTSTART;TZID=America/Chicago:20231019T163000
DTEND;TZID=America/Chicago:20231019T180000
DTSTAMP:20260421T050016
CREATED:20230818T140912Z
LAST-MODIFIED:20231003T143410Z
UID:10006885-1697733000-1697738400@www.archaeological.org
SUMMARY:"Race\," Racism\, and Representation in Ancient Italy
DESCRIPTION:AIA-Milwaukee is excited to mark IAD by hosting Professor Sinclair Bell\, Professor of Art History at Northern Illinois University and AIA National Lecturer. Prof. Bell is an expert in race and representation in the visual culture of the ancient Mediterranean and will visit the Milwaukee Society to discuss his latest research. The event is being co-sponsored by several units on the campus of the University of Wisconsin-Milwaukee\, including Art History\, Classics\, and Anthropology (which all house faculty and student AIA members)\, in addition to colleagues and students at Marquette. In addition the public lecture (which will be free and open)\, we hope Prof. Bell will be able to meet with students interested in archaeology and visual culture. \nThe venue for this event is:\nLubar Hall\, Room N145\, UWM\n3202 North Maryland Ave. Milwaukee\, 53211
URL:https://www.archaeological.org/event/race-racism-and-representation-in-ancient-italy/
LOCATION:Lubar Hall\, Room N145\, UWM\, 3202 North Maryland Ave\, Milwaukee\, WI\, 53211\, United States
CATEGORIES:International Archaeology Day
ATTACH;FMTTYPE=image/jpeg:https://www.archaeological.org/wp-content/uploads/2023/08/sinclair-bell.jpg
ORGANIZER;CN="Derek B Counts":MAILTO:dbc@uwm.edu
GEO:43.075684;-87.8789516
X-APPLE-STRUCTURED-LOCATION;VALUE=URI;X-ADDRESS=Lubar Hall Room N145 UWM 3202 North Maryland Ave Milwaukee WI 53211 United States;X-APPLE-RADIUS=500;X-TITLE=3202 North Maryland Ave:geo:-87.8789516,43.075684
END:VEVENT
END:VCALENDAR