BEGIN:VCALENDAR
VERSION:2.0
PRODID:-//Archaeological Institute of America - ECPv6.15.20//NONSGML v1.0//EN
CALSCALE:GREGORIAN
METHOD:PUBLISH
X-WR-CALNAME:Archaeological Institute of America
X-ORIGINAL-URL:https://www.archaeological.org
X-WR-CALDESC:Events for Archaeological Institute of America
REFRESH-INTERVAL;VALUE=DURATION:PT1H
X-Robots-Tag:noindex
X-PUBLISHED-TTL:PT1H
BEGIN:VTIMEZONE
TZID:America/Detroit
BEGIN:DAYLIGHT
TZOFFSETFROM:-0500
TZOFFSETTO:-0400
TZNAME:EDT
DTSTART:20250309T070000
END:DAYLIGHT
BEGIN:STANDARD
TZOFFSETFROM:-0400
TZOFFSETTO:-0500
TZNAME:EST
DTSTART:20251102T060000
END:STANDARD
BEGIN:DAYLIGHT
TZOFFSETFROM:-0500
TZOFFSETTO:-0400
TZNAME:EDT
DTSTART:20260308T070000
END:DAYLIGHT
BEGIN:STANDARD
TZOFFSETFROM:-0400
TZOFFSETTO:-0500
TZNAME:EST
DTSTART:20261101T060000
END:STANDARD
BEGIN:DAYLIGHT
TZOFFSETFROM:-0500
TZOFFSETTO:-0400
TZNAME:EDT
DTSTART:20270314T070000
END:DAYLIGHT
BEGIN:STANDARD
TZOFFSETFROM:-0400
TZOFFSETTO:-0500
TZNAME:EST
DTSTART:20271107T060000
END:STANDARD
END:VTIMEZONE
BEGIN:VTIMEZONE
TZID:America/New_York
BEGIN:DAYLIGHT
TZOFFSETFROM:-0500
TZOFFSETTO:-0400
TZNAME:EDT
DTSTART:20240310T070000
END:DAYLIGHT
BEGIN:STANDARD
TZOFFSETFROM:-0400
TZOFFSETTO:-0500
TZNAME:EST
DTSTART:20241103T060000
END:STANDARD
BEGIN:DAYLIGHT
TZOFFSETFROM:-0500
TZOFFSETTO:-0400
TZNAME:EDT
DTSTART:20250309T070000
END:DAYLIGHT
BEGIN:STANDARD
TZOFFSETFROM:-0400
TZOFFSETTO:-0500
TZNAME:EST
DTSTART:20251102T060000
END:STANDARD
BEGIN:DAYLIGHT
TZOFFSETFROM:-0500
TZOFFSETTO:-0400
TZNAME:EDT
DTSTART:20260308T070000
END:DAYLIGHT
BEGIN:STANDARD
TZOFFSETFROM:-0400
TZOFFSETTO:-0500
TZNAME:EST
DTSTART:20261101T060000
END:STANDARD
BEGIN:DAYLIGHT
TZOFFSETFROM:-0500
TZOFFSETTO:-0400
TZNAME:EDT
DTSTART:20270314T070000
END:DAYLIGHT
BEGIN:STANDARD
TZOFFSETFROM:-0400
TZOFFSETTO:-0500
TZNAME:EST
DTSTART:20271107T060000
END:STANDARD
END:VTIMEZONE
BEGIN:VTIMEZONE
TZID:America/Chicago
BEGIN:DAYLIGHT
TZOFFSETFROM:-0600
TZOFFSETTO:-0500
TZNAME:CDT
DTSTART:20250309T080000
END:DAYLIGHT
BEGIN:STANDARD
TZOFFSETFROM:-0500
TZOFFSETTO:-0600
TZNAME:CST
DTSTART:20251102T070000
END:STANDARD
BEGIN:DAYLIGHT
TZOFFSETFROM:-0600
TZOFFSETTO:-0500
TZNAME:CDT
DTSTART:20260308T080000
END:DAYLIGHT
BEGIN:STANDARD
TZOFFSETFROM:-0500
TZOFFSETTO:-0600
TZNAME:CST
DTSTART:20261101T070000
END:STANDARD
BEGIN:DAYLIGHT
TZOFFSETFROM:-0600
TZOFFSETTO:-0500
TZNAME:CDT
DTSTART:20270314T080000
END:DAYLIGHT
BEGIN:STANDARD
TZOFFSETFROM:-0500
TZOFFSETTO:-0600
TZNAME:CST
DTSTART:20271107T070000
END:STANDARD
END:VTIMEZONE
BEGIN:VTIMEZONE
TZID:America/Los_Angeles
BEGIN:DAYLIGHT
TZOFFSETFROM:-0800
TZOFFSETTO:-0700
TZNAME:PDT
DTSTART:20250309T100000
END:DAYLIGHT
BEGIN:STANDARD
TZOFFSETFROM:-0700
TZOFFSETTO:-0800
TZNAME:PST
DTSTART:20251102T090000
END:STANDARD
BEGIN:DAYLIGHT
TZOFFSETFROM:-0800
TZOFFSETTO:-0700
TZNAME:PDT
DTSTART:20260308T100000
END:DAYLIGHT
BEGIN:STANDARD
TZOFFSETFROM:-0700
TZOFFSETTO:-0800
TZNAME:PST
DTSTART:20261101T090000
END:STANDARD
BEGIN:DAYLIGHT
TZOFFSETFROM:-0800
TZOFFSETTO:-0700
TZNAME:PDT
DTSTART:20270314T100000
END:DAYLIGHT
BEGIN:STANDARD
TZOFFSETFROM:-0700
TZOFFSETTO:-0800
TZNAME:PST
DTSTART:20271107T090000
END:STANDARD
END:VTIMEZONE
BEGIN:VTIMEZONE
TZID:America/Vancouver
BEGIN:DAYLIGHT
TZOFFSETFROM:-0800
TZOFFSETTO:-0700
TZNAME:PDT
DTSTART:20250309T100000
END:DAYLIGHT
BEGIN:STANDARD
TZOFFSETFROM:-0700
TZOFFSETTO:-0800
TZNAME:PST
DTSTART:20251102T090000
END:STANDARD
BEGIN:DAYLIGHT
TZOFFSETFROM:-0800
TZOFFSETTO:-0700
TZNAME:PDT
DTSTART:20260308T100000
END:DAYLIGHT
BEGIN:STANDARD
TZOFFSETFROM:-0700
TZOFFSETTO:-0800
TZNAME:PST
DTSTART:20261101T090000
END:STANDARD
BEGIN:DAYLIGHT
TZOFFSETFROM:-0800
TZOFFSETTO:-0700
TZNAME:PDT
DTSTART:20270314T100000
END:DAYLIGHT
BEGIN:STANDARD
TZOFFSETFROM:-0700
TZOFFSETTO:-0800
TZNAME:PST
DTSTART:20271107T090000
END:STANDARD
END:VTIMEZONE
BEGIN:VTIMEZONE
TZID:America/Denver
BEGIN:DAYLIGHT
TZOFFSETFROM:-0700
TZOFFSETTO:-0600
TZNAME:MDT
DTSTART:20250309T090000
END:DAYLIGHT
BEGIN:STANDARD
TZOFFSETFROM:-0600
TZOFFSETTO:-0700
TZNAME:MST
DTSTART:20251102T080000
END:STANDARD
BEGIN:DAYLIGHT
TZOFFSETFROM:-0700
TZOFFSETTO:-0600
TZNAME:MDT
DTSTART:20260308T090000
END:DAYLIGHT
BEGIN:STANDARD
TZOFFSETFROM:-0600
TZOFFSETTO:-0700
TZNAME:MST
DTSTART:20261101T080000
END:STANDARD
BEGIN:DAYLIGHT
TZOFFSETFROM:-0700
TZOFFSETTO:-0600
TZNAME:MDT
DTSTART:20270314T090000
END:DAYLIGHT
BEGIN:STANDARD
TZOFFSETFROM:-0600
TZOFFSETTO:-0700
TZNAME:MST
DTSTART:20271107T080000
END:STANDARD
END:VTIMEZONE
BEGIN:VEVENT
DTSTART;TZID=America/Detroit:20260416T190000
DTEND;TZID=America/Detroit:20260416T200000
DTSTAMP:20260422T124617
CREATED:20260320T133646Z
LAST-MODIFIED:20260320T133646Z
UID:10009028-1776366000-1776369600@www.archaeological.org
SUMMARY:Replacing Empires.  The Archaeology of Political Transformation and Spatial Dynamics in 1st Millennium BCE Mesopotamia
DESCRIPTION:Kershaw Lectures in Near East Archaeology
URL:https://www.archaeological.org/event/replacing-empires-the-archaeology-of-political-transformation-and-spatial-dynamics-in-1st-millennium-bce-mesopotamia-3/
LOCATION:The Institute for the Study of Ancient Cultures\, West Asia & North Africa (ISAC)\, Breasted Hall\, East 58th Street\, Chicago\, IL\, 60637\, United States
CATEGORIES:AIA Lecture Program,Lecture
ORGANIZER;CN="AIA":MAILTO:lectures@archaeological.org
GEO:41.7892417;-87.5974905
X-APPLE-STRUCTURED-LOCATION;VALUE=URI;X-ADDRESS=The Institute for the Study of Ancient Cultures West Asia & North Africa (ISAC) Breasted Hall East 58th Street Chicago IL 60637 United States;X-APPLE-RADIUS=500;X-TITLE=East 58th Street:geo:-87.5974905,41.7892417
END:VEVENT
BEGIN:VEVENT
DTSTART;TZID=America/New_York:20260415T190000
DTEND;TZID=America/New_York:20260415T203000
DTSTAMP:20260422T124617
CREATED:20250922T150122Z
LAST-MODIFIED:20250922T150528Z
UID:10008659-1776279600-1776285000@www.archaeological.org
SUMMARY:The Vindolanda Coins from a Century of Excavations
DESCRIPTION:William E. Metcalf Lectures in Numismatics
URL:https://www.archaeological.org/event/the-vindolanda-coins-from-a-century-of-excavations/
LOCATION:Lean Lecture Room\, Wishart Hall on the College of Wooster (to be confirmed)\, 1189 Beall Avenue\, Wooster\, OH\, United States
CATEGORIES:AIA Lecture Program,Lecture
ORGANIZER;CN="AIA":MAILTO:lectures@archaeological.org
GEO:40.810464;-81.934812
X-APPLE-STRUCTURED-LOCATION;VALUE=URI;X-ADDRESS=Lean Lecture Room Wishart Hall on the College of Wooster (to be confirmed) 1189 Beall Avenue Wooster OH United States;X-APPLE-RADIUS=500;X-TITLE=1189 Beall Avenue:geo:-81.934812,40.810464
END:VEVENT
BEGIN:VEVENT
DTSTART;TZID=America/New_York:20260414T170000
DTEND;TZID=America/New_York:20260414T183000
DTSTAMP:20260422T124617
CREATED:20250922T150121Z
LAST-MODIFIED:20250923T135431Z
UID:10008657-1776186000-1776191400@www.archaeological.org
SUMMARY:Cities and Politics of Ecology in the Hittite Borderlands: the Fortress and Urban Settlement of Karaköy Kale Tepesi
DESCRIPTION:Charles Eliot Norton Memorial Lectureship Time TBA
URL:https://www.archaeological.org/event/tba-central-florida-orlando/
LOCATION:TBA (Orlando 2)\, Orlando\, FL\, United States
CATEGORIES:AIA Lecture Program,Lecture
ORGANIZER;CN="AIA":MAILTO:lectures@archaeological.org
GEO:28.5383832;-81.3789269
END:VEVENT
BEGIN:VEVENT
DTSTART;TZID=America/Chicago:20260402T170000
DTEND;TZID=America/Chicago:20260402T183000
DTSTAMP:20260422T124617
CREATED:20250922T150054Z
LAST-MODIFIED:20250922T150525Z
UID:10008651-1775149200-1775154600@www.archaeological.org
SUMMARY:TBA (Kansas City/Lawrence)
DESCRIPTION:George M.A. Hanfmann Memorial Lecture Time TBA
URL:https://www.archaeological.org/event/tba-kansas-city-lawrence/
LOCATION:TBA (Kansas City/Lawrence)\, Lawrence\, KS
ORGANIZER;CN="AIA":MAILTO:lectures@archaeological.org
GEO:37.09024;-95.712891
END:VEVENT
BEGIN:VEVENT
DTSTART;TZID=America/Chicago:20260401T170000
DTEND;TZID=America/Chicago:20260401T183000
DTSTAMP:20260422T124617
CREATED:20250922T150018Z
LAST-MODIFIED:20250922T150524Z
UID:10008650-1775062800-1775068200@www.archaeological.org
SUMMARY:Justinian’s Tree: Underwater Environmental Histories in Byzantine Harbors 2
DESCRIPTION:Anna Marguerite McCann and Robert D. Taggart Lectureship in Underwater Archaeology Time TBA
URL:https://www.archaeological.org/event/justinians-tree-underwater-environmental-histories-in-byzantine-harbors-2-2/
LOCATION:TBA (Austin)\, Austin\, TX\, United States
CATEGORIES:AIA Lecture Program,Lecture
ORGANIZER;CN="AIA":MAILTO:lectures@archaeological.org
GEO:30.267153;-97.743061
END:VEVENT
BEGIN:VEVENT
DTSTART;TZID=America/New_York:20260331T173000
DTEND;TZID=America/New_York:20260331T190000
DTSTAMP:20260422T124617
CREATED:20250922T150018Z
LAST-MODIFIED:20250922T150524Z
UID:10008649-1774978200-1774983600@www.archaeological.org
SUMMARY:Diving the Pyramids: Underwater Tombs and Excavation at the Royal Cemetery of Nuri\, Sudan
DESCRIPTION:The Frederick R. and Margaret B. Matson Lectureship for Near Eastern Archaeology and Archaeological Technology
URL:https://www.archaeological.org/event/diving-the-pyramids-underwater-tombs-and-excavation-at-the-royal-cemetery-of-nuri-sudan-3/
LOCATION:TBA (Northern New Jersey)\, Montclair\, NY\, United States
CATEGORIES:AIA Lecture Program,Lecture
ORGANIZER;CN="AIA":MAILTO:lectures@archaeological.org
GEO:40.8167968;-74.2212494
END:VEVENT
BEGIN:VEVENT
DTSTART;TZID=America/New_York:20260325T170000
DTEND;TZID=America/New_York:20260325T183000
DTSTAMP:20260422T124617
CREATED:20250922T150017Z
LAST-MODIFIED:20250922T150522Z
UID:10008646-1774458000-1774463400@www.archaeological.org
SUMMARY:New Approaches to Roman Urbanism: The Excavations of the Falerii Novi Project (Lazio\, Italy) 3
DESCRIPTION:Martha Sharp Joukowsky Lectureship Time TBA
URL:https://www.archaeological.org/event/new-approaches-to-roman-urbanism-the-excavations-of-the-falerii-novi-project-lazio-italy-3/
LOCATION:TBA (Buffalo)\, Buffalo\, NY\, United States
CATEGORIES:AIA Lecture Program,Lecture
ORGANIZER;CN="AIA":MAILTO:lectures@archaeological.org
GEO:42.8869004;-78.8788896
END:VEVENT
BEGIN:VEVENT
DTSTART;TZID=America/New_York:20260324T180000
DTEND;TZID=America/New_York:20260324T193000
DTSTAMP:20260422T124617
CREATED:20250922T150008Z
LAST-MODIFIED:20250922T150522Z
UID:10008645-1774375200-1774380600@www.archaeological.org
SUMMARY:Landscapes of Time and Memory: Foragers in the Mojave Desert 3
DESCRIPTION:Martha Sharp Joukowsky Lectureship
URL:https://www.archaeological.org/event/landscapes-of-time-and-memory-foragers-in-the-mojave-desert-3/
LOCATION:Carraway Building (CAR)\, 315\, 909 Antarctic Way\, Tallahassee\, FL\, United States
CATEGORIES:AIA Lecture Program,Lecture
ORGANIZER;CN="AIA":MAILTO:lectures@archaeological.org
GEO:30.4382559;-84.2807329
X-APPLE-STRUCTURED-LOCATION;VALUE=URI;X-ADDRESS=Carraway Building (CAR) 315 909 Antarctic Way Tallahassee FL United States;X-APPLE-RADIUS=500;X-TITLE=909 Antarctic Way:geo:-84.2807329,30.4382559
END:VEVENT
BEGIN:VEVENT
DTSTART;TZID=America/Chicago:20260318T170000
DTEND;TZID=America/Chicago:20260318T183000
DTSTAMP:20260422T124617
CREATED:20250922T150007Z
LAST-MODIFIED:20250922T150521Z
UID:10008643-1773853200-1773858600@www.archaeological.org
SUMMARY:TBA (Mississippi/Memphis)
DESCRIPTION:Charles Eliot Norton Memorial Lectureship
URL:https://www.archaeological.org/event/tba-mississippi-memphis/
LOCATION:TBA (Oxford MS/Memphis TN)\, United States
CATEGORIES:AIA Lecture Program,Lecture
ORGANIZER;CN="AIA":MAILTO:lectures@archaeological.org
GEO:37.09024;-95.712891
END:VEVENT
BEGIN:VEVENT
DTSTART;TZID=America/New_York:20260305T170000
DTEND;TZID=America/New_York:20260305T183000
DTSTAMP:20260422T124617
CREATED:20250922T150006Z
LAST-MODIFIED:20250922T150520Z
UID:10008641-1772730000-1772735400@www.archaeological.org
SUMMARY:TBA (Hawaii (Honolulu))
DESCRIPTION:Time TBA
URL:https://www.archaeological.org/event/tba-hawaii-honolulu/
LOCATION:TBA (Honolulu)\, Honolulu\, HI
CATEGORIES:AIA Lecture Program,Lecture
ORGANIZER;CN="AIA":MAILTO:lectures@archaeological.org
GEO:21.3069444;-157.8583333
END:VEVENT
BEGIN:VEVENT
DTSTART;TZID=America/Los_Angeles:20260303T170000
DTEND;TZID=America/Los_Angeles:20260303T183000
DTSTAMP:20260422T124617
CREATED:20250922T150001Z
LAST-MODIFIED:20250922T150518Z
UID:10008639-1772557200-1772562600@www.archaeological.org
SUMMARY:Decorating for Death
DESCRIPTION:Time TBA
URL:https://www.archaeological.org/event/decorating-for-death/
LOCATION:TBA (Eugene)\, Eugene\, OR
CATEGORIES:AIA Lecture Program,Lecture
ORGANIZER;CN="AIA":MAILTO:lectures@archaeological.org
GEO:44.0520691;-123.0867536
END:VEVENT
BEGIN:VEVENT
DTSTART;TZID=America/Vancouver:20260224T193000
DTEND;TZID=America/Vancouver:20260224T210000
DTSTAMP:20260422T124617
CREATED:20250922T145953Z
LAST-MODIFIED:20260223T202647Z
UID:10008633-1771961400-1771966800@www.archaeological.org
SUMMARY:Petra's Forgotten Past
DESCRIPTION:Martha Sharp Joukowsky Lectureship
URL:https://www.archaeological.org/event/petras-forgotten-past/
LOCATION:Buchanan A202\, Unversity of British Columbia\, 1866 Main Mall\, Vancouver\, BC\, V6T 1Z1\, Canada
CATEGORIES:AIA Lecture Program,Lecture
ORGANIZER;CN="AIA":MAILTO:lectures@archaeological.org
GEO:49.268255;-123.254678
X-APPLE-STRUCTURED-LOCATION;VALUE=URI;X-ADDRESS=Buchanan A202 Unversity of British Columbia 1866 Main Mall Vancouver BC V6T 1Z1 Canada;X-APPLE-RADIUS=500;X-TITLE=1866 Main Mall:geo:-123.254678,49.268255
END:VEVENT
BEGIN:VEVENT
DTSTART;TZID=America/New_York:20260221T150000
DTEND;TZID=America/New_York:20260221T163000
DTSTAMP:20260422T124617
CREATED:20250922T145953Z
LAST-MODIFIED:20250922T150515Z
UID:10008631-1771686000-1771691400@www.archaeological.org
SUMMARY:Digging in Circles: Miami's Prehistoric Legacy
DESCRIPTION:Martha Sharp Joukowsky Lectureship
URL:https://www.archaeological.org/event/digging-in-circles-miamis-prehistoric-legacy-2/
LOCATION:Palm Beach Museum of Natural History\, the Mall at Wellington Green\, 10300 Forest Hill Blvd.\, Wellington\, FL\, 33414\, United States
CATEGORIES:AIA Lecture Program,Lecture
ORGANIZER;CN="AIA":MAILTO:lectures@archaeological.org
GEO:26.6470225;-80.2087671
X-APPLE-STRUCTURED-LOCATION;VALUE=URI;X-ADDRESS=Palm Beach Museum of Natural History the Mall at Wellington Green 10300 Forest Hill Blvd. Wellington FL 33414 United States;X-APPLE-RADIUS=500;X-TITLE=10300 Forest Hill Blvd.:geo:-80.2087671,26.6470225
END:VEVENT
BEGIN:VEVENT
DTSTART;TZID=America/New_York:20260213T170000
DTEND;TZID=America/New_York:20260213T183000
DTSTAMP:20260422T124617
CREATED:20250922T145949Z
LAST-MODIFIED:20250922T150514Z
UID:10008629-1771002000-1771007400@www.archaeological.org
SUMMARY:Replacing Empires.  The Archaeology of Political Transformation and Spatial Dynamics in 1st Millennium BCE Mesopotamia
DESCRIPTION:Kershaw Lectures in Near East Archaeology Time TBA
URL:https://www.archaeological.org/event/replacing-empires-the-archaeology-of-political-transformation-and-spatial-dynamics-in-1st-millennium-bce-mesopotamia-2/
LOCATION:TBA (Columbus)\, Columbus\, OH\, United States
ORGANIZER;CN="AIA":MAILTO:lectures@archaeological.org
GEO:39.9611755;-82.9987942
END:VEVENT
BEGIN:VEVENT
DTSTART;TZID=America/Los_Angeles:20260206T170000
DTEND;TZID=America/Los_Angeles:20260206T183000
DTSTAMP:20260422T124617
CREATED:20250922T145948Z
LAST-MODIFIED:20260206T155233Z
UID:10008627-1770397200-1770402600@www.archaeological.org
SUMMARY:Making the Ice Age Virtual and Accessible: Using VR and Underwater Robotics to Teach Archaeology
DESCRIPTION:The Frederick R. and Margaret B. Matson Lectureship for Near Eastern Archaeology and Archaeological Technology Time TBA
URL:https://www.archaeological.org/event/tba-stanford/
LOCATION:TBA (Stanford 1)\, Stanford\, CA\, United States
ORGANIZER;CN="AIA":MAILTO:lectures@archaeological.org
GEO:37.424106;-122.1660756
END:VEVENT
BEGIN:VEVENT
DTSTART;TZID=America/Los_Angeles:20260205T193000
DTEND;TZID=America/Los_Angeles:20260205T210000
DTSTAMP:20260422T124617
CREATED:20250922T145947Z
LAST-MODIFIED:20250922T150513Z
UID:10008626-1770319800-1770325200@www.archaeological.org
SUMMARY:Landscapes of Time and Memory: Foragers in the Mojave Desert 2
DESCRIPTION:Martha Sharp Joukowsky Lectureship
URL:https://www.archaeological.org/event/landscapes-of-time-and-memory-foragers-in-the-mojave-desert-2/
LOCATION:Paulus Lecture Hall\, Willamette Law School\, 245 Winter St SE\, Salem\, OR\, 97301\, USA
ORGANIZER;CN="AIA":MAILTO:lectures@archaeological.org
GEO:44.936921;-123.0335864
X-APPLE-STRUCTURED-LOCATION;VALUE=URI;X-ADDRESS=Paulus Lecture Hall Willamette Law School 245 Winter St SE Salem OR 97301 USA;X-APPLE-RADIUS=500;X-TITLE=245 Winter St SE:geo:-123.0335864,44.936921
END:VEVENT
BEGIN:VEVENT
DTSTART;TZID=America/New_York:20260205T173000
DTEND;TZID=America/New_York:20260205T190000
DTSTAMP:20260422T124617
CREATED:20250922T145944Z
LAST-MODIFIED:20250922T150513Z
UID:10008625-1770312600-1770318000@www.archaeological.org
SUMMARY:Reflections on Ancient Greek Mirrors
DESCRIPTION:The Barbara Tsakirgis Memorial Lecture
URL:https://www.archaeological.org/event/reflections-on-ancient-greek-mirrors/
LOCATION:S150 Lamar Dodd School of Art\, University of Georgia\, 270 River Road\, Athens\, GA\, 30602\, USA
ORGANIZER;CN="AIA":MAILTO:lectures@archaeological.org
GEO:33.9404326;-83.3691475
X-APPLE-STRUCTURED-LOCATION;VALUE=URI;X-ADDRESS=S150 Lamar Dodd School of Art University of Georgia 270 River Road Athens GA 30602 USA;X-APPLE-RADIUS=500;X-TITLE=270 River Road:geo:-83.3691475,33.9404326
END:VEVENT
BEGIN:VEVENT
DTSTART;TZID=America/Los_Angeles:20260205T170000
DTEND;TZID=America/Los_Angeles:20260205T183000
DTSTAMP:20260422T124617
CREATED:20250922T145944Z
LAST-MODIFIED:20250922T150513Z
UID:10008624-1770310800-1770316200@www.archaeological.org
SUMMARY:A Deep Dive into Deep Time: Archaeology\, Underwater
DESCRIPTION:The Frederick R. and Margaret B. Matson Lectureship for Near Eastern Archaeology and Archaeological Technology
URL:https://www.archaeological.org/event/a-deep-dive-into-deep-time-archaeology-underwater-3/
LOCATION:TBA (San Francisco)\, San Francisco\, CA
ORGANIZER;CN="AIA":MAILTO:lectures@archaeological.org
GEO:36.778261;-119.4179324
END:VEVENT
BEGIN:VEVENT
DTSTART;TZID=America/Los_Angeles:20260203T183000
DTEND;TZID=America/Los_Angeles:20260203T193000
DTSTAMP:20260422T124617
CREATED:20250922T145943Z
LAST-MODIFIED:20260126T141106Z
UID:10008623-1770143400-1770147000@www.archaeological.org
SUMMARY:Founding the City: Carved Orthostats and Architectural Experimentation in Anatolia
DESCRIPTION:Charles Eliot Norton Memorial Lectureship
URL:https://www.archaeological.org/event/tba-portland/
LOCATION:Reed College\, Performing Arts Building (PAB) 320\, 3017 SE Woodstock Blvd.\, Portland\, OR\, 97202\, United States
CATEGORIES:AIA Lecture Program,Lecture
ORGANIZER;CN="AIA":MAILTO:lectures@archaeological.org
GEO:45.481288;-122.633431
X-APPLE-STRUCTURED-LOCATION;VALUE=URI;X-ADDRESS=Reed College Performing Arts Building (PAB) 320 3017 SE Woodstock Blvd. Portland OR 97202 United States;X-APPLE-RADIUS=500;X-TITLE=3017 SE Woodstock Blvd.:geo:-122.633431,45.481288
END:VEVENT
BEGIN:VEVENT
DTSTART;TZID=America/Chicago:20260202T170000
DTEND;TZID=America/Chicago:20260202T183000
DTSTAMP:20260422T124617
CREATED:20250922T145943Z
LAST-MODIFIED:20250922T150512Z
UID:10008622-1770051600-1770057000@www.archaeological.org
SUMMARY:From Farmers to Kings: The Emergence of Social Hierarchy in Prehistoric Europe
DESCRIPTION:Charles Eliot Norton Memorial Lectureship
URL:https://www.archaeological.org/event/from-farmers-to-kings-the-emergence-of-social-hierarchy-in-prehistoric-europe/
LOCATION:TBA (Iowa City 1)\, Iowa City\, IA\, United States
ORGANIZER;CN="AIA":MAILTO:lectures@archaeological.org
GEO:41.6611277;-91.5301683
END:VEVENT
BEGIN:VEVENT
DTSTART;TZID=America/Denver:20260129T173000
DTEND;TZID=America/Denver:20260129T193000
DTSTAMP:20260422T124617
CREATED:20250922T145942Z
LAST-MODIFIED:20260129T154033Z
UID:10008621-1769707800-1769715000@www.archaeological.org
SUMMARY:The Impact of Roman Military Presence on the Arid Landscapes of Southern Jordan and Israel
DESCRIPTION:Martha Sharp Joukowsky Lectureship
URL:https://www.archaeological.org/event/the-impact-of-roman-military-presence-on-the-arid-landscapes-of-southern-jordan-and-israel-2-2/
LOCATION:Remote (Bozeman)\, Bozeman\, MT\, United States
ORGANIZER;CN="AIA":MAILTO:lectures@archaeological.org
GEO:45.6793119;-111.037259
END:VEVENT
BEGIN:VEVENT
DTSTART;TZID=America/New_York:20260122T163000
DTEND;TZID=America/New_York:20260122T173000
DTSTAMP:20260422T124617
CREATED:20250919T222438Z
LAST-MODIFIED:20260116T155718Z
UID:10008595-1769099400-1769103000@www.archaeological.org
SUMMARY:Into the Mani: Death\, Burial\, and Legend on the Southern Greek Mainland
DESCRIPTION:Charles Eliot Norton Memorial Lectureship \nRegister for Zoom: https://pitt.zoom.us/meeting/register/6xRhkuW-ScGmMN4GpWaPKA
URL:https://www.archaeological.org/event/into-the-mani-death-burial-and-legend-on-the-southern-greek-mainland/
LOCATION:Remote (Pittsburgh)\, Pittsburgh\, PA\, United States
CATEGORIES:AIA Lecture Program,Lecture
ORGANIZER;CN="AIA":MAILTO:lectures@archaeological.org
GEO:40.4406248;-79.9958864
END:VEVENT
BEGIN:VEVENT
DTSTART;TZID=America/Chicago:20260121T170000
DTEND;TZID=America/Chicago:20260121T183000
DTSTAMP:20260422T124617
CREATED:20250922T145938Z
LAST-MODIFIED:20250922T150510Z
UID:10008620-1769014800-1769020200@www.archaeological.org
SUMMARY:Life\, Death\, and Disease: Insights form Petra’s Tombs and Cemeteries 2
DESCRIPTION:Kershaw Lectures in Near East Archaeology Time TBA
URL:https://www.archaeological.org/event/life-death-and-disease-insights-form-petras-tombs-and-cemeteries-2/
LOCATION:TBA (Nashville)\, Nasvhille\, TN
CATEGORIES:AIA Lecture Program,Lecture
ORGANIZER;CN="AIA":MAILTO:lectures@archaeological.org
GEO:36.1626638;-86.7816016
END:VEVENT
BEGIN:VEVENT
DTSTART;TZID=America/Los_Angeles:20260120T170000
DTEND;TZID=America/Los_Angeles:20260120T183000
DTSTAMP:20260422T124617
CREATED:20250922T145937Z
LAST-MODIFIED:20250922T150510Z
UID:10008618-1768928400-1768933800@www.archaeological.org
SUMMARY:10\,000 years of Oaxaca Cuisines from Mesquite Pods to Mezcal
DESCRIPTION:Doris Z. Stone New World Archaeology Lectures Time TBA
URL:https://www.archaeological.org/event/10000-years-of-oaxaca-cuisines-from-mesquite-pods-to-mezcal/
LOCATION:TBA (Santa Fe)\, Santa Fe\, NM\, United States
CATEGORIES:AIA Lecture Program,Lecture
ORGANIZER;CN="AIA":MAILTO:lectures@archaeological.org
END:VEVENT
BEGIN:VEVENT
DTSTART;TZID=America/Chicago:20260120T170000
DTEND;TZID=America/Chicago:20260120T183000
DTSTAMP:20260422T124617
CREATED:20250922T145937Z
LAST-MODIFIED:20250922T150510Z
UID:10008619-1768928400-1768933800@www.archaeological.org
SUMMARY:TBA (North Alabama (Huntsville))
DESCRIPTION:Kershaw Lectures in Near East Archaeology Time TBA
URL:https://www.archaeological.org/event/tba-north-alabama-huntsville/
LOCATION:TBA (North Alabama (Huntsville))\, Huntsville\, AL\, United States
CATEGORIES:AIA Lecture Program,Lecture
ORGANIZER;CN="AIA":MAILTO:lectures@archaeological.org
GEO:34.7295497;-86.5853155
END:VEVENT
BEGIN:VEVENT
DTSTART;TZID=America/New_York:20251113T193000
DTEND;TZID=America/New_York:20251113T210000
DTSTAMP:20260422T124617
CREATED:20250922T145933Z
LAST-MODIFIED:20250922T150510Z
UID:10008616-1763062200-1763067600@www.archaeological.org
SUMMARY:A High Altitude "Big Bang": Late Formative Period Archaeology of the Lake Titicaca Basin\, Bolivia 2
DESCRIPTION:Doris Z. Stone New World Archaeology Lectures
URL:https://www.archaeological.org/event/a-high-altitude-big-bang-late-formative-period-archaeology-of-the-lake-titicaca-basin-bolivia-2-2/
LOCATION:TBA (Western Carolina)\, NC\, United States
ORGANIZER;CN="AIA":MAILTO:lectures@archaeological.org
END:VEVENT
BEGIN:VEVENT
DTSTART;TZID=America/New_York:20251113T190000
DTEND;TZID=America/New_York:20251113T203000
DTSTAMP:20260422T124617
CREATED:20250922T145932Z
LAST-MODIFIED:20250922T150509Z
UID:10008615-1763060400-1763065800@www.archaeological.org
SUMMARY:Petra's Forgotten Past: Uncovering the Iron Age Foundations of Nabataean Society
DESCRIPTION:Martha Sharp Joukowsky Lectureship
URL:https://www.archaeological.org/event/petras-forgotten-past-uncovering-the-iron-age-foundations-of-nabataean-society/
LOCATION:University of Maryland\, Room TBA\, College Park\, MD\, United States
ORGANIZER;CN="AIA":MAILTO:lectures@archaeological.org
GEO:38.989697;-76.93776
END:VEVENT
BEGIN:VEVENT
DTSTART;TZID=America/New_York:20251113T190000
DTEND;TZID=America/New_York:20251113T203000
DTSTAMP:20260422T124617
CREATED:20250922T145931Z
LAST-MODIFIED:20250922T150509Z
UID:10008614-1763060400-1763065800@www.archaeological.org
SUMMARY:Life\, Death\, and Disease: Insights form Petra’s Tombs and Cemeteries
DESCRIPTION:Kershaw Lectures in Near East Archaeology
URL:https://www.archaeological.org/event/life-death-and-disease-insights-form-petras-tombs-and-cemeteries/
LOCATION:College of Charleston\, Simons 380\, 54 St. Philip Street\, Charleston\, SC\, 29401\, United States
ORGANIZER;CN="AIA":MAILTO:lectures@archaeological.org
GEO:32.784434;-79.936817
X-APPLE-STRUCTURED-LOCATION;VALUE=URI;X-ADDRESS=College of Charleston Simons 380 54 St. Philip Street Charleston SC 29401 United States;X-APPLE-RADIUS=500;X-TITLE=54 St. Philip Street:geo:-79.936817,32.784434
END:VEVENT
BEGIN:VEVENT
DTSTART;TZID=America/New_York:20251113T170000
DTEND;TZID=America/New_York:20251113T183000
DTSTAMP:20260422T124617
CREATED:20250922T145936Z
LAST-MODIFIED:20251006T202306Z
UID:10008617-1763053200-1763058600@www.archaeological.org
SUMMARY:The Rape of the Sabines: Myth and History in the Urban Development of Republican Rome
DESCRIPTION:Martha Sharp Joukowsky Lectureship Time TBA
URL:https://www.archaeological.org/event/the-rape-of-the-sabines-myth-and-history-in-the-urban-development-of-republican-rome/
LOCATION:TBA (Hartford 1)\, Hartford\, CT\, United States
CATEGORIES:AIA Lecture Program,Lecture
ORGANIZER;CN="AIA":MAILTO:lectures@archaeological.org
GEO:41.7658043;-72.6733723
END:VEVENT
BEGIN:VEVENT
DTSTART;TZID=America/New_York:20251112T170000
DTEND;TZID=America/New_York:20251112T183000
DTSTAMP:20260422T124617
CREATED:20250922T145930Z
LAST-MODIFIED:20250922T150508Z
UID:10008612-1762966800-1762972200@www.archaeological.org
SUMMARY:TBA (Charlottesville)
DESCRIPTION:The George F. Bass Lectures Time TBA
URL:https://www.archaeological.org/event/tba-charlottesville/
LOCATION:TBA (Charlottesville)\, Charlottesville\, VA\, United States
ORGANIZER;CN="AIA":MAILTO:lectures@archaeological.org
GEO:38.0301826;-78.4769353
END:VEVENT
END:VCALENDAR