BEGIN:VCALENDAR
VERSION:2.0
PRODID:-//Archaeological Institute of America - ECPv6.15.20//NONSGML v1.0//EN
CALSCALE:GREGORIAN
METHOD:PUBLISH
X-ORIGINAL-URL:https://www.archaeological.org
X-WR-CALDESC:Events for Archaeological Institute of America
REFRESH-INTERVAL;VALUE=DURATION:PT1H
X-Robots-Tag:noindex
X-PUBLISHED-TTL:PT1H
BEGIN:VTIMEZONE
TZID:America/New_York
BEGIN:DAYLIGHT
TZOFFSETFROM:-0500
TZOFFSETTO:-0400
TZNAME:EDT
DTSTART:20210314T070000
END:DAYLIGHT
BEGIN:STANDARD
TZOFFSETFROM:-0400
TZOFFSETTO:-0500
TZNAME:EST
DTSTART:20211107T060000
END:STANDARD
BEGIN:DAYLIGHT
TZOFFSETFROM:-0500
TZOFFSETTO:-0400
TZNAME:EDT
DTSTART:20220313T070000
END:DAYLIGHT
BEGIN:STANDARD
TZOFFSETFROM:-0400
TZOFFSETTO:-0500
TZNAME:EST
DTSTART:20221106T060000
END:STANDARD
BEGIN:DAYLIGHT
TZOFFSETFROM:-0500
TZOFFSETTO:-0400
TZNAME:EDT
DTSTART:20230312T070000
END:DAYLIGHT
BEGIN:STANDARD
TZOFFSETFROM:-0400
TZOFFSETTO:-0500
TZNAME:EST
DTSTART:20231105T060000
END:STANDARD
BEGIN:DAYLIGHT
TZOFFSETFROM:-0500
TZOFFSETTO:-0400
TZNAME:EDT
DTSTART:20240310T070000
END:DAYLIGHT
BEGIN:STANDARD
TZOFFSETFROM:-0400
TZOFFSETTO:-0500
TZNAME:EST
DTSTART:20241103T060000
END:STANDARD
BEGIN:DAYLIGHT
TZOFFSETFROM:-0500
TZOFFSETTO:-0400
TZNAME:EDT
DTSTART:20250309T070000
END:DAYLIGHT
BEGIN:STANDARD
TZOFFSETFROM:-0400
TZOFFSETTO:-0500
TZNAME:EST
DTSTART:20251102T060000
END:STANDARD
BEGIN:DAYLIGHT
TZOFFSETFROM:-0500
TZOFFSETTO:-0400
TZNAME:EDT
DTSTART:20260308T070000
END:DAYLIGHT
BEGIN:STANDARD
TZOFFSETFROM:-0400
TZOFFSETTO:-0500
TZNAME:EST
DTSTART:20261101T060000
END:STANDARD
END:VTIMEZONE
BEGIN:VEVENT
DTSTART;TZID=America/New_York:20250327T190000
DTEND;TZID=America/New_York:20250327T200000
DTSTAMP:20260421T104214
CREATED:20250310T151027Z
LAST-MODIFIED:20250310T151027Z
UID:10007606-1743102000-1743105600@www.archaeological.org
SUMMARY:The deep prehistory of the human presence in the world’s high mountains and plateaus
DESCRIPTION:
URL:https://www.archaeological.org/event/the-deep-prehistory-of-the-human-presence-in-the-worlds-high-mountains-and-plateaus-2/
LOCATION:Memorial Art Gallery\, 500 University Ave\, Rochester\, NY\, 14607
CATEGORIES:AIA Lecture Program,Lecture
ORGANIZER;CN="Alex Smith":MAILTO:alsmith@brockport.edu
GEO:43.1565779;-77.6088465
X-APPLE-STRUCTURED-LOCATION;VALUE=URI;X-ADDRESS=Memorial Art Gallery 500 University Ave Rochester NY 14607;X-APPLE-RADIUS=500;X-TITLE=500 University Ave:geo:-77.6088465,43.1565779
END:VEVENT
BEGIN:VEVENT
DTSTART;TZID=America/New_York:20221016T090000
DTEND;TZID=America/New_York:20221016T143000
DTSTAMP:20260421T104214
CREATED:20221014T142842Z
LAST-MODIFIED:20221014T142842Z
UID:10006760-1665910800-1665930600@www.archaeological.org
SUMMARY:Family Archaeology Day at Cumming Nature Center
DESCRIPTION:Grab a trowel\, hop into the trench\, and join archaeology professors and students from SUNY Brockport as we uncover the story of a 19th century homestead located at the Nature Center. Did it burn down or collapse? Where was the kitchen? Whose bones and teeth are found in the yard? Help us piece together the story of Frost Town\, an abandoned logging settlement founded at the end of the 18th century in the old-growth pine forests of the Onondowagah\, or Seneca\, people. \nAt Family Archaeology Days\, participants will literally be in the trenches as they learn about the history of Frost Town and the basics of archaeological fieldwork\, including: \nMethods of excavation\nHow to properly clean artifacts\nTricks for identifying artifacts\nThis event is part of a multi-year project that provides public access to Frost Town Archaeology (FTA)\, a SUNY Brockport archaeology field school site that’s located at the Cumming Nature Center. Students in FTA focus on the Hall Homestead site\, a residence built by an early settler of Frost Town. During Family Archaeology Days\, visitors have the opportunity to help excavate a less fragile homestead located closer to the Visitor Center\, complementing the work being done at the Hall Homestead. \nNote- the dig event is sold out as of 10/13/2022\, but you can still visit the nature center!
URL:https://www.archaeological.org/event/family-archaeology-day-at-cumming-nature-center/
LOCATION:Cumming Nature Center\, 6472 Gulick Road\, Naples\, NY\, 14512
CATEGORIES:International Archaeology Day
ORGANIZER;CN="Alex Smith":MAILTO:alsmith@brockport.edu
GEO:42.707259;-77.448388
X-APPLE-STRUCTURED-LOCATION;VALUE=URI;X-ADDRESS=Cumming Nature Center 6472 Gulick Road Naples NY 14512;X-APPLE-RADIUS=500;X-TITLE=6472 Gulick Road:geo:-77.448388,42.707259
END:VEVENT
END:VCALENDAR