BEGIN:VCALENDAR
VERSION:2.0
PRODID:-//Archaeological Institute of America - ECPv6.15.20//NONSGML v1.0//EN
CALSCALE:GREGORIAN
METHOD:PUBLISH
X-WR-CALNAME:Archaeological Institute of America
X-ORIGINAL-URL:https://www.archaeological.org
X-WR-CALDESC:Events for Archaeological Institute of America
REFRESH-INTERVAL;VALUE=DURATION:PT1H
X-Robots-Tag:noindex
X-PUBLISHED-TTL:PT1H
BEGIN:VTIMEZONE
TZID:Europe/Vienna
BEGIN:DAYLIGHT
TZOFFSETFROM:+0100
TZOFFSETTO:+0200
TZNAME:CEST
DTSTART:20210328T010000
END:DAYLIGHT
BEGIN:STANDARD
TZOFFSETFROM:+0200
TZOFFSETTO:+0100
TZNAME:CET
DTSTART:20211031T010000
END:STANDARD
BEGIN:DAYLIGHT
TZOFFSETFROM:+0100
TZOFFSETTO:+0200
TZNAME:CEST
DTSTART:20220327T010000
END:DAYLIGHT
BEGIN:STANDARD
TZOFFSETFROM:+0200
TZOFFSETTO:+0100
TZNAME:CET
DTSTART:20221030T010000
END:STANDARD
BEGIN:DAYLIGHT
TZOFFSETFROM:+0100
TZOFFSETTO:+0200
TZNAME:CEST
DTSTART:20230326T010000
END:DAYLIGHT
BEGIN:STANDARD
TZOFFSETFROM:+0200
TZOFFSETTO:+0100
TZNAME:CET
DTSTART:20231029T010000
END:STANDARD
END:VTIMEZONE
BEGIN:VEVENT
DTSTART;TZID=Europe/Vienna:20221022T140000
DTEND;TZID=Europe/Vienna:20221022T160000
DTSTAMP:20260421T091526
CREATED:20221004T184639Z
LAST-MODIFIED:20221004T184954Z
UID:10006736-1666447200-1666454400@www.archaeological.org
SUMMARY:Site visit to the Meet the Phoenicians of Malta exhibition at the National Museum of Archaeology\, Valletta
DESCRIPTION:Led by Mr. David Cardona\, Senior Curator\, Phoenician\, Roman and Medieval Sites\, Heritage Malta. Mr. Cardona will also take members round the Phoenician and Punic gallery on the top floor of the museum. \nA Phoenician stone sarcophagus excavated last year at Għajn Klieb\, on the outskirts of Rabat\,Malta is one of the major attractions in this exhibition. It brings to light the results of months of painstaking studies by a multidisciplinary team researching the sarcophagus and two other tombs discovered in the area\, as well as their contents. The three tombs\, although inherently different\, shed light on the burial rituals of the earliest Phoenicians on the island.
URL:https://www.archaeological.org/event/site-visit-to-the-meet-the-phoenicians-of-malta-exhibition-at-the-national-museum-of-archaeology-valletta/
LOCATION:National Museum of Archaeology\, Valletta\, Republic St\, Auberge de Provcence\, Valletta\, VLT 1112\, Malta
CATEGORIES:International Archaeology Day
ORGANIZER;CN="Ann Gingell Littlejohn":MAILTO:agingelllittlejohn@gmail.com
GEO:35.8989085;14.5145528
X-APPLE-STRUCTURED-LOCATION;VALUE=URI;X-ADDRESS=National Museum of Archaeology Valletta Republic St Auberge de Provcence Valletta VLT 1112 Malta;X-APPLE-RADIUS=500;X-TITLE=Republic St\, Auberge de Provcence:geo:14.5145528,35.8989085
END:VEVENT
END:VCALENDAR