BEGIN:VCALENDAR
VERSION:2.0
PRODID:-//Archaeological Institute of America - ECPv6.15.20//NONSGML v1.0//EN
CALSCALE:GREGORIAN
METHOD:PUBLISH
X-ORIGINAL-URL:https://www.archaeological.org
X-WR-CALDESC:Events for Archaeological Institute of America
REFRESH-INTERVAL;VALUE=DURATION:PT1H
X-Robots-Tag:noindex
X-PUBLISHED-TTL:PT1H
BEGIN:VTIMEZONE
TZID:America/Chicago
BEGIN:DAYLIGHT
TZOFFSETFROM:-0600
TZOFFSETTO:-0500
TZNAME:CDT
DTSTART:20210314T080000
END:DAYLIGHT
BEGIN:STANDARD
TZOFFSETFROM:-0500
TZOFFSETTO:-0600
TZNAME:CST
DTSTART:20211107T070000
END:STANDARD
BEGIN:DAYLIGHT
TZOFFSETFROM:-0600
TZOFFSETTO:-0500
TZNAME:CDT
DTSTART:20220313T080000
END:DAYLIGHT
BEGIN:STANDARD
TZOFFSETFROM:-0500
TZOFFSETTO:-0600
TZNAME:CST
DTSTART:20221106T070000
END:STANDARD
BEGIN:DAYLIGHT
TZOFFSETFROM:-0600
TZOFFSETTO:-0500
TZNAME:CDT
DTSTART:20230312T080000
END:DAYLIGHT
BEGIN:STANDARD
TZOFFSETFROM:-0500
TZOFFSETTO:-0600
TZNAME:CST
DTSTART:20231105T070000
END:STANDARD
END:VTIMEZONE
BEGIN:VEVENT
DTSTART;TZID=America/Chicago:20221014T140000
DTEND;TZID=America/Chicago:20221014T160000
DTSTAMP:20260421T090321
CREATED:20221010T125041Z
LAST-MODIFIED:20221010T125041Z
UID:10006743-1665756000-1665763200@www.archaeological.org
SUMMARY:International Archaeology Day Celebration
DESCRIPTION:The University of Missouri-Columbia Department of Classics\, Archaeology\, and Religion (CAR) and the Museum of Art and\nArchaeology will be hosting an event in Ellis Library (Room 114A) to celebrate International Archaeology\nDay. Graduate students from CAR will be giving talks about their excavation experiences.
URL:https://www.archaeological.org/event/international-archaeology-day-celebration-2/
LOCATION:Ellis Library Room 114A\, 520 S Ninth St\, Columbia\, MO\, 65201\, United States
CATEGORIES:International Archaeology Day
ATTACH;FMTTYPE=image/png:https://www.archaeological.org/wp-content/uploads/2022/10/Screen-Shot-2022-10-07-at-3.55.31-PM.png
ORGANIZER;CN="Brittany Proffitt":MAILTO:bpv6b@umsystem.edu
GEO:38.9454183;-92.327283
X-APPLE-STRUCTURED-LOCATION;VALUE=URI;X-ADDRESS=Ellis Library Room 114A 520 S Ninth St Columbia MO 65201 United States;X-APPLE-RADIUS=500;X-TITLE=520 S Ninth St:geo:-92.327283,38.9454183
END:VEVENT
END:VCALENDAR