BEGIN:VCALENDAR
VERSION:2.0
PRODID:-//Archaeological Institute of America - ECPv6.15.20//NONSGML v1.0//EN
CALSCALE:GREGORIAN
METHOD:PUBLISH
X-ORIGINAL-URL:https://www.archaeological.org
X-WR-CALDESC:Events for Archaeological Institute of America
REFRESH-INTERVAL;VALUE=DURATION:PT1H
X-Robots-Tag:noindex
X-PUBLISHED-TTL:PT1H
BEGIN:VTIMEZONE
TZID:America/New_York
BEGIN:DAYLIGHT
TZOFFSETFROM:-0500
TZOFFSETTO:-0400
TZNAME:EDT
DTSTART:20240310T070000
END:DAYLIGHT
BEGIN:STANDARD
TZOFFSETFROM:-0400
TZOFFSETTO:-0500
TZNAME:EST
DTSTART:20241103T060000
END:STANDARD
BEGIN:DAYLIGHT
TZOFFSETFROM:-0500
TZOFFSETTO:-0400
TZNAME:EDT
DTSTART:20250309T070000
END:DAYLIGHT
BEGIN:STANDARD
TZOFFSETFROM:-0400
TZOFFSETTO:-0500
TZNAME:EST
DTSTART:20251102T060000
END:STANDARD
BEGIN:DAYLIGHT
TZOFFSETFROM:-0500
TZOFFSETTO:-0400
TZNAME:EDT
DTSTART:20260308T070000
END:DAYLIGHT
BEGIN:STANDARD
TZOFFSETFROM:-0400
TZOFFSETTO:-0500
TZNAME:EST
DTSTART:20261101T060000
END:STANDARD
END:VTIMEZONE
BEGIN:VEVENT
DTSTART;VALUE=DATE:20250407
DTEND;VALUE=DATE:20250416
DTSTAMP:20260423T030059
CREATED:20240528T155158Z
LAST-MODIFIED:20240528T155158Z
UID:10007115-1743984000-1744761599@www.archaeological.org
SUMMARY:Aegean Sea Odyssey: Cruise the Greek Isles & Historic Türkiye
DESCRIPTION:Join Archaeological Institute of America lecturer and host Joanne Murphy\, a classical archaeologist and an engaging professor\, on a captivating journey cruising the Aegean Sea among the cultural coastal gems of Greece and Türkiye. Set out from Athens’ port of Piraeus for the sacred\, uninhabited island of Delos\, a UNESCO World Heritage Site. Cruise into the iconic caldera of Santorini and visit the island’s haunting site of Akrotiri\, which was buried yet preserved by a volcanic eruption around 1600 B.C. Wander through the medieval town of Rhodes\, a UNESCO World Heritage Site\, and perhaps take an optional excursion to the Acropolis at Lindos with its 4th-century B.C. temple; and then hop over to nearby Kuşadasi\, Türkiye\, for a visit to the vast Greco-Roman city of Ephesus\, a UNESCO World Heritage Site. Our last port of call is Çanakkale\, for an excursion to legendary Troy\, a UNESCO World Heritage Site\, before we disembark in deeply historical Istanbul. Optional pre- and post- cruise extensions in Athens and Istanbul are available. Aboard ship a team of experts\, including AIA lecturer/host Joanne Murphy\, will share their knowledge through a series of enriching lectures and informal discussions. Our luxury vessel\, Le Dumont-d’Urville\, which has only 92 staterooms and suites\, will be a floating sanctuary of sophistication and comfort\, where you will indulge in gourmet dining\, unwind in spacious staterooms\, and savor panoramic views throughout the vessel.
URL:https://www.archaeological.org/event/aegean-sea-odyssey-cruise-the-greek-isles-historic-turkiye/
CATEGORIES:AIA Tours / Travel Program
ATTACH;FMTTYPE=image/png:https://www.archaeological.org/wp-content/uploads/2024/05/AegeanORB4-25-coverflow.png
ORGANIZER;CN="Brittany Walters":MAILTO:aia@studytours.org
END:VEVENT
BEGIN:VEVENT
DTSTART;VALUE=DATE:20250218
DTEND;VALUE=DATE:20250308
DTSTAMP:20260423T030059
CREATED:20240510T154726Z
LAST-MODIFIED:20240628T173538Z
UID:10007110-1739836800-1741391999@www.archaeological.org
SUMMARY:Absolute Egypt February 18 – March 7\, 2025
DESCRIPTION:This itinerary is carefully crafted to provide discerning travelers with the finest Egypt tour available. Our 18-day program is the most in-depth exploration of ancient Egypt’s greatest sites\, combining all the best attributes of a small-group\, all-inclusive\, well-paced\, luxury trip. \nHighlights: \n1. Learn with a distinguished and engaging American scholar plus a wonderful local Egyptologist and an excellent tour manager. This trio has been receiving accolades for many years.\n2. Travel with a maximum of just 16 guests plus your trio of leaders.\n3. Enjoy the best accommodations\, including 13 nights at luxurious\, 5-star hotels in Giza\, Cairo\, Luxor\, and Aswan; and a three-night Nile cruise aboard a comfortable\, eight-cabin dahabiya (traditional Nile sail boat).\n4. Meet with excavators and conservators\, including behind-the-scenes visits\, when possible.\n5. Discover the preeminent sites of the pharaohs from Cairo to Luxor\, Aswan\, and Abu Simbel:\n-If it is open\, spend two full days exploring the Grand Egyptian Museum that is scheduled to open in 2024.\n-See the amazing Giza pyramids and Sphinx as well as Saqqara’s Step Pyramid of Djoser and recently discovered\, closed-to-the-public\, Tomb of Wah Ti.\n-Explore the astounding temple complex of Karnak as well as Luxor Temple\, plus spectacular royal mortuary temples and tombs in the Valleys of the Kings and Queens\, such as those of Seti I and Nefertari.\n-Visit the remarkable Temple of Hathor at Dendara as well as Abydos\, one of the oldest and most important cities in ancient Egypt\, where Steve Harvey\, your AIA lecturer\, has been working since 1993.\n-Cruise the Nile from Esna to Aswan aboard an eight-cabin sail boat\, away from the convoys of large riverboats\, so that we visit remarkable temples without the typical crowds. From the spacious top deck\, observe timeless pastoral scenes of feluccas\, farmers\, herders\, and village life.\n-Fly to Abu Simbel to visit the stunning and enormous rock-cut temples of Ramesses II and Nefertari. \nIn short\, this is the most exclusive\, enjoyable\, and fascinating introduction to Egypt available.
URL:https://www.archaeological.org/event/absolute-egypt-february-18-march-7-2025/
CATEGORIES:AIA Tours / Travel Program
ATTACH;FMTTYPE=image/png:https://www.archaeological.org/wp-content/uploads/2024/05/AbsoluteEgypt2025-coverflow-1.png
ORGANIZER;CN="Brittany Walters":MAILTO:aia@studytours.org
END:VEVENT
END:VCALENDAR