BEGIN:VCALENDAR
VERSION:2.0
PRODID:-//Archaeological Institute of America - ECPv6.15.20//NONSGML v1.0//EN
CALSCALE:GREGORIAN
METHOD:PUBLISH
X-ORIGINAL-URL:https://www.archaeological.org
X-WR-CALDESC:Events for Archaeological Institute of America
REFRESH-INTERVAL;VALUE=DURATION:PT1H
X-Robots-Tag:noindex
X-PUBLISHED-TTL:PT1H
BEGIN:VTIMEZONE
TZID:America/New_York
BEGIN:DAYLIGHT
TZOFFSETFROM:-0500
TZOFFSETTO:-0400
TZNAME:EDT
DTSTART:20200308T070000
END:DAYLIGHT
BEGIN:STANDARD
TZOFFSETFROM:-0400
TZOFFSETTO:-0500
TZNAME:EST
DTSTART:20201101T060000
END:STANDARD
BEGIN:DAYLIGHT
TZOFFSETFROM:-0500
TZOFFSETTO:-0400
TZNAME:EDT
DTSTART:20210314T070000
END:DAYLIGHT
BEGIN:STANDARD
TZOFFSETFROM:-0400
TZOFFSETTO:-0500
TZNAME:EST
DTSTART:20211107T060000
END:STANDARD
BEGIN:DAYLIGHT
TZOFFSETFROM:-0500
TZOFFSETTO:-0400
TZNAME:EDT
DTSTART:20220313T070000
END:DAYLIGHT
BEGIN:STANDARD
TZOFFSETFROM:-0400
TZOFFSETTO:-0500
TZNAME:EST
DTSTART:20221106T060000
END:STANDARD
BEGIN:DAYLIGHT
TZOFFSETFROM:-0500
TZOFFSETTO:-0400
TZNAME:EDT
DTSTART:20230312T070000
END:DAYLIGHT
BEGIN:STANDARD
TZOFFSETFROM:-0400
TZOFFSETTO:-0500
TZNAME:EST
DTSTART:20231105T060000
END:STANDARD
BEGIN:DAYLIGHT
TZOFFSETFROM:-0500
TZOFFSETTO:-0400
TZNAME:EDT
DTSTART:20240310T070000
END:DAYLIGHT
BEGIN:STANDARD
TZOFFSETFROM:-0400
TZOFFSETTO:-0500
TZNAME:EST
DTSTART:20241103T060000
END:STANDARD
BEGIN:DAYLIGHT
TZOFFSETFROM:-0500
TZOFFSETTO:-0400
TZNAME:EDT
DTSTART:20250309T070000
END:DAYLIGHT
BEGIN:STANDARD
TZOFFSETFROM:-0400
TZOFFSETTO:-0500
TZNAME:EST
DTSTART:20251102T060000
END:STANDARD
BEGIN:DAYLIGHT
TZOFFSETFROM:-0500
TZOFFSETTO:-0400
TZNAME:EDT
DTSTART:20260308T070000
END:DAYLIGHT
BEGIN:STANDARD
TZOFFSETFROM:-0400
TZOFFSETTO:-0500
TZNAME:EST
DTSTART:20261101T060000
END:STANDARD
END:VTIMEZONE
BEGIN:VEVENT
DTSTART;TZID=America/New_York:20250327T180000
DTEND;TZID=America/New_York:20250327T190000
DTSTAMP:20260423T124838
CREATED:20250226T200603Z
LAST-MODIFIED:20250318T122459Z
UID:10007589-1743098400-1743102000@www.archaeological.org
SUMMARY:Dying as a Macedonian in Egypt: Styling Social Identity through Hellenistic Burial Practices
DESCRIPTION:Charles Eliot Norton Memorial Lectureship
URL:https://www.archaeological.org/event/dying-as-a-macedonian-in-egypt-styling-social-identity-through-hellenistic-burial-practices-4/
LOCATION:University of Virginia\, Campbell Hall 158 (Architecture School)\, Bayly Dr\, Charlottesville\, VA\, 22903\, United States
CATEGORIES:AIA Lecture Program,Lecture
ORGANIZER;CN="Daniel Weiss":MAILTO:dsw5k@virginia.edu
GEO:38.0390106;-78.5027984
X-APPLE-STRUCTURED-LOCATION;VALUE=URI;X-ADDRESS=University of Virginia Campbell Hall 158 (Architecture School) Bayly Dr Charlottesville VA 22903 United States;X-APPLE-RADIUS=500;X-TITLE=Bayly Dr:geo:-78.5027984,38.0390106
END:VEVENT
BEGIN:VEVENT
DTSTART;TZID=America/New_York:20220428T173000
DTEND;TZID=America/New_York:20220428T173000
DTSTAMP:20260423T124838
CREATED:20210818T164109Z
LAST-MODIFIED:20220404T140605Z
UID:10005671-1651167000-1651167000@www.archaeological.org
SUMMARY:Rituals of the Everyday: Neighborhood Diversity in the Urbanization of Cahokia
DESCRIPTION:Stone Lecture
URL:https://www.archaeological.org/event/charlottesville-lecture-2-tba-2/
CATEGORIES:AIA Lecture Program,Lecture
ORGANIZER;CN="Daniel Weiss":MAILTO:dsw5k@virginia.edu
END:VEVENT
BEGIN:VEVENT
DTSTART;TZID=America/New_York:20211021T173000
DTEND;TZID=America/New_York:20211021T173000
DTSTAMP:20260423T124838
CREATED:20210818T164230Z
LAST-MODIFIED:20211011T211541Z
UID:10005877-1634837400-1634837400@www.archaeological.org
SUMMARY:Tracing the Origins of Art
DESCRIPTION:Joukowsky Lecture
URL:https://www.archaeological.org/event/charlottesville-lecture-1-tba/
LOCATION:WEBINAR (Charlottesville 1)\, Charlottesville\, VA
CATEGORIES:AIA Lecture Program,International Archaeology Day,Lecture
ORGANIZER;CN="Daniel Weiss":MAILTO:dsw5k@virginia.edu
GEO:38.0293059;-78.4766781
END:VEVENT
END:VCALENDAR