BEGIN:VCALENDAR
VERSION:2.0
PRODID:-//Archaeological Institute of America - ECPv6.15.20//NONSGML v1.0//EN
CALSCALE:GREGORIAN
METHOD:PUBLISH
X-ORIGINAL-URL:https://www.archaeological.org
X-WR-CALDESC:Events for Archaeological Institute of America
REFRESH-INTERVAL;VALUE=DURATION:PT1H
X-Robots-Tag:noindex
X-PUBLISHED-TTL:PT1H
BEGIN:VTIMEZONE
TZID:America/Los_Angeles
BEGIN:DAYLIGHT
TZOFFSETFROM:-0800
TZOFFSETTO:-0700
TZNAME:PDT
DTSTART:20230312T100000
END:DAYLIGHT
BEGIN:STANDARD
TZOFFSETFROM:-0700
TZOFFSETTO:-0800
TZNAME:PST
DTSTART:20231105T090000
END:STANDARD
BEGIN:DAYLIGHT
TZOFFSETFROM:-0800
TZOFFSETTO:-0700
TZNAME:PDT
DTSTART:20240310T100000
END:DAYLIGHT
BEGIN:STANDARD
TZOFFSETFROM:-0700
TZOFFSETTO:-0800
TZNAME:PST
DTSTART:20241103T090000
END:STANDARD
BEGIN:DAYLIGHT
TZOFFSETFROM:-0800
TZOFFSETTO:-0700
TZNAME:PDT
DTSTART:20250309T100000
END:DAYLIGHT
BEGIN:STANDARD
TZOFFSETFROM:-0700
TZOFFSETTO:-0800
TZNAME:PST
DTSTART:20251102T090000
END:STANDARD
BEGIN:DAYLIGHT
TZOFFSETFROM:-0800
TZOFFSETTO:-0700
TZNAME:PDT
DTSTART:20260308T100000
END:DAYLIGHT
BEGIN:STANDARD
TZOFFSETFROM:-0700
TZOFFSETTO:-0800
TZNAME:PST
DTSTART:20261101T090000
END:STANDARD
END:VTIMEZONE
BEGIN:VEVENT
DTSTART;TZID=America/Los_Angeles:20250306T173000
DTEND;TZID=America/Los_Angeles:20250306T190000
DTSTAMP:20260422T140745
CREATED:20250212T145556Z
LAST-MODIFIED:20250225T132559Z
UID:10007558-1741282200-1741287600@www.archaeological.org
SUMMARY:Stones of the Butterfly: Archaeological Investigation of Yapese Stone Money Quarries in Palau\, Micronesia
DESCRIPTION:
URL:https://www.archaeological.org/event/stones-of-the-butterfly-archaeological-investigation-of-yapese-stone-money-quarries-in-palau-micronesia/
LOCATION:Doe Library 308 A\, UC Berkeley Campus\, Berkeley\, California\, United States
CATEGORIES:AIA Lecture Program,Lecture
ORGANIZER;CN="Darcy Tuttle":MAILTO:darcytuttle@berkeley.edu
GEO:37.8715226;-122.273042
END:VEVENT
BEGIN:VEVENT
DTSTART;TZID=America/Los_Angeles:20240201T183000
DTEND;TZID=America/Los_Angeles:20240201T193000
DTSTAMP:20260422T140745
CREATED:20240124T150524Z
LAST-MODIFIED:20240124T150524Z
UID:10006619-1706812200-1706815800@www.archaeological.org
SUMMARY:“Christian Destruction and Desecration of Images and Temples of Classical Antiquity”
DESCRIPTION:Religious iconoclasm has been a recurring phenomenon from the time of Akhenaton’s destruction of images of the gods in 14th century B.C. Egypt to promote a new\, monotheistic religion down to the recent Islamic destruction of the antiquities of the Middle East. This paper focuses on Christian destruction and desecration of images and temples of Classical Antiquity in the late antique world (ca. 4th – 7th cent.)\, a topic that has received in the past relatively little scholarly attention. Also considered are some of the attendant problems in detecting and making sense of this phenomenon. Of the three major monotheistic religions today\, Christianity proved to be the most destructive to the polytheistic religions and material culture of the Old as well as the New World\, not to mention the untold numbers of non-Christians who were forced to convert\, to be enslaved\, tortured and/or put to death because of their refusal to convert. With the rise of radical Christian Nationalism in the United States today\, this talk also provides evidence of what can happen when intolerant religious dogmatic views are backed by the power of the State. In the late Roman period\, the first Christian emperor Constantine not only elevated Christianity as the state religion of the Empire but also initiated the process of eradicating both polytheistic religions and non-orthodox Christian belief systems. The continuing process of Christianizing the polytheistic peoples of the former Roman Empire and the increasing judicial savagery of Christian emperors led to harsher and more intolerant religious-based imperial laws and the growth of religious extremism and fanaticism that fueled the destruction of whatever did not conform to radicalized Christianity’s narrow view of the world. \nTo register for this virtual event\, please use the following link: https://berkeley.zoom.us/meeting/register/tJcqdeiuqDkoE9CJrJJIr5Ycj2JTo431fepu#/registration
URL:https://www.archaeological.org/event/christian-destruction-and-desecration-of-images-and-temples-of-classical-antiquity/
ORGANIZER;CN="Darcy Tuttle":MAILTO:darcytuttle@berkeley.edu
END:VEVENT
END:VCALENDAR