BEGIN:VCALENDAR
VERSION:2.0
PRODID:-//Archaeological Institute of America - ECPv6.15.20//NONSGML v1.0//EN
CALSCALE:GREGORIAN
METHOD:PUBLISH
X-WR-CALNAME:Archaeological Institute of America
X-ORIGINAL-URL:https://www.archaeological.org
X-WR-CALDESC:Events for Archaeological Institute of America
REFRESH-INTERVAL;VALUE=DURATION:PT1H
X-Robots-Tag:noindex
X-PUBLISHED-TTL:PT1H
BEGIN:VTIMEZONE
TZID:America/New_York
BEGIN:DAYLIGHT
TZOFFSETFROM:-0500
TZOFFSETTO:-0400
TZNAME:EDT
DTSTART:20210314T070000
END:DAYLIGHT
BEGIN:STANDARD
TZOFFSETFROM:-0400
TZOFFSETTO:-0500
TZNAME:EST
DTSTART:20211107T060000
END:STANDARD
BEGIN:DAYLIGHT
TZOFFSETFROM:-0500
TZOFFSETTO:-0400
TZNAME:EDT
DTSTART:20220313T070000
END:DAYLIGHT
BEGIN:STANDARD
TZOFFSETFROM:-0400
TZOFFSETTO:-0500
TZNAME:EST
DTSTART:20221106T060000
END:STANDARD
BEGIN:DAYLIGHT
TZOFFSETFROM:-0500
TZOFFSETTO:-0400
TZNAME:EDT
DTSTART:20230312T070000
END:DAYLIGHT
BEGIN:STANDARD
TZOFFSETFROM:-0400
TZOFFSETTO:-0500
TZNAME:EST
DTSTART:20231105T060000
END:STANDARD
BEGIN:DAYLIGHT
TZOFFSETFROM:-0500
TZOFFSETTO:-0400
TZNAME:EDT
DTSTART:20240310T070000
END:DAYLIGHT
BEGIN:STANDARD
TZOFFSETFROM:-0400
TZOFFSETTO:-0500
TZNAME:EST
DTSTART:20241103T060000
END:STANDARD
BEGIN:DAYLIGHT
TZOFFSETFROM:-0500
TZOFFSETTO:-0400
TZNAME:EDT
DTSTART:20250309T070000
END:DAYLIGHT
BEGIN:STANDARD
TZOFFSETFROM:-0400
TZOFFSETTO:-0500
TZNAME:EST
DTSTART:20251102T060000
END:STANDARD
END:VTIMEZONE
BEGIN:VEVENT
DTSTART;TZID=America/New_York:20240926T173000
DTEND;TZID=America/New_York:20240926T190000
DTSTAMP:20260423T125819
CREATED:20240906T144956Z
LAST-MODIFIED:20240911T184451Z
UID:10007181-1727371800-1727377200@www.archaeological.org
SUMMARY:King Richard III: The Resolution Of A 500 Year Old Cold Case
DESCRIPTION:Charles Eliot Norton Memorial Lectureship \nLight refreshments will be served starting at 5:30 PM\, Lecture to begin at 6:00 PM
URL:https://www.archaeological.org/event/king-richard-iii-the-resolution-of-a-500-year-old-cold-case-3/
LOCATION:USF Tampa\, C. W. Bill Young Hall (CWY) 109\, East Fowler Avenue\, Tampa\, FL\, 33620\, United States
CATEGORIES:AIA Lecture Program
ORGANIZER;CN="Davide Tanasi":MAILTO:dtanasi@usf.edu
GEO:28.0592247;-82.4065663
X-APPLE-STRUCTURED-LOCATION;VALUE=URI;X-ADDRESS=USF Tampa C. W. Bill Young Hall (CWY) 109 East Fowler Avenue Tampa FL 33620 United States;X-APPLE-RADIUS=500;X-TITLE=East Fowler Avenue:geo:-82.4065663,28.0592247
END:VEVENT
BEGIN:VEVENT
DTSTART;TZID=America/New_York:20220412T180000
DTEND;TZID=America/New_York:20220412T180000
DTSTAMP:20260423T125819
CREATED:20210818T164153Z
LAST-MODIFIED:20210825T144507Z
UID:10005715-1649786400-1649786400@www.archaeological.org
SUMMARY:Watching the Hours of the Night: Astronomical Timekeeping in Ancient Egypt
DESCRIPTION:Webster Lecture
URL:https://www.archaeological.org/event/watching-the-hours-of-the-night-astronomical-timekeeping-in-ancient-egypt/
LOCATION:TBA (Tampa 2)\, Tampa\, FL\, United States
CATEGORIES:AIA Lecture Program,Lecture
ORGANIZER;CN="Davide Tanasi":MAILTO:dtanasi@usf.edu
GEO:27.950575;-82.4571776
END:VEVENT
BEGIN:VEVENT
DTSTART;TZID=America/New_York:20220201T180000
DTEND;TZID=America/New_York:20220201T180000
DTSTAMP:20260423T125819
CREATED:20210818T164152Z
LAST-MODIFIED:20220122T044055Z
UID:10005713-1643738400-1643738400@www.archaeological.org
SUMMARY:The Scent of Status: Prestige and Perfume at the Bronze Age Palace at Pylos\, Greece
DESCRIPTION:Howland Lecture
URL:https://www.archaeological.org/event/the-scent-of-status-prestige-and-perfume-at-the-bronze-age-palace-at-pylos-greece/
LOCATION:University of South Florida Tampa Campus\, CPR 115 (Cooper Hall)\, Cooper Hall\, Tampa\, 33620
CATEGORIES:AIA Lecture Program,Lecture
ORGANIZER;CN="Davide Tanasi":MAILTO:dtanasi@usf.edu
GEO:28.0596433;-82.4107975
X-APPLE-STRUCTURED-LOCATION;VALUE=URI;X-ADDRESS=University of South Florida Tampa Campus CPR 115 (Cooper Hall) Cooper Hall Tampa 33620;X-APPLE-RADIUS=500;X-TITLE=Cooper Hall:geo:-82.4107975,28.0596433
END:VEVENT
END:VCALENDAR