BEGIN:VCALENDAR
VERSION:2.0
PRODID:-//Archaeological Institute of America - ECPv6.15.20//NONSGML v1.0//EN
CALSCALE:GREGORIAN
METHOD:PUBLISH
X-WR-CALNAME:Archaeological Institute of America
X-ORIGINAL-URL:https://www.archaeological.org
X-WR-CALDESC:Events for Archaeological Institute of America
REFRESH-INTERVAL;VALUE=DURATION:PT1H
X-Robots-Tag:noindex
X-PUBLISHED-TTL:PT1H
BEGIN:VTIMEZONE
TZID:America/Chicago
BEGIN:DAYLIGHT
TZOFFSETFROM:-0600
TZOFFSETTO:-0500
TZNAME:CDT
DTSTART:20220313T080000
END:DAYLIGHT
BEGIN:STANDARD
TZOFFSETFROM:-0500
TZOFFSETTO:-0600
TZNAME:CST
DTSTART:20221106T070000
END:STANDARD
BEGIN:DAYLIGHT
TZOFFSETFROM:-0600
TZOFFSETTO:-0500
TZNAME:CDT
DTSTART:20230312T080000
END:DAYLIGHT
BEGIN:STANDARD
TZOFFSETFROM:-0500
TZOFFSETTO:-0600
TZNAME:CST
DTSTART:20231105T070000
END:STANDARD
BEGIN:DAYLIGHT
TZOFFSETFROM:-0600
TZOFFSETTO:-0500
TZNAME:CDT
DTSTART:20240310T080000
END:DAYLIGHT
BEGIN:STANDARD
TZOFFSETFROM:-0500
TZOFFSETTO:-0600
TZNAME:CST
DTSTART:20241103T070000
END:STANDARD
END:VTIMEZONE
BEGIN:VEVENT
DTSTART;TZID=America/Chicago:20230216T190000
DTEND;TZID=America/Chicago:20230216T203000
DTSTAMP:20260421T055226
CREATED:20230208T152443Z
LAST-MODIFIED:20230208T152501Z
UID:10006806-1676574000-1676579400@www.archaeological.org
SUMMARY:Collapse of the Ancient City of Teotihuacan: A View from the Suburbs
DESCRIPTION:The Archaeological Institute of America’s Iowa Society welcomes Dr. Andrew Somerville (Iowa State University\, Dept of World Languages and Cultures) and Dr. Marion Forest (PaleoWest Archaeology and Arizona State University) who will present “Collapse of the Ancient City of Teotihuacan: A View from the Suburbs”. This is a live\, virtual presentation (7:00 PM central time) with time for Q&A from participating audience members at the end. \nAbstract: Between approximately A.D. 1-550\, the ancient city of Teotihuacan was one of the largest and most influential cities in the world. Located just north of Mexico City\, Teotihuacan is a UNESCO World Heritage Site and is the most visited tourist attraction in Mexico today. Despite containing a population of about 100\,000 people for over five centuries\, the state of Teotihuacan underwent a collapse at around A.D. 500 and the urban population fell by up to 80%. For decades\, scholars have debated the causes for Teotihuacan’s decline\, invoking various factors including climate change\, invasion\, and revolt. This paper reviews evidence for the collapse of Teotihuacan and discusses our new excavations at the suburban neighborhood of Hacienda Metepec\, a residential and ceremonial center on the eastern edge of the city that was occupied before and after the collapse. \nPlease register in advance: https://uiowa.zoom.us/meeting/register/tJIqdeGrrjIqHdIf-CA6iY6-PlKZxhawBmYO#/registration
URL:https://www.archaeological.org/event/collapse-of-the-ancient-city-of-teotihuacan-a-view-from-the-suburbs/
ATTACH;FMTTYPE=image/jpeg:https://www.archaeological.org/wp-content/uploads/2023/02/somerville-flyer.jpg
ORGANIZER;CN="Deb Trusty":MAILTO:aiaiowasociety@gmail.com or debra-trusty@uiowa.edu
END:VEVENT
END:VCALENDAR