BEGIN:VCALENDAR
VERSION:2.0
PRODID:-//Archaeological Institute of America - ECPv6.15.20//NONSGML v1.0//EN
CALSCALE:GREGORIAN
METHOD:PUBLISH
X-ORIGINAL-URL:https://www.archaeological.org
X-WR-CALDESC:Events for Archaeological Institute of America
REFRESH-INTERVAL;VALUE=DURATION:PT1H
X-Robots-Tag:noindex
X-PUBLISHED-TTL:PT1H
BEGIN:VTIMEZONE
TZID:America/New_York
BEGIN:DAYLIGHT
TZOFFSETFROM:-0500
TZOFFSETTO:-0400
TZNAME:EDT
DTSTART:20210314T070000
END:DAYLIGHT
BEGIN:STANDARD
TZOFFSETFROM:-0400
TZOFFSETTO:-0500
TZNAME:EST
DTSTART:20211107T060000
END:STANDARD
BEGIN:DAYLIGHT
TZOFFSETFROM:-0500
TZOFFSETTO:-0400
TZNAME:EDT
DTSTART:20220313T070000
END:DAYLIGHT
BEGIN:STANDARD
TZOFFSETFROM:-0400
TZOFFSETTO:-0500
TZNAME:EST
DTSTART:20221106T060000
END:STANDARD
BEGIN:DAYLIGHT
TZOFFSETFROM:-0500
TZOFFSETTO:-0400
TZNAME:EDT
DTSTART:20230312T070000
END:DAYLIGHT
BEGIN:STANDARD
TZOFFSETFROM:-0400
TZOFFSETTO:-0500
TZNAME:EST
DTSTART:20231105T060000
END:STANDARD
BEGIN:DAYLIGHT
TZOFFSETFROM:-0500
TZOFFSETTO:-0400
TZNAME:EDT
DTSTART:20240310T070000
END:DAYLIGHT
BEGIN:STANDARD
TZOFFSETFROM:-0400
TZOFFSETTO:-0500
TZNAME:EST
DTSTART:20241103T060000
END:STANDARD
BEGIN:DAYLIGHT
TZOFFSETFROM:-0500
TZOFFSETTO:-0400
TZNAME:EDT
DTSTART:20250309T070000
END:DAYLIGHT
BEGIN:STANDARD
TZOFFSETFROM:-0400
TZOFFSETTO:-0500
TZNAME:EST
DTSTART:20251102T060000
END:STANDARD
BEGIN:DAYLIGHT
TZOFFSETFROM:-0500
TZOFFSETTO:-0400
TZNAME:EDT
DTSTART:20260308T070000
END:DAYLIGHT
BEGIN:STANDARD
TZOFFSETFROM:-0400
TZOFFSETTO:-0500
TZNAME:EST
DTSTART:20261101T060000
END:STANDARD
END:VTIMEZONE
BEGIN:VEVENT
DTSTART;TZID=America/New_York:20250906T103000
DTEND;TZID=America/New_York:20250906T120000
DTSTAMP:20260421T104305
CREATED:20250813T154038Z
LAST-MODIFIED:20250922T124105Z
UID:10008496-1757154600-1757160000@www.archaeological.org
SUMMARY:Dr. Zoë Kontes (Kenyon College)\, Looting Antiquity: Greece’s Lost Marbles
DESCRIPTION:The Parthenon Marbles may be the most famous sculptures removed from an ancient Greek building\, but they are far from the only ones. Marble sculptures from the Temple of Aphaia on the island of Aegina and the mountaintop Temple of Apollo at Bassae were spirited away and sold at auction in the 19th century; they have remained abroad ever since. This talk will discuss the adventures the sculptures have had in their modern history\, consider the important question of where they belong\, and review the current state of looting in Greece. \nPlease note: this is an in-person event only and it will not be streamed or recorded.
URL:https://www.archaeological.org/event/looting-antiquity-greeces-lost-marbles/
CATEGORIES:AIA Lecture Program
ATTACH;FMTTYPE=image/jpeg:https://www.archaeological.org/wp-content/uploads/2025/08/CockerellBassae.jpg
ORGANIZER;CN="Dorian Borbonus":MAILTO:aiadaytonsociety@gmail.com
END:VEVENT
BEGIN:VEVENT
DTSTART;TZID=America/New_York:20240120T103000
DTEND;TZID=America/New_York:20240120T120000
DTSTAMP:20260421T104305
CREATED:20231214T145708Z
LAST-MODIFIED:20250814T221934Z
UID:10007059-1705746600-1705752000@www.archaeological.org
SUMMARY:From Fish Skin Bags to Coconut Fiber Armor: Revitalizing Anthropological Collections in an Era of Climate Change
DESCRIPTION:A lecture by Amy Margaris\, Oberlin College \nSpecimen collecting was a cornerstone of 19th century science and anthropology. 150 years later anthropological collections can still be found at many colleges\, lingering in closets or forgotten on storeroom shelves. Using cultural heritage items at Oberlin College as my starting point\, I’ll explore the question: What use are they today\, and for whom?
URL:https://www.archaeological.org/event/from-fish-skin-bags-to-coconut-fiber-armor-revitalizing-anthropological-collections-in-an-era-of-climate-change/
LOCATION:University of Dayton\, 300 College Drive Ave\, SC 114\, Dayton\, OH\, 45469\, United States
CATEGORIES:Lecture
ATTACH;FMTTYPE=image/jpeg:https://www.archaeological.org/wp-content/uploads/2023/12/20170522_141836.jpg
ORGANIZER;CN="Dorian Borbonus":MAILTO:aiadaytonsociety@gmail.com
GEO:40.4172871;-82.907123
X-APPLE-STRUCTURED-LOCATION;VALUE=URI;X-ADDRESS=University of Dayton 300 College Drive Ave SC 114 Dayton OH 45469 United States;X-APPLE-RADIUS=500;X-TITLE=300 College Drive Ave\, SC 114:geo:-82.907123,40.4172871
END:VEVENT
BEGIN:VEVENT
DTSTART;TZID=America/New_York:20230415T103000
DTEND;TZID=America/New_York:20230415T120000
DTSTAMP:20260421T104305
CREATED:20230324T161808Z
LAST-MODIFIED:20250814T221425Z
UID:10006835-1681554600-1681560000@www.archaeological.org
SUMMARY:Finding Lost\, Stolen\, and Kidnapped Children in Indian Boarding School Cemeteries Using Multi-Instrument Geophysical Survey: Chemawa Indian Boarding School
DESCRIPTION:The final presentation in the Archaeological Institute of America’s Dayton Society 2022-2023 Lecture Series presented by Northern Cheyenne Tribe citizen Marsha Small\, M.A. from Montana State University and Dr. Jarrod Burks from Ohio Valley Archaeology\, Inc. \nSince 2016 Marsha Small and Jarrod Burks have been conducting geophysical investigations to identify the locations of over 200 unmarked burials at the Chemawa Boarding School in Salem\, OR. The school originally opened in 1880 and today is one of four remaining off-reservation boarding schools funded and operated by the federal Bureau of Indian Education (BIE). From the 1880s to about 1940 students who died at the school were buried in the school cemetery. Disturbances in the cemetery had by 1960 removed any grave markers that were there and since then new markers were placed to create a memorial garden\, though those markers did not mark actual grave locations. \nThis lecture is currently scheduled to take place in person in the Science Center Auditorium (SC 114) at The University of Dayton. \nFor those planning to attend in person please see info on UD’s guidance on face coverings here: https://udayton.edu/coronavirus/frequently_asked_questions.php#face_coverings \nFor a campus map with building and parking information visit https://udayton.edu/map/ \nThanks to the Archaeological Institute of America’s Lecture Program and its Dayton Society members this lecture is free and open to the public.
URL:https://www.archaeological.org/event/finding-lost-stolen-and-kidnapped-children-in-indian-boarding-school-cemeteries-using-multi-instrument-geophysical-survey-chemawa-indian-boarding-school/
LOCATION:Science Center Auditorium (SC 114) at The University of Dayton.\, 450 East Stewart St\, Dayton\, OH\, 45409\, United States
CATEGORIES:Lecture
ATTACH;FMTTYPE=image/jpeg:https://www.archaeological.org/wp-content/uploads/2023/03/Chemawa.jpg
ORGANIZER;CN="Dorian Borbonus":MAILTO:aiadaytonsociety@gmail.com
GEO:39.7411935;-84.1762138
X-APPLE-STRUCTURED-LOCATION;VALUE=URI;X-ADDRESS=Science Center Auditorium (SC 114) at The University of Dayton. 450 East Stewart St Dayton OH 45409 United States;X-APPLE-RADIUS=500;X-TITLE=450 East Stewart St:geo:-84.1762138,39.7411935
END:VEVENT
BEGIN:VEVENT
DTSTART;TZID=America/New_York:20221112T103000
DTEND;TZID=America/New_York:20221112T103000
DTSTAMP:20260421T104305
CREATED:20221017T131129Z
LAST-MODIFIED:20221017T131149Z
UID:10006140-1668249000-1668249000@www.archaeological.org
SUMMARY:Pour One out for Me: Libations in Roman Funerary Commemoration
DESCRIPTION:Lecturer: Liana Brent\, Visiting Assistant Professor of Classics at Kenyon College
URL:https://www.archaeological.org/event/pour-one-out-for-me-libations-in-roman-funerary-commemoration/
LOCATION:University of Dayton\, Science Center Auditorium\, 300 College Park Ave\, Dayton\, OH\, 45469
CATEGORIES:Lecture
ORGANIZER;CN="Dorian Borbonus":MAILTO:aiadaytonsociety@gmail.com
GEO:39.7401831;-84.1790199
X-APPLE-STRUCTURED-LOCATION;VALUE=URI;X-ADDRESS=University of Dayton Science Center Auditorium 300 College Park Ave Dayton OH 45469;X-APPLE-RADIUS=500;X-TITLE=300 College Park Ave:geo:-84.1790199,39.7401831
END:VEVENT
END:VCALENDAR