BEGIN:VCALENDAR
VERSION:2.0
PRODID:-//Archaeological Institute of America - ECPv6.15.20//NONSGML v1.0//EN
CALSCALE:GREGORIAN
METHOD:PUBLISH
X-ORIGINAL-URL:https://www.archaeological.org
X-WR-CALDESC:Events for Archaeological Institute of America
REFRESH-INTERVAL;VALUE=DURATION:PT1H
X-Robots-Tag:noindex
X-PUBLISHED-TTL:PT1H
BEGIN:VTIMEZONE
TZID:America/New_York
BEGIN:DAYLIGHT
TZOFFSETFROM:-0500
TZOFFSETTO:-0400
TZNAME:EDT
DTSTART:20200308T070000
END:DAYLIGHT
BEGIN:STANDARD
TZOFFSETFROM:-0400
TZOFFSETTO:-0500
TZNAME:EST
DTSTART:20201101T060000
END:STANDARD
BEGIN:DAYLIGHT
TZOFFSETFROM:-0500
TZOFFSETTO:-0400
TZNAME:EDT
DTSTART:20210314T070000
END:DAYLIGHT
BEGIN:STANDARD
TZOFFSETFROM:-0400
TZOFFSETTO:-0500
TZNAME:EST
DTSTART:20211107T060000
END:STANDARD
BEGIN:DAYLIGHT
TZOFFSETFROM:-0500
TZOFFSETTO:-0400
TZNAME:EDT
DTSTART:20220313T070000
END:DAYLIGHT
BEGIN:STANDARD
TZOFFSETFROM:-0400
TZOFFSETTO:-0500
TZNAME:EST
DTSTART:20221106T060000
END:STANDARD
END:VTIMEZONE
BEGIN:VEVENT
DTSTART;TZID=America/New_York:20211016T160000
DTEND;TZID=America/New_York:20211016T173000
DTSTAMP:20260424T143210
CREATED:20210910T150502Z
LAST-MODIFIED:20210910T150637Z
UID:10005808-1634400000-1634405400@www.archaeological.org
SUMMARY:The Dirt Podcast LIVE! - Let's Call It a Ritual Object
DESCRIPTION:We all know the old joke: archaeologists find something\, can’t figure out its purpose\, and decide it must have a “ritual function.” But what’s the real story when it comes to exploring ritual in the archaeological record? In this special live recording of The Dirt\, Anna and Amber tackle that very question by exploring the theory that informs ritual\, before doing a roundup of sites and studies that give us a glimpse into a different side of people’s lives in other times and places. \nAfter the show\, the hosts will hang around for a Q&A about the episode’s topic\, science communication\, podcasting\, and ways to get involved in archaeology no matter your age or background. Learn more about The Dirt Podcast at: thedirtpod.com
URL:https://www.archaeological.org/event/the-dirt-podcast-live-lets-call-it-a-ritual-object/
CATEGORIES:International Archaeology Day
ATTACH;FMTTYPE=image/jpeg:https://www.archaeological.org/wp-content/uploads/2021/09/AIA_Banner.jpeg
ORGANIZER;CN="Dr. Anna Goldfield":MAILTO:thedirtpodcast@gmail.com
END:VEVENT
END:VCALENDAR