BEGIN:VCALENDAR
VERSION:2.0
PRODID:-//Archaeological Institute of America - ECPv6.15.20//NONSGML v1.0//EN
CALSCALE:GREGORIAN
METHOD:PUBLISH
X-WR-CALNAME:Archaeological Institute of America
X-ORIGINAL-URL:https://www.archaeological.org
X-WR-CALDESC:Events for Archaeological Institute of America
REFRESH-INTERVAL;VALUE=DURATION:PT1H
X-Robots-Tag:noindex
X-PUBLISHED-TTL:PT1H
BEGIN:VTIMEZONE
TZID:America/Denver
BEGIN:DAYLIGHT
TZOFFSETFROM:-0700
TZOFFSETTO:-0600
TZNAME:MDT
DTSTART:20200308T090000
END:DAYLIGHT
BEGIN:STANDARD
TZOFFSETFROM:-0600
TZOFFSETTO:-0700
TZNAME:MST
DTSTART:20201101T080000
END:STANDARD
BEGIN:DAYLIGHT
TZOFFSETFROM:-0700
TZOFFSETTO:-0600
TZNAME:MDT
DTSTART:20210314T090000
END:DAYLIGHT
BEGIN:STANDARD
TZOFFSETFROM:-0600
TZOFFSETTO:-0700
TZNAME:MST
DTSTART:20211107T080000
END:STANDARD
BEGIN:DAYLIGHT
TZOFFSETFROM:-0700
TZOFFSETTO:-0600
TZNAME:MDT
DTSTART:20220313T090000
END:DAYLIGHT
BEGIN:STANDARD
TZOFFSETFROM:-0600
TZOFFSETTO:-0700
TZNAME:MST
DTSTART:20221106T080000
END:STANDARD
END:VTIMEZONE
BEGIN:VEVENT
DTSTART;TZID=America/Denver:20211015T120000
DTEND;TZID=America/Denver:20211015T133000
DTSTAMP:20260424T183719
CREATED:20210930T214902Z
LAST-MODIFIED:20210930T215202Z
UID:10006108-1634299200-1634304600@www.archaeological.org
SUMMARY:Terrace Utah\, Population 0
DESCRIPTION:Join us for this live\, interactive presentation on Zoom! \nHustling and bustling to starkly quiet\, the life of one of Utah’s largest railroad towns of the 1870s-1890s remains part of the historical and archaeological record. \nArchaeologists with the Utah State Historic Preservation Office and the Bureau of Land Management partnered with the Chinese Railroad Workers’ Descendants Association to complete two seasons of fieldwork at the town of Terrace\, home to Utah’s third largest Chinatown in 1870. Though ravaged by time and vandals\, the archaeological heritage of this site is rich and helping connect living peoples to this past experience. In honor of International Archaeology Day\, this presentation will honor of the voices of those past residents of Terrace through the Chinese descendant community\, archaeological discoveries\, and work of numerous volunteers.
URL:https://www.archaeological.org/event/terrace-utah-population-0/
LOCATION:online\, Portugal\, Maia\, AK\, 0000\, Egypt
CATEGORIES:Education,International Archaeology Day
ATTACH;FMTTYPE=image/jpeg:https://www.archaeological.org/wp-content/uploads/2021/09/Terrace-FB-Twitter-1-1.jpg
ORGANIZER;CN="Elizabeth Hora":MAILTO:ehora@utah.gov
GEO:51.5073509;-0.1277583
X-APPLE-STRUCTURED-LOCATION;VALUE=URI;X-ADDRESS=online Portugal Maia AK 0000 Egypt;X-APPLE-RADIUS=500;X-TITLE=Portugal:geo:-0.1277583,51.5073509
END:VEVENT
BEGIN:VEVENT
DTSTART;TZID=America/Denver:20210930T080000
DTEND;TZID=America/Denver:20210930T170000
DTSTAMP:20260424T183719
CREATED:20211001T171926Z
LAST-MODIFIED:20211001T171926Z
UID:10006118-1632988800-1633021200@www.archaeological.org
SUMMARY:Terrace Utah\, Population 0
DESCRIPTION:Join us for our online webinar event! \nUtah’s desert sands have buried incredible stories – now it’s time to uncover what has been lost. \nHustling and bustling to starkly quiet\, the life of one of Utah’s largest railroad towns of the 1870s-1890s remains part of the historical and archaeological record. \nArchaeologists with the Utah State Historic Preservation Office and the Bureau of Land Management partnered with the Chinese Railroad Workers’ Descendants Association to complete two seasons of fieldwork at the town of Terrace\, home to Utah’s third largest Chinatown in 1870. Though ravaged by time and vandals\, the archaeological heritage of this site is rich and helping connect living peoples to this past experience. In honor of International Archaeology Day\, this presentation will honor of the voices of those past residents of Terrace through the Chinese descendant community\, archaeological discoveries\, and work of numerous volunteers. \nYou can register for this event by clicking the button below.
URL:https://www.archaeological.org/event/terrace-utah-population-0-2/
LOCATION:online\, Portugal\, Maia\, AK\, 0000\, Egypt
CATEGORIES:Education
ATTACH;FMTTYPE=image/jpeg:https://www.archaeological.org/wp-content/uploads/2021/09/Terrace-FB-Twitter-1.jpg
ORGANIZER;CN="Elizabeth Hora":MAILTO:ehora@utah.gov
GEO:51.5073509;-0.1277583
X-APPLE-STRUCTURED-LOCATION;VALUE=URI;X-ADDRESS=online Portugal Maia AK 0000 Egypt;X-APPLE-RADIUS=500;X-TITLE=Portugal:geo:-0.1277583,51.5073509
END:VEVENT
END:VCALENDAR