BEGIN:VCALENDAR
VERSION:2.0
PRODID:-//Archaeological Institute of America - ECPv6.15.20//NONSGML v1.0//EN
CALSCALE:GREGORIAN
METHOD:PUBLISH
X-WR-CALNAME:Archaeological Institute of America
X-ORIGINAL-URL:https://www.archaeological.org
X-WR-CALDESC:Events for Archaeological Institute of America
REFRESH-INTERVAL;VALUE=DURATION:PT1H
X-Robots-Tag:noindex
X-PUBLISHED-TTL:PT1H
BEGIN:VTIMEZONE
TZID:America/Chicago
BEGIN:DAYLIGHT
TZOFFSETFROM:-0600
TZOFFSETTO:-0500
TZNAME:CDT
DTSTART:20200308T080000
END:DAYLIGHT
BEGIN:STANDARD
TZOFFSETFROM:-0500
TZOFFSETTO:-0600
TZNAME:CST
DTSTART:20201101T070000
END:STANDARD
BEGIN:DAYLIGHT
TZOFFSETFROM:-0600
TZOFFSETTO:-0500
TZNAME:CDT
DTSTART:20210314T080000
END:DAYLIGHT
BEGIN:STANDARD
TZOFFSETFROM:-0500
TZOFFSETTO:-0600
TZNAME:CST
DTSTART:20211107T070000
END:STANDARD
BEGIN:DAYLIGHT
TZOFFSETFROM:-0600
TZOFFSETTO:-0500
TZNAME:CDT
DTSTART:20220313T080000
END:DAYLIGHT
BEGIN:STANDARD
TZOFFSETFROM:-0500
TZOFFSETTO:-0600
TZNAME:CST
DTSTART:20221106T070000
END:STANDARD
END:VTIMEZONE
BEGIN:VEVENT
DTSTART;TZID=America/Chicago:20211017T123000
DTEND;TZID=America/Chicago:20211017T163000
DTSTAMP:20260424T054453
CREATED:20211004T194027Z
LAST-MODIFIED:20211004T194027Z
UID:10006130-1634473800-1634488200@www.archaeological.org
SUMMARY:"Four Hour Field School" An OKPAN Archaeological Skills Workshop
DESCRIPTION:Oklahoma Archaeology Month has arrived\, and with it\, OKPAN’s October Archaeological Skills Workshop! Please join us Sunday\, October 17\, from 12:30 to 4:30 PM) to learn four different archaeological skills. This workshop is open to anyone who cares about caring for cultural heritage – no experience required – and it is a perfect opportunity for students and members of the public to sample what archaeologists do in the field. Attendees will learn how to participate in archaeological survey\, set up an excavation unit\, illustrate soil profiles\, and clean and refit artifacts\, all in a single afternoon!
URL:https://www.archaeological.org/event/four-hour-field-school-an-okpan-archaeological-skills-workshop/
LOCATION:Cleveland County Fairgrounds\, 615 E. Robinson St.\, Norman\, OK\, 73071\, United States
CATEGORIES:International Archaeology Day
ATTACH;FMTTYPE=image/png:https://www.archaeological.org/wp-content/uploads/2021/10/Four-Hour-Field-School-2.png
ORGANIZER;CN="Ella Crenshaw":MAILTO:ecrenshaw@ou.edu
GEO:35.233313;-97.437008
X-APPLE-STRUCTURED-LOCATION;VALUE=URI;X-ADDRESS=Cleveland County Fairgrounds 615 E. Robinson St. Norman OK 73071 United States;X-APPLE-RADIUS=500;X-TITLE=615 E. Robinson St.:geo:-97.437008,35.233313
END:VEVENT
END:VCALENDAR