BEGIN:VCALENDAR
VERSION:2.0
PRODID:-//Archaeological Institute of America - ECPv6.15.20//NONSGML v1.0//EN
CALSCALE:GREGORIAN
METHOD:PUBLISH
X-ORIGINAL-URL:https://www.archaeological.org
X-WR-CALDESC:Events for Archaeological Institute of America
REFRESH-INTERVAL;VALUE=DURATION:PT1H
X-Robots-Tag:noindex
X-PUBLISHED-TTL:PT1H
BEGIN:VTIMEZONE
TZID:America/New_York
BEGIN:DAYLIGHT
TZOFFSETFROM:-0500
TZOFFSETTO:-0400
TZNAME:EDT
DTSTART:20230312T070000
END:DAYLIGHT
BEGIN:STANDARD
TZOFFSETFROM:-0400
TZOFFSETTO:-0500
TZNAME:EST
DTSTART:20231105T060000
END:STANDARD
BEGIN:DAYLIGHT
TZOFFSETFROM:-0500
TZOFFSETTO:-0400
TZNAME:EDT
DTSTART:20240310T070000
END:DAYLIGHT
BEGIN:STANDARD
TZOFFSETFROM:-0400
TZOFFSETTO:-0500
TZNAME:EST
DTSTART:20241103T060000
END:STANDARD
BEGIN:DAYLIGHT
TZOFFSETFROM:-0500
TZOFFSETTO:-0400
TZNAME:EDT
DTSTART:20250309T070000
END:DAYLIGHT
BEGIN:STANDARD
TZOFFSETFROM:-0400
TZOFFSETTO:-0500
TZNAME:EST
DTSTART:20251102T060000
END:STANDARD
BEGIN:DAYLIGHT
TZOFFSETFROM:-0500
TZOFFSETTO:-0400
TZNAME:EDT
DTSTART:20260308T070000
END:DAYLIGHT
BEGIN:STANDARD
TZOFFSETFROM:-0400
TZOFFSETTO:-0500
TZNAME:EST
DTSTART:20261101T060000
END:STANDARD
BEGIN:DAYLIGHT
TZOFFSETFROM:-0500
TZOFFSETTO:-0400
TZNAME:EDT
DTSTART:20270314T070000
END:DAYLIGHT
BEGIN:STANDARD
TZOFFSETFROM:-0400
TZOFFSETTO:-0500
TZNAME:EST
DTSTART:20271107T060000
END:STANDARD
END:VTIMEZONE
BEGIN:VEVENT
DTSTART;TZID=America/New_York:20260312T183000
DTEND;TZID=America/New_York:20260312T200000
DTSTAMP:20260422T141427
CREATED:20260130T165313Z
LAST-MODIFIED:20260130T170118Z
UID:10008835-1773340200-1773345600@www.archaeological.org
SUMMARY:Prof. Debby Sneed\, Assistant Professor of Classics\, California State University\, Long Beach\, "Disability and the Greek Ideal:  A Case Study in Marble"
DESCRIPTION:The study of Greek art is heavily influenced by the notion of the ideal and idealized human body\, which has long been assumed to exclude aspects of bodily difference and disability. In this talk\, I consider a collection of 6th century BCE sculptures of maidens (korai) that were found on the Athenian Acropolis. As traditionally interpreted\, these statues all stood together as representations of the feminine ideal in Greek art\, but scholars tend to separate one maiden from her sisters because her body does not fit into modern definitions of beauty. By returning her to her rightful place in this collection\, I present a reassessment of Greek sculptural ideals and\, with it\, of our understandings of Greek art\, display\, and dedication in late 6th century BCE Athens.
URL:https://www.archaeological.org/event/disability-and-the-greek-ideal-a-case-study-in-marble/
LOCATION:College of the Holy Cross\, Hogan Campus Center\, Room 401 (an accessible space)\, 1 College Street\, Worcester\, MA\, 01610\, United States
CATEGORIES:Lecture
ORGANIZER;CN="Ellen Perry":MAILTO:eperry@holycross.edu
GEO:42.2367466;-71.8101878
X-APPLE-STRUCTURED-LOCATION;VALUE=URI;X-ADDRESS=College of the Holy Cross Hogan Campus Center Room 401 (an accessible space) 1 College Street Worcester MA 01610 United States;X-APPLE-RADIUS=500;X-TITLE=1 College Street:geo:-71.8101878,42.2367466
END:VEVENT
BEGIN:VEVENT
DTSTART;TZID=America/New_York:20251118T160000
DTEND;TZID=America/New_York:20251118T170000
DTSTAMP:20260422T141427
CREATED:20250620T142421Z
LAST-MODIFIED:20250620T142421Z
UID:10008045-1763481600-1763485200@www.archaeological.org
SUMMARY:Professor Amy Gansell\, "The Queens of Nimrud’s Northwest Palace: Beauty\, Power\, and Presence in the Neo-Assyrian World\, c. 865–705 BCE"
DESCRIPTION:Nearly three thousand years ago\, at the ancient site of Nimrud (near modern Mosul\, Iraq)\, a succession of ten Neo-Assyrian kings reigned in collaboration with their queens from the magnificence of the Northwest Palace\, the seat of the empire and center of their world. Too often overshadowed by the well documented legacy of Neo-Assyrian kings\, Professor Gansell will shed light on the queens who reigned with them. Piece by piece\, and layer by layer\, across about 150 years of evidence\, Professor Gansell discovers the beauty\, power\, and presence of Nimrud’s Northwest Palace queens in life\, death\, and for eternity.
URL:https://www.archaeological.org/event/professor-amy-gansell-the-queens-of-nimruds-northwest-palace-beauty-power-and-presence-in-the-neo-assyrian-world-c-865-705-bce/
CATEGORIES:AIA Lecture Program
ORGANIZER;CN="Ellen Perry":MAILTO:eperry@holycross.edu
END:VEVENT
BEGIN:VEVENT
DTSTART;TZID=America/New_York:20250324T183000
DTEND;TZID=America/New_York:20250324T193000
DTSTAMP:20260422T141427
CREATED:20250226T141917Z
LAST-MODIFIED:20250305T212243Z
UID:10007584-1742841000-1742844600@www.archaeological.org
SUMMARY:Drunken Women with Spears? Funerary Practices and Female Identity in Pre-Roman Apulia
DESCRIPTION:
URL:https://www.archaeological.org/event/drunken-women-with-spears-funerary-practices-and-female-identity-in-pre-roman-apulia-2/
LOCATION:College of the Holy Cross\, Rehm Library\, 1 College Street\, Worcester\, MA\, 01610\, United States
CATEGORIES:AIA Lecture Program,Lecture
ORGANIZER;CN="Ellen Perry":MAILTO:eperry@holycross.edu
GEO:42.2628113;-71.8024931
X-APPLE-STRUCTURED-LOCATION;VALUE=URI;X-ADDRESS=College of the Holy Cross Rehm Library 1 College Street Worcester MA 01610 United States;X-APPLE-RADIUS=500;X-TITLE=1 College Street:geo:-71.8024931,42.2628113
END:VEVENT
BEGIN:VEVENT
DTSTART;TZID=America/New_York:20241031T190000
DTEND;TZID=America/New_York:20241031T203000
DTSTAMP:20260422T141427
CREATED:20240916T142657Z
LAST-MODIFIED:20240916T142657Z
UID:10007206-1730401200-1730406600@www.archaeological.org
SUMMARY:“Hercules and Holy Water” (Professor Ann Glennie)
DESCRIPTION:While in the common imagination\, Hercules might be most well known for his heroic deeds and feats of strength\, across the ancient Mediterranean he was also a deity closely associated with fresh water. In one of his canonical labors in Greece\, he dug canals to redirect the Alpheus and Peneus rivers to clean out the notoriously filthy stables of Augeus. In yet another Greek labor\, he cleared the deadly birds from the banks of the Stymphalian Lake to make this body of water and the surrounding countryside safe to its inhabitants once more. During his exploits in Italy\, he was responsible for the creation of several freshwater springs across the peninsula. And even the story of his defeat of the monster Cacus in the area which would become Rome’s Forum Boarium\, or cattle market\, reveals his long term connection with the economically important Tiber River. At the colony of Cosa\, founded by the Romans in southern Tuscany in 273 BCE\, Hercules was also a crucial figure. This settlement had no natural source of water and therefore utilized rainwater harvesting to provide this vital resource to the colony. The colony’s chief temple\, which had its own water cistern\, appears to have been dedicated to Hercules\, in part because of his freshwater associations\, if not also for his association with salubrity via water.
URL:https://www.archaeological.org/event/hercules-and-holy-water-professor-ann-glennie/
LOCATION:College of the Holy Cross\, Smith Labs 154 (Fauci Integrated Science Complex)\, College Street\, Worcester\, Massachusetts\, 01610\, United States
CATEGORIES:Lecture
ORGANIZER;CN="Ellen Perry":MAILTO:eperry@holycross.edu
GEO:42.2398591;-71.8087193
X-APPLE-STRUCTURED-LOCATION;VALUE=URI;X-ADDRESS=College of the Holy Cross Smith Labs 154 (Fauci Integrated Science Complex) College Street Worcester Massachusetts 01610 United States;X-APPLE-RADIUS=500;X-TITLE=College Street:geo:-71.8087193,42.2398591
END:VEVENT
END:VCALENDAR