BEGIN:VCALENDAR
VERSION:2.0
PRODID:-//Archaeological Institute of America - ECPv6.15.20//NONSGML v1.0//EN
CALSCALE:GREGORIAN
METHOD:PUBLISH
X-WR-CALNAME:Archaeological Institute of America
X-ORIGINAL-URL:https://www.archaeological.org
X-WR-CALDESC:Events for Archaeological Institute of America
REFRESH-INTERVAL;VALUE=DURATION:PT1H
X-Robots-Tag:noindex
X-PUBLISHED-TTL:PT1H
BEGIN:VTIMEZONE
TZID:America/New_York
BEGIN:DAYLIGHT
TZOFFSETFROM:-0500
TZOFFSETTO:-0400
TZNAME:EDT
DTSTART:20200308T070000
END:DAYLIGHT
BEGIN:STANDARD
TZOFFSETFROM:-0400
TZOFFSETTO:-0500
TZNAME:EST
DTSTART:20201101T060000
END:STANDARD
BEGIN:DAYLIGHT
TZOFFSETFROM:-0500
TZOFFSETTO:-0400
TZNAME:EDT
DTSTART:20210314T070000
END:DAYLIGHT
BEGIN:STANDARD
TZOFFSETFROM:-0400
TZOFFSETTO:-0500
TZNAME:EST
DTSTART:20211107T060000
END:STANDARD
BEGIN:DAYLIGHT
TZOFFSETFROM:-0500
TZOFFSETTO:-0400
TZNAME:EDT
DTSTART:20220313T070000
END:DAYLIGHT
BEGIN:STANDARD
TZOFFSETFROM:-0400
TZOFFSETTO:-0500
TZNAME:EST
DTSTART:20221106T060000
END:STANDARD
END:VTIMEZONE
BEGIN:VEVENT
DTSTART;TZID=America/New_York:20211126T110000
DTEND;TZID=America/New_York:20211126T160000
DTSTAMP:20260423T130132
CREATED:20211115T145053Z
LAST-MODIFIED:20211115T145053Z
UID:10005875-1637924400-1637942400@www.archaeological.org
SUMMARY:Mediterranean Marketplaces: Connecting the Ancient World exhibition opens to the public
DESCRIPTION:On Friday\, November 26\, the Harvard Museums of Science & Culture—the Harvard Museum of Natural History\, the Peabody Museum of Archaeology & Ethnology\, the Harvard Museum of the Ancient Near East\, and the Collection of Historical Scientific Instruments—reopen to the public. See https://bit.ly/HMSCExhibitions for hours and reservations. \nMuch like today\, ancient “consumers” were connected to distant markets. Both basic and precious goods from faraway lands “shipped” to royal palaces\, elite estates—sometimes even rural households—and technological advances in craftsmanship and commerce transcended boundaries of language\, religion\, or culture to spread rapidly. Mediterranean Marketplaces explores how the movement of goods\, peoples\, and ideas around the ancient Mediterranean transformed the lives and livelihoods of people at all levels of society\, driving innovations that had lasting impacts—even on the modern world. See https://bit.ly/HMSCExhibitions for hours and reservations. \nImage credit: Harvard Museum of the Ancient Near East 1902.16.3 © President and Fellows of Harvard College
URL:https://www.archaeological.org/event/mediterranean-marketplaces-connecting-the-ancient-world-exhibition-opens-to-the-public/
LOCATION:Harvard Museum of the Ancient Near East\, 6 Divinity Avenue\, Cambridge\, MA\, 02138\, United States
CATEGORIES:Exhibition
ATTACH;FMTTYPE=image/jpeg:https://www.archaeological.org/wp-content/uploads/2021/11/med_mkt_boat_event.jpg
ORGANIZER;CN="Harvard Museums of Science &amp%3Bamp%3B Culture":MAILTO:hmscpr@hmsc.harvard.edu
GEO:42.3780714;-71.1139248
X-APPLE-STRUCTURED-LOCATION;VALUE=URI;X-ADDRESS=Harvard Museum of the Ancient Near East 6 Divinity Avenue Cambridge MA 02138 United States;X-APPLE-RADIUS=500;X-TITLE=6 Divinity Avenue:geo:-71.1139248,42.3780714
END:VEVENT
BEGIN:VEVENT
DTSTART;TZID=America/New_York:20211126T090000
DTEND;TZID=America/New_York:20211126T170000
DTSTAMP:20260423T130132
CREATED:20211117T133929Z
LAST-MODIFIED:20211117T133929Z
UID:10006212-1637917200-1637946000@www.archaeological.org
SUMMARY:Muchos Méxicos: Crossroads of the Americas exhibition opens to the public
DESCRIPTION:On Friday\, November 26\, the Harvard Museums of Science & Culture—the Harvard Museum of Natural History\, the Peabody Museum of Archaeology & Ethnology\, the Harvard Museum of the Ancient Near East\, and the Collection of Historical Scientific Instruments—reopen to the public. See https://bit.ly/HMSCExhibitions for hours and reservations. \nMuchos Méxicos explores Mexico’s rich history as a site of human innovation\, creativity and cultural diversity. Featuring Mexican objects from the Peabody Museum collections\, this bilingual exhibit tells the story of Mexico as a multicultural and geographic crossroads—one where the exchange of resources\, products\, and ideas among Indigenous peoples throughout the Americas before the Spanish invasion\, and then with cultures around the globe—have all created a vibrant nation. See https://bit.ly/HMSCExhibitions for hours and reservations. \nMuchos Méxicos explora la rica historia de México como un sitio de innovación humana\, creatividad y diversidad cultural. Con objetos mexicanos de las colecciones del Museo Peabody\, esta exposición bilingüe cuenta la historia de México como encrucijada multicultural y geográfica\, donde el intercambio de recursos\, productos e ideas entre los pueblos indígenas de toda América antes de la invasión española\, y luego con culturas alrededor del mundo\, han creado una nación vibrante. \nImage credit: Peabody Museum Expedition\, M. H. Saville and J. G. Owens\, Directors 1891-1892 © President and Fellows of Harvard College\, Peabody Museum of Archaeology and Ethnology\, 92-49-20/C276
URL:https://www.archaeological.org/event/muchos-mexicos-crossroads-of-the-americas-exhibition-opens-to-the-public/
LOCATION:Peabody Museum of Archaeology and Ethnology\, 11 Divinity Avenue\, Cambridge\, MA\, 02138\, United States
CATEGORIES:Exhibition
ATTACH;FMTTYPE=image/jpeg:https://www.archaeological.org/wp-content/uploads/2021/11/plumbate_tripod_jar_event.jpg
ORGANIZER;CN="Harvard Museums of Science &amp%3Bamp%3B Culture":MAILTO:hmscpr@hmsc.harvard.edu
GEO:42.377512;-71.1141269
X-APPLE-STRUCTURED-LOCATION;VALUE=URI;X-ADDRESS=Peabody Museum of Archaeology and Ethnology 11 Divinity Avenue Cambridge MA 02138 United States;X-APPLE-RADIUS=500;X-TITLE=11 Divinity Avenue:geo:-71.1141269,42.377512
END:VEVENT
BEGIN:VEVENT
DTSTART;TZID=America/New_York:20211118T180000
DTEND;TZID=America/New_York:20211118T191500
DTSTAMP:20260423T130132
CREATED:20211018T165444Z
LAST-MODIFIED:20211018T165444Z
UID:10005863-1637258400-1637262900@www.archaeological.org
SUMMARY:Reconstructing Queen Amanishakheto’s Musical Instruments (Free Virtual Lecture)
DESCRIPTION:Susanne Gänsicke\, Senior Conservator and ​​Head of Antiquities Conservation\, J. Paul Getty Museum\, Los Angeles \nDouble reed pipes\, known as auloi\, were popular musical instruments in the ancient Mediterranean. In 1921\, archaeologists exploring the necropolis of Meroë (northern Sudan)—as part of the Harvard University-Boston Museum of Fine Arts Expedition—found a large collection of auloi in the pyramid of Nubian Queen Amanishakheto. Susanne Gänsicke will discuss the discovery’s importance and what it reveals about the connections between Nubia and the Mediterranean world as well as the significance of far-reaching musical traditions. She will also share recent efforts to conserve and reconstruct these ancient musical instruments. \nPresented by the Harvard Museum of the Ancient Near East and the Harvard Museums of Science & Culture \n  \n  \n 
URL:https://www.archaeological.org/event/reconstructing-queen-amanishakhetos-musical-instruments-free-virtual-lecture/
CATEGORIES:Lecture
ATTACH;FMTTYPE=image/jpeg:https://www.archaeological.org/wp-content/uploads/2021/10/11-18-gansicke-gazette-event.jpg
ORGANIZER;CN="Harvard Museums of Science &amp%3Bamp%3B Culture":MAILTO:hmscpr@hmsc.harvard.edu
END:VEVENT
BEGIN:VEVENT
DTSTART;TZID=America/New_York:20211117T163000
DTEND;TZID=America/New_York:20211117T174500
DTSTAMP:20260423T130132
CREATED:20211022T185717Z
LAST-MODIFIED:20211022T185717Z
UID:10005865-1637166600-1637171100@www.archaeological.org
SUMMARY:Useful Objects: Nineteenth-Century Museums and American Culture (Free Virtual Event)
DESCRIPTION:Reed Gochberg\, Assistant Director of Studies; Lecturer on History and Literature\, Harvard University\nIn conversation with:\nBrenda Tindal\, Executive Director\, Harvard Museums of Science & Culture \nWhat can the history of museums tell us about their role in American culture today? What kinds of objects were considered worth collecting\, and who decided their value? Join Reed Gochberg\, author of Useful Objects: Museums\, Science\, and Literature in Nineteenth-Century America (Oxford University Press\, September 2021) to learn about the early history of American museums\, including Harvard’s Museum of Comparative Zoology. In conversation with HMSC Executive Director Brenda Tindal\, she will examine how writers and visitors reflected on a wide range of nineteenth-century collections—and how their ideas continue to inform ongoing debates about the challenges and possibilities museums face today.
URL:https://www.archaeological.org/event/useful-objects-nineteenth-century-museums-and-american-culture-free-virtual-event/
CATEGORIES:Lecture
ATTACH;FMTTYPE=image/jpeg:https://www.archaeological.org/wp-content/uploads/2021/10/Gazette-Gochberg-Christine-Barron.jpg
ORGANIZER;CN="Harvard Museums of Science &amp%3Bamp%3B Culture":MAILTO:hmscpr@hmsc.harvard.edu
END:VEVENT
BEGIN:VEVENT
DTSTART;TZID=America/New_York:20211014T180000
DTEND;TZID=America/New_York:20211014T191500
DTSTAMP:20260423T130132
CREATED:20210927T160931Z
LAST-MODIFIED:20210927T213435Z
UID:10005826-1634234400-1634238900@www.archaeological.org
SUMMARY:How Beer Made Kings in Early Egypt (Free Virtual Lecture)
DESCRIPTION:Matthew Douglas Adams\, Director\, Abydos Archaeology; Senior Research Scholar\, Institute of Fine Arts\, New York University \nThe remains of a 5000-year-old brewery found in the ancient Egyptian city of Abydos are providing insights into the relationship between large-scale beer production and the development of kingship in Egypt. Archaeological evidence indicates that the Abydos brewery produced beer on a truly industrial scale—something unparalleled in early Egypt. Matthew Adams will share findings from recent excavations at the brewery and will consider it in context as part of a broad pattern of royal activity at the site that served to define the very nature of kingship at the beginning of Egypt’s history. \nPresented by the Harvard Museum of the Ancient Near East and the Harvard Museums of Science & Culture \nYou can register for this event by clicking the button below.
URL:https://www.archaeological.org/event/how-beer-made-kings-in-early-egypt-free-virtual-lecture/
CATEGORIES:International Archaeology Day,Lecture
ATTACH;FMTTYPE=image/jpeg:https://www.archaeological.org/wp-content/uploads/2021/09/10-14-Abydos-brewery-gazette-detail.jpg
ORGANIZER;CN="Harvard Museums of Science &amp%3Bamp%3B Culture":MAILTO:hmscpr@hmsc.harvard.edu
END:VEVENT
BEGIN:VEVENT
DTSTART;TZID=America/New_York:20211013T180000
DTEND;TZID=America/New_York:20211013T191500
DTSTAMP:20260423T130132
CREATED:20210927T153529Z
LAST-MODIFIED:20210927T214945Z
UID:10005824-1634148000-1634152500@www.archaeological.org
SUMMARY:Did We Evolve to Exercise? (Free Virtual Lecture)
DESCRIPTION:Daniel Lieberman\, Edwin M. Lerner II Professor of Biological Sciences\, Professor of Human Evolutionary Biology\, Harvard University \nExercise is a paradox: everyone knows it is healthy\, but most of us struggle to do it. Further\, as technology and machines increasingly replace human labor\, fewer people are getting enough exercise. In this talk\, Daniel Lieberman will explain how an evolutionary and anthropological perspective on exercise can help. How much exercise did we evolve to do? Is exercise really a magic bullet? Why\, how\, and to what extent does exercise slow aging and promote health? Is there a best way to exercise? And\, most importantly\, how can we help each other exercise without nagging or coercing? \nEvolution Matters Lecture Series\nSeries supported by a generous gift from Drs. Herman and Joan Suit\nPresented by the Harvard Museum of Natural History\, the Peabody Museum of Archaeology & Ethnology\, and the Harvard Museums of Science & Culture \nYou can register for this event by clicking the button below.
URL:https://www.archaeological.org/event/did-we-evolve-to-exercise-free-virtual-lecture/
CATEGORIES:International Archaeology Day,Lecture
ATTACH;FMTTYPE=image/jpeg:https://www.archaeological.org/wp-content/uploads/2021/09/10-13-Dan_2020_Headshot-gazette-detail.jpg
ORGANIZER;CN="Harvard Museums of Science &amp%3Bamp%3B Culture":MAILTO:hmscpr@hmsc.harvard.edu
END:VEVENT
BEGIN:VEVENT
DTSTART;TZID=America/New_York:20210922T180000
DTEND;TZID=America/New_York:20210922T191500
DTSTAMP:20260423T130132
CREATED:20210913T204231Z
LAST-MODIFIED:20210913T204231Z
UID:10006076-1632333600-1632338100@www.archaeological.org
SUMMARY:Muchos Méxicos: Virtual Exhibition Preview and Conversation | Recorrido virtual de la exhibición y conversación
DESCRIPTION:Speakers\nDavíd Carrasco\, Neil L. Rudenstine Professor of the Study of Latin America\, Harvard University\nMaria Luisa Parra-Velasco\, Senior Preceptor in Romance Languages and Literatures\, Harvard University\nOctavio Murillo\, Director of Archives\, Instituto Nacional de los Pueblos Indígenas (National Institute of Indigenous Peoples)\, Mexico\nOnsite Guide for Virtual Visit: Andrew Majewski\, Museum Education Specialist\, Peabody Museum of Archaeology & Ethnology \nLive interpretation in English and Spanish \nJoin us for a virtual preview and conversation about the Muchos Méxicos exhibition. Three scholars who contributed to the making of the show will discuss their favorite objects and how they each tell stories of exchange and innovation—as well as loss and perseverance—across time and space. \nInterpretación en vivo en inglés y español \nÚnase a un recorrido virtual y conversación sobre la exhibición Muchos Méxicos. Tres académicos que contribuyeron a la realización de la exhibición hablarán sobre sus objetos favoritos y cómo cada uno de ellos cuenta historias de intercambio e innovación\, así como de pérdida y perseverancia\, a través del tiempo y el espacio.
URL:https://www.archaeological.org/event/muchos-mexicos-virtual-exhibition-preview-and-conversation-recorrido-virtual-de-la-exhibicion-y-conversacion/
CATEGORIES:Exhibition
ATTACH;FMTTYPE=image/jpeg:https://www.archaeological.org/wp-content/uploads/2021/09/09-22-muchos-gazette-detail.jpg
ORGANIZER;CN="Harvard Museums of Science &amp%3Bamp%3B Culture":MAILTO:hmscpr@hmsc.harvard.edu
END:VEVENT
END:VCALENDAR