BEGIN:VCALENDAR
VERSION:2.0
PRODID:-//Archaeological Institute of America - ECPv6.15.20//NONSGML v1.0//EN
CALSCALE:GREGORIAN
METHOD:PUBLISH
X-WR-CALNAME:Archaeological Institute of America
X-ORIGINAL-URL:https://www.archaeological.org
X-WR-CALDESC:Events for Archaeological Institute of America
REFRESH-INTERVAL;VALUE=DURATION:PT1H
X-Robots-Tag:noindex
X-PUBLISHED-TTL:PT1H
BEGIN:VTIMEZONE
TZID:America/New_York
BEGIN:DAYLIGHT
TZOFFSETFROM:-0500
TZOFFSETTO:-0400
TZNAME:EDT
DTSTART:20200308T070000
END:DAYLIGHT
BEGIN:STANDARD
TZOFFSETFROM:-0400
TZOFFSETTO:-0500
TZNAME:EST
DTSTART:20201101T060000
END:STANDARD
BEGIN:DAYLIGHT
TZOFFSETFROM:-0500
TZOFFSETTO:-0400
TZNAME:EDT
DTSTART:20210314T070000
END:DAYLIGHT
BEGIN:STANDARD
TZOFFSETFROM:-0400
TZOFFSETTO:-0500
TZNAME:EST
DTSTART:20211107T060000
END:STANDARD
BEGIN:DAYLIGHT
TZOFFSETFROM:-0500
TZOFFSETTO:-0400
TZNAME:EDT
DTSTART:20220313T070000
END:DAYLIGHT
BEGIN:STANDARD
TZOFFSETFROM:-0400
TZOFFSETTO:-0500
TZNAME:EST
DTSTART:20221106T060000
END:STANDARD
END:VTIMEZONE
BEGIN:VEVENT
DTSTART;TZID=America/New_York:20211017T150000
DTEND;TZID=America/New_York:20211017T163000
DTSTAMP:20260421T104142
CREATED:20210825T185517Z
LAST-MODIFIED:20210825T185517Z
UID:10005980-1634482800-1634488200@www.archaeological.org
SUMMARY:Family\, food and health in the Bronze Age Aegean: Novel bioarchaeological insights into Mycenaean and Minoan societies
DESCRIPTION:Since the famous excavations of Heinrich Schliemann in Mycenae and of Arthur Evans in Knossos\, we have been trying to understand the life of the Mycenaean and Minoan societies of the second millennium BCE. Outstanding palaces\, literary sources and rich burials have inspired our fascination of the Aegean Bronze Age. However\, many basic questions have remained unanswered: How were families structured? What about individual mobility in the Aegean? Did people move from Anatolia to the Aegean or from Mainland Greek to Crete? What about their food and health? Now\, a plethora of bioarchaeological approaches from archaeogenetics to the study of food residues in human dental calculus opens up new horizons of knowledge. Within my European Research Council project “FoodTransforms” and at the Max Planck Harvard Research Center for the Archaeoscience of the Ancient Mediterranean\, we have now assembled a bioarchaeological dataset of the Aegean Bronze Age\, which enables novel insights into Bronze Age marital rules\, biological relationships in collective burials\, human mobility\, culinary practices\, resource management and infectious diseases in the 3rd and 2nd millennium BC Aegean. I will present these datasets and integrate them into our rich archaeological evidence in order to shed a new light on Mycenaean and Minoan societies.
URL:https://www.archaeological.org/event/family-food-and-health-in-the-bronze-age-aegean-novel-bioarchaeological-insights-into-mycenaean-and-minoan-societies/
LOCATION:Spokane\, WA\, 99201\, United States
CATEGORIES:International Archaeology Day
ORGANIZER;CN="Jeffrey Lamia":MAILTO:jlamia@nyc.rr.com
GEO:47.6600716;-117.4316272
END:VEVENT
END:VCALENDAR