BEGIN:VCALENDAR
VERSION:2.0
PRODID:-//Archaeological Institute of America - ECPv6.15.20//NONSGML v1.0//EN
CALSCALE:GREGORIAN
METHOD:PUBLISH
X-ORIGINAL-URL:https://www.archaeological.org
X-WR-CALDESC:Events for Archaeological Institute of America
REFRESH-INTERVAL;VALUE=DURATION:PT1H
X-Robots-Tag:noindex
X-PUBLISHED-TTL:PT1H
BEGIN:VTIMEZONE
TZID:America/Edmonton
BEGIN:DAYLIGHT
TZOFFSETFROM:-0700
TZOFFSETTO:-0600
TZNAME:MDT
DTSTART:20230312T090000
END:DAYLIGHT
BEGIN:STANDARD
TZOFFSETFROM:-0600
TZOFFSETTO:-0700
TZNAME:MST
DTSTART:20231105T080000
END:STANDARD
BEGIN:DAYLIGHT
TZOFFSETFROM:-0700
TZOFFSETTO:-0600
TZNAME:MDT
DTSTART:20240310T090000
END:DAYLIGHT
BEGIN:STANDARD
TZOFFSETFROM:-0600
TZOFFSETTO:-0700
TZNAME:MST
DTSTART:20241103T080000
END:STANDARD
BEGIN:DAYLIGHT
TZOFFSETFROM:-0700
TZOFFSETTO:-0600
TZNAME:MDT
DTSTART:20250309T090000
END:DAYLIGHT
BEGIN:STANDARD
TZOFFSETFROM:-0600
TZOFFSETTO:-0700
TZNAME:MST
DTSTART:20251102T080000
END:STANDARD
END:VTIMEZONE
BEGIN:VEVENT
DTSTART;TZID=America/Edmonton:20241107T160000
DTEND;TZID=America/Edmonton:20241107T170000
DTSTAMP:20260421T061207
CREATED:20241017T144225Z
LAST-MODIFIED:20241017T144225Z
UID:10007357-1730995200-1730998800@www.archaeological.org
SUMMARY:Decolonizing Museums and the Case of the 'Elgin Marbles': Exceptionalism vs Solidarity
DESCRIPTION:Martha Sharp Joukowsky Lectureships
URL:https://www.archaeological.org/event/decolonizing-museums-and-the-case-of-the-elgin-marbles-exceptionalism-vs-solidarity/
LOCATION:Tory Breezeway 1\, University of Alberta\, 6-5 Humanities Centre\, Edmonton\, Alberta\, T6G 2E5\, Canada
CATEGORIES:AIA Lecture Program
ORGANIZER;CN="Jeremy J. Rossiter":MAILTO:jeremy.rossiter@ualberta.ca
GEO:53.5271717;-113.5196561
X-APPLE-STRUCTURED-LOCATION;VALUE=URI;X-ADDRESS=Tory Breezeway 1 University of Alberta 6-5 Humanities Centre Edmonton Alberta T6G 2E5 Canada;X-APPLE-RADIUS=500;X-TITLE=6-5 Humanities Centre:geo:-113.5196561,53.5271717
END:VEVENT
END:VCALENDAR