BEGIN:VCALENDAR
VERSION:2.0
PRODID:-//Archaeological Institute of America - ECPv6.15.20//NONSGML v1.0//EN
CALSCALE:GREGORIAN
METHOD:PUBLISH
X-ORIGINAL-URL:https://www.archaeological.org
X-WR-CALDESC:Events for Archaeological Institute of America
REFRESH-INTERVAL;VALUE=DURATION:PT1H
X-Robots-Tag:noindex
X-PUBLISHED-TTL:PT1H
BEGIN:VTIMEZONE
TZID:America/Chicago
BEGIN:DAYLIGHT
TZOFFSETFROM:-0600
TZOFFSETTO:-0500
TZNAME:CDT
DTSTART:20250309T080000
END:DAYLIGHT
BEGIN:STANDARD
TZOFFSETFROM:-0500
TZOFFSETTO:-0600
TZNAME:CST
DTSTART:20251102T070000
END:STANDARD
BEGIN:DAYLIGHT
TZOFFSETFROM:-0600
TZOFFSETTO:-0500
TZNAME:CDT
DTSTART:20260308T080000
END:DAYLIGHT
BEGIN:STANDARD
TZOFFSETFROM:-0500
TZOFFSETTO:-0600
TZNAME:CST
DTSTART:20261101T070000
END:STANDARD
BEGIN:DAYLIGHT
TZOFFSETFROM:-0600
TZOFFSETTO:-0500
TZNAME:CDT
DTSTART:20270314T080000
END:DAYLIGHT
BEGIN:STANDARD
TZOFFSETFROM:-0500
TZOFFSETTO:-0600
TZNAME:CST
DTSTART:20271107T070000
END:STANDARD
END:VTIMEZONE
BEGIN:VTIMEZONE
TZID:America/New_York
BEGIN:DAYLIGHT
TZOFFSETFROM:-0500
TZOFFSETTO:-0400
TZNAME:EDT
DTSTART:20220313T070000
END:DAYLIGHT
BEGIN:STANDARD
TZOFFSETFROM:-0400
TZOFFSETTO:-0500
TZNAME:EST
DTSTART:20221106T060000
END:STANDARD
BEGIN:DAYLIGHT
TZOFFSETFROM:-0500
TZOFFSETTO:-0400
TZNAME:EDT
DTSTART:20230312T070000
END:DAYLIGHT
BEGIN:STANDARD
TZOFFSETFROM:-0400
TZOFFSETTO:-0500
TZNAME:EST
DTSTART:20231105T060000
END:STANDARD
BEGIN:DAYLIGHT
TZOFFSETFROM:-0500
TZOFFSETTO:-0400
TZNAME:EDT
DTSTART:20240310T070000
END:DAYLIGHT
BEGIN:STANDARD
TZOFFSETFROM:-0400
TZOFFSETTO:-0500
TZNAME:EST
DTSTART:20241103T060000
END:STANDARD
END:VTIMEZONE
BEGIN:VEVENT
DTSTART;TZID=America/Chicago:20260331T190000
DTEND;TZID=America/Chicago:20260331T200000
DTSTAMP:20260421T103836
CREATED:20250922T150017Z
LAST-MODIFIED:20260316T185854Z
UID:10008648-1774983600-1774987200@www.archaeological.org
SUMMARY:Justinian’s Tree: Underwater Environmental Histories in Byzantine Harbors
DESCRIPTION:Anna Marguerite McCann and Robert D. Taggart Lectureship in Underwater Archaeology
URL:https://www.archaeological.org/event/tba-southwest-texas-san-antonio/
LOCATION:UT San Antonio\, Downtown Campus\, Durango Building\, Room 1.116\, La Villita\, Durango Building\, San Antonio\, TX\, 78207\, United States
CATEGORIES:AIA Lecture Program,Lecture
ORGANIZER;CN="Kat Brown":MAILTO:kathryn.brown@utsa.edu
GEO:29.4228268;-98.5028168
X-APPLE-STRUCTURED-LOCATION;VALUE=URI;X-ADDRESS=UT San Antonio Downtown Campus Durango Building Room 1.116 La Villita Durango Building San Antonio TX 78207 United States;X-APPLE-RADIUS=500;X-TITLE=Durango Building:geo:-98.5028168,29.4228268
END:VEVENT
BEGIN:VEVENT
DTSTART;TZID=America/New_York:20231021T100000
DTEND;TZID=America/New_York:20231021T140000
DTSTAMP:20260421T103836
CREATED:20230518T134541Z
LAST-MODIFIED:20230518T134541Z
UID:10006849-1697882400-1697896800@www.archaeological.org
SUMMARY:Archaeology Day at Mission San Jose\, San Antonio
DESCRIPTION:The Southwest Texas Archaeological Society will participate in the Mission San Jose (San Antonio\, Texas) Archaeology Day on October 21st\, 2023. Our society will put together a hands-on activity for children. We plan to organize the activity around the ancient Maya calendar\, so that kids can learn how the ancient Maya wrote numbers and calculated dates. Our activity will also provide an introduction to ancient Maya hieroglyphic writing.
URL:https://www.archaeological.org/event/archaeology-day-at-mission-san-jose-san-antonio/
LOCATION:Mission San Jose\, 6701 San José Drive\, San Antonio\, Texas\, 78214\, San Antonio\, TX\, 78214\, United States
CATEGORIES:International Archaeology Day
ORGANIZER;CN="Kat Brown":MAILTO:kathryn.brown@utsa.edu
GEO:29.362344;-98.479761
X-APPLE-STRUCTURED-LOCATION;VALUE=URI;X-ADDRESS=Mission San Jose 6701 San José Drive San Antonio Texas 78214 San Antonio TX 78214 United States;X-APPLE-RADIUS=500;X-TITLE=6701 San José Drive\, San Antonio\, Texas\, 78214:geo:-98.479761,29.362344
END:VEVENT
END:VCALENDAR