BEGIN:VCALENDAR
VERSION:2.0
PRODID:-//Archaeological Institute of America - ECPv6.15.20//NONSGML v1.0//EN
CALSCALE:GREGORIAN
METHOD:PUBLISH
X-WR-CALNAME:Archaeological Institute of America
X-ORIGINAL-URL:https://www.archaeological.org
X-WR-CALDESC:Events for Archaeological Institute of America
REFRESH-INTERVAL;VALUE=DURATION:PT1H
X-Robots-Tag:noindex
X-PUBLISHED-TTL:PT1H
BEGIN:VTIMEZONE
TZID:America/Los_Angeles
BEGIN:DAYLIGHT
TZOFFSETFROM:-0800
TZOFFSETTO:-0700
TZNAME:PDT
DTSTART:20200308T100000
END:DAYLIGHT
BEGIN:STANDARD
TZOFFSETFROM:-0700
TZOFFSETTO:-0800
TZNAME:PST
DTSTART:20201101T090000
END:STANDARD
BEGIN:DAYLIGHT
TZOFFSETFROM:-0800
TZOFFSETTO:-0700
TZNAME:PDT
DTSTART:20210314T100000
END:DAYLIGHT
BEGIN:STANDARD
TZOFFSETFROM:-0700
TZOFFSETTO:-0800
TZNAME:PST
DTSTART:20211107T090000
END:STANDARD
BEGIN:DAYLIGHT
TZOFFSETFROM:-0800
TZOFFSETTO:-0700
TZNAME:PDT
DTSTART:20220313T100000
END:DAYLIGHT
BEGIN:STANDARD
TZOFFSETFROM:-0700
TZOFFSETTO:-0800
TZNAME:PST
DTSTART:20221106T090000
END:STANDARD
BEGIN:DAYLIGHT
TZOFFSETFROM:-0800
TZOFFSETTO:-0700
TZNAME:PDT
DTSTART:20230312T100000
END:DAYLIGHT
BEGIN:STANDARD
TZOFFSETFROM:-0700
TZOFFSETTO:-0800
TZNAME:PST
DTSTART:20231105T090000
END:STANDARD
BEGIN:DAYLIGHT
TZOFFSETFROM:-0800
TZOFFSETTO:-0700
TZNAME:PDT
DTSTART:20240310T100000
END:DAYLIGHT
BEGIN:STANDARD
TZOFFSETFROM:-0700
TZOFFSETTO:-0800
TZNAME:PST
DTSTART:20241103T090000
END:STANDARD
BEGIN:DAYLIGHT
TZOFFSETFROM:-0800
TZOFFSETTO:-0700
TZNAME:PDT
DTSTART:20250309T100000
END:DAYLIGHT
BEGIN:STANDARD
TZOFFSETFROM:-0700
TZOFFSETTO:-0800
TZNAME:PST
DTSTART:20251102T090000
END:STANDARD
END:VTIMEZONE
BEGIN:VEVENT
DTSTART;TZID=America/Los_Angeles:20240204T140000
DTEND;TZID=America/Los_Angeles:20240204T140000
DTSTAMP:20260423T044128
CREATED:20240117T134114Z
LAST-MODIFIED:20240117T134358Z
UID:10006613-1707055200-1707055200@www.archaeological.org
SUMMARY:King Midas of the Golden Touch in Context: Death\, Belief\, Behavior\, and Society in Ancient Phrygia
DESCRIPTION:Elspeth Dusinberre (University of Colorado Boulder) will present her work on the spectacular burial tumuli at Gordion (Türkiye)\, the capital of ancient Phrygia and seat of the legendary King Midas of the Golden Touch. This talk will consider material ranging from ca. 850-525 BCE. It will begin with Gordion’s oldest burial tumuli and look at the largest\, the so-called Midas Monument\, but it will focus ultimately on the last century or so of tumulus construction. The later tombs\, which include both inhumations and cremations\, display radical changes that reflect Gordion’s complex and shifting society. This talk will use mortuary remains to investigate such issues as power structures and display\, gender\, burial customs\, belief in an afterlife\, shifting populations\, and developments in society overall in ancient Phrygia.
URL:https://www.archaeological.org/event/king-midas-of-the-golden-touch-in-context-death-belief-behavior-and-society-in-ancient-phrygia-2/
LOCATION:1201 9th St.\, Manhattan Beach\, CA\, 90266\, United States
ATTACH;FMTTYPE=image/jpeg:https://www.archaeological.org/wp-content/uploads/2024/01/AIA-LA-Dusinberre-Flyer-2-4-24_page-0001.jpg
ORGANIZER;CN="Kenneth Seligson":MAILTO:losangeles.archaeology@gmail.com
GEO:33.8849345;-118.3937177
END:VEVENT
BEGIN:VEVENT
DTSTART;TZID=America/Los_Angeles:20220306T140000
DTEND;TZID=America/Los_Angeles:20220306T140000
DTSTAMP:20260423T044128
CREATED:20210818T164126Z
LAST-MODIFIED:20220209T152431Z
UID:10005688-1646575200-1646575200@www.archaeological.org
SUMMARY:Unearthed Voices From the First Emperor of Qin's Unification of China
DESCRIPTION:Ahmanson Lecture
URL:https://www.archaeological.org/event/unearthed-voices-from-the-first-emperor-of-qins-unification-of-china/
LOCATION:AIA-LA\, 1201 9th St.\, Manhattan Beach\, United States
CATEGORIES:AIA Lecture Program,Lecture
ORGANIZER;CN="Kenneth Seligson":MAILTO:losangeles.archaeology@gmail.com
GEO:33.8850779;-118.3936945
X-APPLE-STRUCTURED-LOCATION;VALUE=URI;X-ADDRESS=AIA-LA 1201 9th St. Manhattan Beach United States;X-APPLE-RADIUS=500;X-TITLE=1201 9th St.:geo:-118.3936945,33.8850779
END:VEVENT
BEGIN:VEVENT
DTSTART;TZID=America/Los_Angeles:20211024T140000
DTEND;TZID=America/Los_Angeles:20211024T140000
DTSTAMP:20260423T044128
CREATED:20210818T164125Z
LAST-MODIFIED:20211005T194335Z
UID:10005686-1635084000-1635084000@www.archaeological.org
SUMMARY:Across a Narrow Sea: Ancient Greeks and Romans in the Eastern Adriatic
DESCRIPTION:Ahmanson Lecture \n  \nLecture will be in-person and live Zoom cast. RSVP required for in-person attendance (limit 50 persons). The AIA-LA County Society asks that all attendees be vaccinated and wear a mask if the lecture needs to be held indoors. \nZoom at https://ucla.zoom.us/j/96714745295\nMeeting ID: 967 1474 5295
URL:https://www.archaeological.org/event/across-a-narrow-sea-ancient-greeks-and-romans-in-the-eastern-adriatic/
LOCATION:AIA-LA County Society\, 1201 9th Street\, Manhattan Beach\, CA\, 90266\, United States
CATEGORIES:AIA Lecture Program,International Archaeology Day,Lecture
ORGANIZER;CN="Kenneth Seligson":MAILTO:losangeles.archaeology@gmail.com
GEO:34.0522342;-118.2436849
X-APPLE-STRUCTURED-LOCATION;VALUE=URI;X-ADDRESS=AIA-LA County Society 1201 9th Street Manhattan Beach CA 90266 United States;X-APPLE-RADIUS=500;X-TITLE=1201 9th Street:geo:-118.2436849,34.0522342
END:VEVENT
END:VCALENDAR