BEGIN:VCALENDAR
VERSION:2.0
PRODID:-//Archaeological Institute of America - ECPv6.15.20//NONSGML v1.0//EN
CALSCALE:GREGORIAN
METHOD:PUBLISH
X-WR-CALNAME:Archaeological Institute of America
X-ORIGINAL-URL:https://www.archaeological.org
X-WR-CALDESC:Events for Archaeological Institute of America
REFRESH-INTERVAL;VALUE=DURATION:PT1H
X-Robots-Tag:noindex
X-PUBLISHED-TTL:PT1H
BEGIN:VTIMEZONE
TZID:America/Chicago
BEGIN:DAYLIGHT
TZOFFSETFROM:-0600
TZOFFSETTO:-0500
TZNAME:CDT
DTSTART:20230312T080000
END:DAYLIGHT
BEGIN:STANDARD
TZOFFSETFROM:-0500
TZOFFSETTO:-0600
TZNAME:CST
DTSTART:20231105T070000
END:STANDARD
BEGIN:DAYLIGHT
TZOFFSETFROM:-0600
TZOFFSETTO:-0500
TZNAME:CDT
DTSTART:20240310T080000
END:DAYLIGHT
BEGIN:STANDARD
TZOFFSETFROM:-0500
TZOFFSETTO:-0600
TZNAME:CST
DTSTART:20241103T070000
END:STANDARD
BEGIN:DAYLIGHT
TZOFFSETFROM:-0600
TZOFFSETTO:-0500
TZNAME:CDT
DTSTART:20250309T080000
END:DAYLIGHT
BEGIN:STANDARD
TZOFFSETFROM:-0500
TZOFFSETTO:-0600
TZNAME:CST
DTSTART:20251102T070000
END:STANDARD
END:VTIMEZONE
BEGIN:VEVENT
DTSTART;TZID=America/Chicago:20241107T193000
DTEND;TZID=America/Chicago:20241107T203000
DTSTAMP:20260421T055236
CREATED:20241017T161220Z
LAST-MODIFIED:20241017T161527Z
UID:10007358-1731007800-1731011400@www.archaeological.org
SUMMARY:The Representation of Ramses II's Enemies in the Battle of Kadesh Reliefs
DESCRIPTION:The Frederick R. and Margaret B. Matson Lectureship for Near Eastern Archaeology and Archaeological Technology
URL:https://www.archaeological.org/event/the-representation-of-ramses-iis-enemies-in-the-battle-of-kadesh-reliefs/
LOCATION:The University of Alabama in Huntsville\, Wilson Hall 168\, 301 Sparkman Drive Northwest\, Huntsville\, AL\, 35816\, United States
CATEGORIES:AIA Lecture Program
ORGANIZER;CN="Lillian Joyce":MAILTO:joycel@uah.edu
GEO:34.7245359;-86.6404592
X-APPLE-STRUCTURED-LOCATION;VALUE=URI;X-ADDRESS=The University of Alabama in Huntsville Wilson Hall 168 301 Sparkman Drive Northwest Huntsville AL 35816 United States;X-APPLE-RADIUS=500;X-TITLE=301 Sparkman Drive Northwest:geo:-86.6404592,34.7245359
END:VEVENT
END:VCALENDAR