BEGIN:VCALENDAR
VERSION:2.0
PRODID:-//Archaeological Institute of America - ECPv6.15.20//NONSGML v1.0//EN
CALSCALE:GREGORIAN
METHOD:PUBLISH
X-ORIGINAL-URL:https://www.archaeological.org
X-WR-CALDESC:Events for Archaeological Institute of America
REFRESH-INTERVAL;VALUE=DURATION:PT1H
X-Robots-Tag:noindex
X-PUBLISHED-TTL:PT1H
BEGIN:VTIMEZONE
TZID:America/New_York
BEGIN:DAYLIGHT
TZOFFSETFROM:-0500
TZOFFSETTO:-0400
TZNAME:EDT
DTSTART:20210314T070000
END:DAYLIGHT
BEGIN:STANDARD
TZOFFSETFROM:-0400
TZOFFSETTO:-0500
TZNAME:EST
DTSTART:20211107T060000
END:STANDARD
BEGIN:DAYLIGHT
TZOFFSETFROM:-0500
TZOFFSETTO:-0400
TZNAME:EDT
DTSTART:20220313T070000
END:DAYLIGHT
BEGIN:STANDARD
TZOFFSETFROM:-0400
TZOFFSETTO:-0500
TZNAME:EST
DTSTART:20221106T060000
END:STANDARD
BEGIN:DAYLIGHT
TZOFFSETFROM:-0500
TZOFFSETTO:-0400
TZNAME:EDT
DTSTART:20230312T070000
END:DAYLIGHT
BEGIN:STANDARD
TZOFFSETFROM:-0400
TZOFFSETTO:-0500
TZNAME:EST
DTSTART:20231105T060000
END:STANDARD
END:VTIMEZONE
BEGIN:VTIMEZONE
TZID:America/Chicago
BEGIN:DAYLIGHT
TZOFFSETFROM:-0600
TZOFFSETTO:-0500
TZNAME:CDT
DTSTART:20210314T080000
END:DAYLIGHT
BEGIN:STANDARD
TZOFFSETFROM:-0500
TZOFFSETTO:-0600
TZNAME:CST
DTSTART:20211107T070000
END:STANDARD
BEGIN:DAYLIGHT
TZOFFSETFROM:-0600
TZOFFSETTO:-0500
TZNAME:CDT
DTSTART:20220313T080000
END:DAYLIGHT
BEGIN:STANDARD
TZOFFSETFROM:-0500
TZOFFSETTO:-0600
TZNAME:CST
DTSTART:20221106T070000
END:STANDARD
BEGIN:DAYLIGHT
TZOFFSETFROM:-0600
TZOFFSETTO:-0500
TZNAME:CDT
DTSTART:20230312T080000
END:DAYLIGHT
BEGIN:STANDARD
TZOFFSETFROM:-0500
TZOFFSETTO:-0600
TZNAME:CST
DTSTART:20231105T070000
END:STANDARD
END:VTIMEZONE
BEGIN:VEVENT
DTSTART;TZID=America/New_York:20221015T110000
DTEND;TZID=America/New_York:20221015T150000
DTSTAMP:20260421T182231
CREATED:20220930T180304Z
LAST-MODIFIED:20220930T180304Z
UID:10006109-1665831600-1665846000@www.archaeological.org
SUMMARY:7th Annual Livingston Parish Book Festival
DESCRIPTION:Saturday\, October 15\, 11am-3pm\n$ = Free\nFamily friendly \nThe Louisiana Division of Archaeology will have an educational table at the 7th Annual Livingston Parish Book Festival. The 2022 Book Festival will be held on Saturday\, October 15\, 2022\, from 11:00 am to 3:00 pm at the Main Branch of the Livingston Parish Library (20390 Iowa Street\, Livingston\, LA\, US\, 70754). \nFor more information\, visit:\nwww.mylpl.info/bookfestival
URL:https://www.archaeological.org/event/7th-annual-livingston-parish-book-festival/
LOCATION:Livingston Parish Library\, 20390 Iowa St\, Livingston\, LA\, 70754
CATEGORIES:International Archaeology Day
ORGANIZER;CN="Maegan Smith":MAILTO:archaeology@crt.la.gov
GEO:30.4987488;-90.7464862
X-APPLE-STRUCTURED-LOCATION;VALUE=URI;X-ADDRESS=Livingston Parish Library 20390 Iowa St Livingston LA 70754;X-APPLE-RADIUS=500;X-TITLE=20390 Iowa St:geo:-90.7464862,30.4987488
END:VEVENT
BEGIN:VEVENT
DTSTART;TZID=America/New_York:20221015T090000
DTEND;TZID=America/New_York:20221015T140000
DTSTAMP:20260421T182231
CREATED:20220930T160220Z
LAST-MODIFIED:20220930T160220Z
UID:10006714-1665824400-1665842400@www.archaeological.org
SUMMARY:Fullerton Sawmill Day
DESCRIPTION:Saturday\, October 15\, 9am-2pm\n$ = Free\nFamily friendly \nA celebration of the life and times of Fullerton Sawmill which was active 1907-1927. Demonstrations\, exhibits\, guided tours\, live music and food may be experienced at the event. Archaeologists from Fort Polk will have an artifact display table as well. \nFor more information\, visit:\nhttps://www.fs.usda.gov/detail/kisatchie/home/?cid=fseprd1060690
URL:https://www.archaeological.org/event/fullerton-sawmill-day/
LOCATION:Fullerton Sawmill\, 125 LA-399\, Pitkin\, LA\, 70656
CATEGORIES:International Archaeology Day
ORGANIZER;CN="Maegan Smith":MAILTO:archaeology@crt.la.gov
GEO:31.0165879;-92.9806675
X-APPLE-STRUCTURED-LOCATION;VALUE=URI;X-ADDRESS=Fullerton Sawmill 125 LA-399 Pitkin LA 70656;X-APPLE-RADIUS=500;X-TITLE=125 LA-399:geo:-92.9806675,31.0165879
END:VEVENT
BEGIN:VEVENT
DTSTART;TZID=America/New_York:20221015T083000
DTEND;TZID=America/New_York:20221015T123000
DTSTAMP:20260421T182231
CREATED:20220930T154623Z
LAST-MODIFIED:20220930T154623Z
UID:10006712-1665822600-1665837000@www.archaeological.org
SUMMARY:Archaeology Day at the Lafayette Farmers and Artisans Market
DESCRIPTION:Saturday\, October 15\, 8:30am-12:30pm\n$ = Free\nFamily friendly \nMembers from the Acadiana Chapter of the Louisiana Archaeological Society and staff from the Division of Archaeology will share information about Louisiana Archaeology for International Archaeology Day. We hope to engage the community with resources and activities to let everyone know all the exciting projects happening in the field\, what archaeologists do\, and what services we provide. The Lafayette Farmers and Artisans Market is a great place to go to learn about the community\, eat good food\, buy sweet stuff\, and listen to cool music. \nFor more information\, visit: https://marketatmoncuspark.com/
URL:https://www.archaeological.org/event/archaeology-day-at-the-lafayette-farmers-and-artisans-market/
LOCATION:Lafayette Farmers and Artisan Market at the Horse Farm\, 2913 Johnston St\, Lafayette\, LA\, 70503
CATEGORIES:International Archaeology Day
ORGANIZER;CN="Maegan Smith":MAILTO:archaeology@crt.la.gov
GEO:30.2048263;-92.0412688
X-APPLE-STRUCTURED-LOCATION;VALUE=URI;X-ADDRESS=Lafayette Farmers and Artisan Market at the Horse Farm 2913 Johnston St Lafayette LA 70503;X-APPLE-RADIUS=500;X-TITLE=2913 Johnston St:geo:-92.0412688,30.2048263
END:VEVENT
BEGIN:VEVENT
DTSTART;TZID=America/New_York:20221013T190000
DTEND;TZID=America/New_York:20221013T210000
DTSTAMP:20260421T182231
CREATED:20220930T180213Z
LAST-MODIFIED:20220930T180213Z
UID:10006107-1665687600-1665694800@www.archaeological.org
SUMMARY:Trivia at Fighting Hand Brewing Co.
DESCRIPTION:Thursdays\, 7-9pm\n$ = Free\n21 and over only \nFighting Hand Brewing Co. has weekly trivia every Thursday\, but you can join every week in October for a special round of Louisiana Archaeology questions! Teams limited to 6 members. \nFor more information\, visit www.fightinghandbrewing.com\nwww.facebook.com/fightinghandbrewing\nwww.instagram.com/fightinghandbrewing
URL:https://www.archaeological.org/event/trivia-at-fighting-hand-brewing-co-2/
LOCATION:Fighting Hand Brewing Company\, 1600 Military Hwy\, Pineville\, LA\, 71360
CATEGORIES:International Archaeology Day
ORGANIZER;CN="Maegan Smith":MAILTO:archaeology@crt.la.gov
GEO:31.3334964;-92.4281287
X-APPLE-STRUCTURED-LOCATION;VALUE=URI;X-ADDRESS=Fighting Hand Brewing Company 1600 Military Hwy Pineville LA 71360;X-APPLE-RADIUS=500;X-TITLE=1600 Military Hwy:geo:-92.4281287,31.3334964
END:VEVENT
BEGIN:VEVENT
DTSTART;TZID=America/New_York:20221011T183000
DTEND;TZID=America/New_York:20221011T203000
DTSTAMP:20260421T182231
CREATED:20220930T174628Z
LAST-MODIFIED:20220930T174628Z
UID:10006105-1665513000-1665520200@www.archaeological.org
SUMMARY:Trivia w/ Keez at Crying Eagle Brewing
DESCRIPTION:Tuesdays\, 6:30-8:30pm\n$ = Free\nFamily friendly \nCrying Eagle Brewing has weekly trivia every Tuesday with Keez\, but you can join every week in October for a special round of Louisiana Archaeology questions! Trivia is 4 rounds of 10 questions with prizes for 1st\, 2nd\, and 3rd place. Teams can be between 1 and 6 people. \nFor more information\, visit www.cryingeagle.com\nhttps://www.facebook.com/events/381072043625105/381072126958430/
URL:https://www.archaeological.org/event/trivia-w-keez-at-crying-eagle-brewing-2/
LOCATION:Crying Eagle Brewing Company\, 1165 E McNeese St\, Lake Charles\, LA\, 70607
CATEGORIES:International Archaeology Day
ORGANIZER;CN="Maegan Smith":MAILTO:archaeology@crt.la.gov
GEO:30.1773109;-93.2028009
X-APPLE-STRUCTURED-LOCATION;VALUE=URI;X-ADDRESS=Crying Eagle Brewing Company 1165 E McNeese St Lake Charles LA 70607;X-APPLE-RADIUS=500;X-TITLE=1165 E McNeese St:geo:-93.2028009,30.1773109
END:VEVENT
BEGIN:VEVENT
DTSTART;TZID=America/New_York:20221011T183000
DTEND;TZID=America/New_York:20221011T203000
DTSTAMP:20260421T182231
CREATED:20220930T174103Z
LAST-MODIFIED:20220930T174103Z
UID:10006103-1665513000-1665520200@www.archaeological.org
SUMMARY:Let's Get Archaeological
DESCRIPTION:Tuesday\, October 11\, 6:30-8:30pm\n$ = Free\nFamily and pet friendly \nRally Cap Brewing Company hosts a special night of Louisiana Archaeology trivia! \nFor more information\, visit www.rallycapbrewing.com
URL:https://www.archaeological.org/event/lets-get-archaeological/
LOCATION:Rally Cap Brewing Company\, 11212 Pennywood Ave\, Baton Rouge\, LA\, 70809
CATEGORIES:International Archaeology Day
ORGANIZER;CN="Maegan Smith":MAILTO:archaeology@crt.la.gov
GEO:30.3922887;-91.0568094
X-APPLE-STRUCTURED-LOCATION;VALUE=URI;X-ADDRESS=Rally Cap Brewing Company 11212 Pennywood Ave Baton Rouge LA 70809;X-APPLE-RADIUS=500;X-TITLE=11212 Pennywood Ave:geo:-91.0568094,30.3922887
END:VEVENT
BEGIN:VEVENT
DTSTART;TZID=America/New_York:20221008T130000
DTEND;TZID=America/New_York:20221008T143000
DTSTAMP:20260421T182231
CREATED:20220930T173258Z
LAST-MODIFIED:20220930T173258Z
UID:10006101-1665234000-1665239400@www.archaeological.org
SUMMARY:"The First People of South Louisiana" Presentation
DESCRIPTION:Saturday\, October 8\, 1-2:30pm\n$ = Free\nAdult Program\, Open to all ages \nDr. Charles “Chip” McGimsey\, Louisiana’s State Archaeologist\, presents a talk at the Iberville Parish Library-Plaquemine Branch on early people of South Louisiana and artifacts from different American Indian groups. \nFor more information\, visit: www.myipl.org
URL:https://www.archaeological.org/event/the-first-people-of-south-louisiana-presentation/
LOCATION:Iberville Parish Library\, 24605 J Gerald Berret Blvd\, Plaquemine\, LA\, 70764
CATEGORIES:International Archaeology Day
ORGANIZER;CN="Maegan Smith":MAILTO:archaeology@crt.la.gov
GEO:30.265415;-91.2476312
X-APPLE-STRUCTURED-LOCATION;VALUE=URI;X-ADDRESS=Iberville Parish Library 24605 J Gerald Berret Blvd Plaquemine LA 70764;X-APPLE-RADIUS=500;X-TITLE=24605 J Gerald Berret Blvd:geo:-91.2476312,30.265415
END:VEVENT
BEGIN:VEVENT
DTSTART;TZID=America/Chicago:20221005T190000
DTEND;TZID=America/Chicago:20221005T210000
DTSTAMP:20260421T182231
CREATED:20220930T170047Z
LAST-MODIFIED:20220930T175542Z
UID:10006720-1664996400-1665003600@www.archaeological.org
SUMMARY:Trivia Night w/ Jay Steiner
DESCRIPTION:Wednesday\, October 5\, 7-9pm\n$ = Free\nFamily Friendly \nJoin this special Louisiana Archaeology edition of Trivia Night with Jay Steiner! It’s free to play and the winners receive acclaim and a bar tab of $25. There are 4 rounds each consisting of 10 questions. Max 6 people per team. \nFor more information\, visit: www.hideawayonlee.com
URL:https://www.archaeological.org/event/trivia-night-w-jay-steiner/
LOCATION:Hideaway on Lee\, 407 Lee Ave\, Lafayette\, LA\, 70501
CATEGORIES:International Archaeology Day
ORGANIZER;CN="Maegan Smith":MAILTO:archaeology@crt.la.gov
GEO:30.224309;-92.0162331
X-APPLE-STRUCTURED-LOCATION;VALUE=URI;X-ADDRESS=Hideaway on Lee 407 Lee Ave Lafayette LA 70501;X-APPLE-RADIUS=500;X-TITLE=407 Lee Ave:geo:-92.0162331,30.224309
END:VEVENT
BEGIN:VEVENT
DTSTART;TZID=America/New_York:20221005T190000
DTEND;TZID=America/New_York:20221005T210000
DTSTAMP:20260421T182231
CREATED:20220930T165913Z
LAST-MODIFIED:20220930T175901Z
UID:10006719-1664996400-1665003600@www.archaeological.org
SUMMARY:Trivia at Oak St Brewery
DESCRIPTION:Wednesdays\, 7-9pm\n$ = Free\nFamily and Dog Friendly \nOak St Brewery has weekly trivia every Wednesday\, but you can join every week in October for a special round of Louisiana Archaeology questions! Trivia includes 7 rounds\, 10 questions each including 1 picture round and 1 audio round. $50\, $35\, and $25 brewery gift cards for 1st\, 2nd and 3rd place winners! \nFor more information\, visit:\nhttps://oakstbrewery.com/ https://www.instagram.com/oakstbrewery/ https://www.facebook.com/oakstbrewery
URL:https://www.archaeological.org/event/trivia-at-oak-st-brewery/
LOCATION:Oak St Brewery\, 8201 Oak St\, New Orleans\, LA\, 70115
CATEGORIES:International Archaeology Day
ORGANIZER;CN="Maegan Smith":MAILTO:archaeology@crt.la.gov
GEO:29.9483769;-90.13067
X-APPLE-STRUCTURED-LOCATION;VALUE=URI;X-ADDRESS=Oak St Brewery 8201 Oak St New Orleans LA 70115;X-APPLE-RADIUS=500;X-TITLE=8201 Oak St:geo:-90.13067,29.9483769
END:VEVENT
BEGIN:VEVENT
DTSTART;TZID=America/New_York:20221005T100000
DTEND;TZID=America/New_York:20221005T110000
DTSTAMP:20260421T182231
CREATED:20220930T172806Z
LAST-MODIFIED:20220930T172806Z
UID:10006099-1664964000-1664967600@www.archaeological.org
SUMMARY:Treasure Stones at Terrebonne Parish Library
DESCRIPTION:Saturday\, October 1\, 11am-12pm\nTuesday\, October 4\, 6-7pm\nWednesday\, October 5th\, 10-11am\n$ = Free\,Registration Required\nAges 6-15 \nTreasure Stones:\nUnearth Louisiana’s past at the Terrebonne Parish Main Library. Hidden in the treasure stones\, you will find replicas of artifacts from Watson Brake\, Poverty Point\, Markville\, and Melrose Plantation. Each attendee will have a treasure egg to explore and receive an activity book from the Louisiana Office of Cultural Development. \nTreasure Stone Activities will be held Saturday October 1 at 11:00am\, Tuesday October 4 during Family Story time at 6:00-7:00 pm\, and October 5th during Pre-K story time at 10:00 am. \nCall to reserve your place today at 985-867-5861. \nFor more information\, visit: http://mytpl.org
URL:https://www.archaeological.org/event/treasure-stones-at-terrebonne-parish-library-3/
LOCATION:Terrebonne Parish Library – Main Branch\, 151 Library Dr.\, Houma\, LA\, 70360\, United States
CATEGORIES:International Archaeology Day
ORGANIZER;CN="Maegan Smith":MAILTO:archaeology@crt.la.gov
GEO:29.5822824;-90.7257378
X-APPLE-STRUCTURED-LOCATION;VALUE=URI;X-ADDRESS=Terrebonne Parish Library – Main Branch 151 Library Dr. Houma LA 70360 United States;X-APPLE-RADIUS=500;X-TITLE=151 Library Dr.:geo:-90.7257378,29.5822824
END:VEVENT
BEGIN:VEVENT
DTSTART;TZID=America/New_York:20221004T183000
DTEND;TZID=America/New_York:20221004T203000
DTSTAMP:20260421T182231
CREATED:20220930T165721Z
LAST-MODIFIED:20220930T180107Z
UID:10006718-1664908200-1664915400@www.archaeological.org
SUMMARY:Trivia w/ Keez at Crying Eagle Brewing
DESCRIPTION:Tuesdays\, 6:30-8:30pm\n$ = Free\nFamily friendly \nCrying Eagle Brewing has weekly trivia every Tuesday with Keez\, but you can join every week in October for a special round of Louisiana Archaeology questions! Trivia is 4 rounds of 10 questions with prizes for 1st\, 2nd\, and 3rd place. Teams can be between 1 and 6 people.
URL:https://www.archaeological.org/event/trivia-w-keez-at-crying-eagle-brewing/
LOCATION:Crying Eagle Brewing Company\, 1165 E McNeese St\, Lake Charles\, LA\, 70607
CATEGORIES:International Archaeology Day
ORGANIZER;CN="Maegan Smith":MAILTO:archaeology@crt.la.gov
GEO:30.1773109;-93.2028009
X-APPLE-STRUCTURED-LOCATION;VALUE=URI;X-ADDRESS=Crying Eagle Brewing Company 1165 E McNeese St Lake Charles LA 70607;X-APPLE-RADIUS=500;X-TITLE=1165 E McNeese St:geo:-93.2028009,30.1773109
END:VEVENT
BEGIN:VEVENT
DTSTART;TZID=America/New_York:20221004T180000
DTEND;TZID=America/New_York:20221004T190000
DTSTAMP:20260421T182231
CREATED:20220930T170333Z
LAST-MODIFIED:20220930T170333Z
UID:10006097-1664906400-1664910000@www.archaeological.org
SUMMARY:Treasure Stones at Terrebonne Parish Library
DESCRIPTION:Saturday\, October 1\, 11am-12pm\nTuesday\, October 4\, 6-7pm\nWednesday\, October 5th\, 10-11am\n$ = Free\,Registration Required\nAges 6-15 \nTreasure Stones:\nUnearth Louisiana’s past at the Terrebonne Parish Main Library. Hidden in the treasure stones\, you will find replicas of artifacts from Watson Brake\, Poverty Point\, Markville\, and Melrose Plantation. Each attendee will have a treasure egg to explore and receive an activity book from the Louisiana Office of Cultural Development. \nTreasure Stone Activities will be held Saturday October 1 at 11:00am\, Tuesday October 4 during Family Story time at 6:00-7:00 pm\, and October 5th during Pre-K story time at 10:00 am. \nCall to reserve your place today at 985-867-5861. \nFor more information\, visit: http://mytpl.org
URL:https://www.archaeological.org/event/treasure-stones-at-terrebonne-parish-library-2/
LOCATION:Terrebonne Parish Library – Main Branch\, 151 Library Dr.\, Houma\, LA\, 70360\, United States
CATEGORIES:International Archaeology Day
ORGANIZER;CN="Maegan Smith":MAILTO:archaeology@crt.la.gov
GEO:29.5822824;-90.7257378
X-APPLE-STRUCTURED-LOCATION;VALUE=URI;X-ADDRESS=Terrebonne Parish Library – Main Branch 151 Library Dr. Houma LA 70360 United States;X-APPLE-RADIUS=500;X-TITLE=151 Library Dr.:geo:-90.7257378,29.5822824
END:VEVENT
BEGIN:VEVENT
DTSTART;TZID=America/New_York:20221001T150000
DTEND;TZID=America/New_York:20221001T180000
DTSTAMP:20260421T182231
CREATED:20220930T151252Z
LAST-MODIFIED:20220930T151252Z
UID:10006709-1664636400-1664647200@www.archaeological.org
SUMMARY:#ArchAtcha at Bayou Teche Brewing
DESCRIPTION:Saturday\, October 1\, 3-6pm\n$ = Free\nFamily friendly \nThe Division of Archaeology and the Atchafalaya National Heritage Area will be at Bayou Teche Brewing from 3-6pm to promote and discuss Atchafalaya Month and Archaeology Month! Stop by for a special surprise to celebrate Atchafalaya Month! #LouisianaArchaeology #CominAtcha #ArchAtcha
URL:https://www.archaeological.org/event/archatcha-at-bayou-teche-brewing/
LOCATION:Bayou Teche Brewing\, 1002 Noth Lane\, Arnaudville\, Louisiana\, 70512
CATEGORIES:International Archaeology Day
ORGANIZER;CN="Maegan Smith":MAILTO:archaeology@crt.la.gov
GEO:30.3976973;-91.9315062
X-APPLE-STRUCTURED-LOCATION;VALUE=URI;X-ADDRESS=Bayou Teche Brewing 1002 Noth Lane Arnaudville Louisiana 70512;X-APPLE-RADIUS=500;X-TITLE=1002 Noth Lane:geo:-91.9315062,30.3976973
END:VEVENT
BEGIN:VEVENT
DTSTART;TZID=America/New_York:20221001T150000
DTEND;TZID=America/New_York:20221001T160000
DTSTAMP:20260421T182231
CREATED:20220930T162341Z
LAST-MODIFIED:20220930T162341Z
UID:10006717-1664636400-1664640000@www.archaeological.org
SUMMARY:Destruction 160 Years Later: How Buried Cannon Balls Can Still Explode
DESCRIPTION:Saturday\, October 1\, 3-4pm\n$ = $4 per person between ages 4 and 61\nFamily Friendly \nDestruction 160 Years Later: How Buried Cannon Balls Can Still Explode at Forts Randolph and Buhlow State Historic Site. A talk on the dangers of unstable ordnance beneath the ground.
URL:https://www.archaeological.org/event/destruction-160-years-later-how-buried-cannon-balls-can-still-explode/
LOCATION:Forts Randolph & Buhlow State Historic Site\, 135 Riverfront St\, Pineville\, LA\, 71360
CATEGORIES:International Archaeology Day
ORGANIZER;CN="Maegan Smith":MAILTO:archaeology@crt.la.gov
GEO:31.324219;-92.449332
X-APPLE-STRUCTURED-LOCATION;VALUE=URI;X-ADDRESS=Forts Randolph & Buhlow State Historic Site 135 Riverfront St Pineville LA 71360;X-APPLE-RADIUS=500;X-TITLE=135 Riverfront St:geo:-92.449332,31.324219
END:VEVENT
BEGIN:VEVENT
DTSTART;TZID=America/New_York:20221001T110000
DTEND;TZID=America/New_York:20221001T120000
DTSTAMP:20260421T182231
CREATED:20220930T151104Z
LAST-MODIFIED:20220930T151104Z
UID:10006708-1664622000-1664625600@www.archaeological.org
SUMMARY:Treasure Stones at Terrebonne Parish Library
DESCRIPTION:Saturday\, October 1\, 11am-12pm\nTuesday\, October 4\, 6-7pm\nWednesday\, October 5th\, 10-11am\n$ = Free\, Registration Required\nAges 6-15 \nTreasure Stones:\nUnearth Louisiana’s past at the Terrebonne Parish Main Library. Hidden in the treasure stones\, you will find replicas of artifacts from Watson Brake\, Poverty Point\, Markville\, and Melrose Plantation. Each attendee will have a treasure egg to explore and receive an activity book from the Louisiana Office of Cultural Development. \nTreasure Stone Activities will be held Saturday October 1 at 11:00am\, Tuesday October 4 during Family Story time at 6:00-7:00 pm\, and October 5th during Pre-K story time at 10:00 am. \nCall to reserve your place today at 985-867-5861.
URL:https://www.archaeological.org/event/treasure-stones-at-terrebonne-parish-library/
LOCATION:Terrebonne Parish Library – Main Branch\, 151 Library Dr.\, Houma\, LA\, 70360\, United States
CATEGORIES:International Archaeology Day
ORGANIZER;CN="Maegan Smith":MAILTO:archaeology@crt.la.gov
GEO:29.5822824;-90.7257378
X-APPLE-STRUCTURED-LOCATION;VALUE=URI;X-ADDRESS=Terrebonne Parish Library – Main Branch 151 Library Dr. Houma LA 70360 United States;X-APPLE-RADIUS=500;X-TITLE=151 Library Dr.:geo:-90.7257378,29.5822824
END:VEVENT
BEGIN:VEVENT
DTSTART;TZID=America/New_York:20220930T190000
DTEND;TZID=America/New_York:20220930T210000
DTSTAMP:20260421T182231
CREATED:20220930T170151Z
LAST-MODIFIED:20220930T180128Z
UID:10006721-1664564400-1664571600@www.archaeological.org
SUMMARY:Trivia at Fighting Hand Brewing Co.
DESCRIPTION:Thursdays\, 7-9pm\n$ = Free\n21 and over only \nFighting Hand Brewing Co. has weekly trivia every Thursday\, but you can join every week in October for a special round of Louisiana Archaeology questions! Teams limited to 6 members. \nFor more information\, visit www.fightinghandbrewing.com\nwww.facebook.com/fightinghandbrewing\nwww.instagram.com/fightinghandbrewing
URL:https://www.archaeological.org/event/trivia-at-fighting-hand-brewing-co/
LOCATION:Fighting Hand Brewing Company\, 1600 Military Hwy\, Pineville\, LA\, 71360
CATEGORIES:International Archaeology Day
ORGANIZER;CN="Maegan Smith":MAILTO:archaeology@crt.la.gov
GEO:31.3334964;-92.4281287
X-APPLE-STRUCTURED-LOCATION;VALUE=URI;X-ADDRESS=Fighting Hand Brewing Company 1600 Military Hwy Pineville LA 71360;X-APPLE-RADIUS=500;X-TITLE=1600 Military Hwy:geo:-92.4281287,31.3334964
END:VEVENT
END:VCALENDAR