BEGIN:VCALENDAR
VERSION:2.0
PRODID:-//Archaeological Institute of America - ECPv6.15.20//NONSGML v1.0//EN
CALSCALE:GREGORIAN
METHOD:PUBLISH
X-ORIGINAL-URL:https://www.archaeological.org
X-WR-CALDESC:Events for Archaeological Institute of America
REFRESH-INTERVAL;VALUE=DURATION:PT1H
X-Robots-Tag:noindex
X-PUBLISHED-TTL:PT1H
BEGIN:VTIMEZONE
TZID:America/Los_Angeles
BEGIN:DAYLIGHT
TZOFFSETFROM:-0800
TZOFFSETTO:-0700
TZNAME:PDT
DTSTART:20230312T100000
END:DAYLIGHT
BEGIN:STANDARD
TZOFFSETFROM:-0700
TZOFFSETTO:-0800
TZNAME:PST
DTSTART:20231105T090000
END:STANDARD
BEGIN:DAYLIGHT
TZOFFSETFROM:-0800
TZOFFSETTO:-0700
TZNAME:PDT
DTSTART:20240310T100000
END:DAYLIGHT
BEGIN:STANDARD
TZOFFSETFROM:-0700
TZOFFSETTO:-0800
TZNAME:PST
DTSTART:20241103T090000
END:STANDARD
BEGIN:DAYLIGHT
TZOFFSETFROM:-0800
TZOFFSETTO:-0700
TZNAME:PDT
DTSTART:20250309T100000
END:DAYLIGHT
BEGIN:STANDARD
TZOFFSETFROM:-0700
TZOFFSETTO:-0800
TZNAME:PST
DTSTART:20251102T090000
END:STANDARD
END:VTIMEZONE
BEGIN:VEVENT
DTSTART;TZID=America/Los_Angeles:20241019T100000
DTEND;TZID=America/Los_Angeles:20241019T130000
DTSTAMP:20260421T061104
CREATED:20241016T152715Z
LAST-MODIFIED:20241016T152715Z
UID:10007338-1729332000-1729342800@www.archaeological.org
SUMMARY:Celebrate International Archaeology Day @ WSC
DESCRIPTION:Visit the Western Science Center on Saturday October 19th to celebrate International Archaeology Day!\nExplore the field of archaeology with hands-on activities for the whole family. Activities will be inside the museum from 10am to 1pm and are included with the admission cost for the museum.\nInternational Archaeology Day activities are made possible with the help of Mt. San Jacinto College Anthropology Club.
URL:https://www.archaeological.org/event/celebrate-international-archaeology-day-wsc-2/
LOCATION:Western Science Center\, 2345 Searl Parkway\, Hemet\, CA\, 92543-9706\, United States
CATEGORIES:International Archaeology Day
ORGANIZER;CN="Margaret Ozolins":MAILTO:mozolins@westerncentermuseum.org
GEO:33.7059022;-116.9925457
X-APPLE-STRUCTURED-LOCATION;VALUE=URI;X-ADDRESS=Western Science Center 2345 Searl Parkway Hemet CA 92543-9706 United States;X-APPLE-RADIUS=500;X-TITLE=2345 Searl Parkway:geo:-116.9925457,33.7059022
END:VEVENT
END:VCALENDAR