BEGIN:VCALENDAR
VERSION:2.0
PRODID:-//Archaeological Institute of America - ECPv6.15.20//NONSGML v1.0//EN
CALSCALE:GREGORIAN
METHOD:PUBLISH
X-WR-CALNAME:Archaeological Institute of America
X-ORIGINAL-URL:https://www.archaeological.org
X-WR-CALDESC:Events for Archaeological Institute of America
REFRESH-INTERVAL;VALUE=DURATION:PT1H
X-Robots-Tag:noindex
X-PUBLISHED-TTL:PT1H
BEGIN:VTIMEZONE
TZID:America/New_York
BEGIN:DAYLIGHT
TZOFFSETFROM:-0500
TZOFFSETTO:-0400
TZNAME:EDT
DTSTART:20240310T070000
END:DAYLIGHT
BEGIN:STANDARD
TZOFFSETFROM:-0400
TZOFFSETTO:-0500
TZNAME:EST
DTSTART:20241103T060000
END:STANDARD
BEGIN:DAYLIGHT
TZOFFSETFROM:-0500
TZOFFSETTO:-0400
TZNAME:EDT
DTSTART:20250309T070000
END:DAYLIGHT
BEGIN:STANDARD
TZOFFSETFROM:-0400
TZOFFSETTO:-0500
TZNAME:EST
DTSTART:20251102T060000
END:STANDARD
BEGIN:DAYLIGHT
TZOFFSETFROM:-0500
TZOFFSETTO:-0400
TZNAME:EDT
DTSTART:20260308T070000
END:DAYLIGHT
BEGIN:STANDARD
TZOFFSETFROM:-0400
TZOFFSETTO:-0500
TZNAME:EST
DTSTART:20261101T060000
END:STANDARD
END:VTIMEZONE
BEGIN:VEVENT
DTSTART;TZID=America/New_York:20250227T193000
DTEND;TZID=America/New_York:20250227T203000
DTSTAMP:20260423T064540
CREATED:20250129T152239Z
LAST-MODIFIED:20250129T152239Z
UID:10007523-1740684600-1740688200@www.archaeological.org
SUMMARY:From Ancient Quarries to New Inquiries: Exhibiting the ISAC Museum’s Roman Sculpture Collection in an Age of Greater Transparency
DESCRIPTION:Kershaw Lectures in Near East Archaeology
URL:https://www.archaeological.org/event/from-ancient-quarries-to-new-inquiries-exhibiting-the-isac-museums-roman-sculpture-collection-in-an-age-of-greater-transparency/
LOCATION:Willamette University Law School\, Paulus Lecture Hall\, 245 Winter St SE\, Salem\, OR\, 97301\, United States
CATEGORIES:AIA Lecture Program,Lecture
ORGANIZER;CN="Mary Bachvarova":MAILTO:mbachvar@willamette.edu
GEO:44.936921;-123.0335864
X-APPLE-STRUCTURED-LOCATION;VALUE=URI;X-ADDRESS=Willamette University Law School Paulus Lecture Hall 245 Winter St SE Salem OR 97301 United States;X-APPLE-RADIUS=500;X-TITLE=245 Winter St SE:geo:-123.0335864,44.936921
END:VEVENT
END:VCALENDAR