BEGIN:VCALENDAR
VERSION:2.0
PRODID:-//Archaeological Institute of America - ECPv6.15.20//NONSGML v1.0//EN
CALSCALE:GREGORIAN
METHOD:PUBLISH
X-WR-CALNAME:Archaeological Institute of America
X-ORIGINAL-URL:https://www.archaeological.org
X-WR-CALDESC:Events for Archaeological Institute of America
REFRESH-INTERVAL;VALUE=DURATION:PT1H
X-Robots-Tag:noindex
X-PUBLISHED-TTL:PT1H
BEGIN:VTIMEZONE
TZID:America/New_York
BEGIN:DAYLIGHT
TZOFFSETFROM:-0500
TZOFFSETTO:-0400
TZNAME:EDT
DTSTART:20240310T070000
END:DAYLIGHT
BEGIN:STANDARD
TZOFFSETFROM:-0400
TZOFFSETTO:-0500
TZNAME:EST
DTSTART:20241103T060000
END:STANDARD
BEGIN:DAYLIGHT
TZOFFSETFROM:-0500
TZOFFSETTO:-0400
TZNAME:EDT
DTSTART:20250309T070000
END:DAYLIGHT
BEGIN:STANDARD
TZOFFSETFROM:-0400
TZOFFSETTO:-0500
TZNAME:EST
DTSTART:20251102T060000
END:STANDARD
BEGIN:DAYLIGHT
TZOFFSETFROM:-0500
TZOFFSETTO:-0400
TZNAME:EDT
DTSTART:20260308T070000
END:DAYLIGHT
BEGIN:STANDARD
TZOFFSETFROM:-0400
TZOFFSETTO:-0500
TZNAME:EST
DTSTART:20261101T060000
END:STANDARD
BEGIN:DAYLIGHT
TZOFFSETFROM:-0500
TZOFFSETTO:-0400
TZNAME:EDT
DTSTART:20270314T070000
END:DAYLIGHT
BEGIN:STANDARD
TZOFFSETFROM:-0400
TZOFFSETTO:-0500
TZNAME:EST
DTSTART:20271107T060000
END:STANDARD
END:VTIMEZONE
BEGIN:VEVENT
DTSTART;TZID=America/New_York:20260312T180000
DTEND;TZID=America/New_York:20260312T190000
DTSTAMP:20260423T044131
CREATED:20260309T163521Z
LAST-MODIFIED:20260309T163521Z
UID:10009021-1773338400-1773342000@www.archaeological.org
SUMMARY:Public Lecture: Dr. Alexander Dale (CMLL Department\, Concordia University)
DESCRIPTION:On Thursday\, March 12th\, Dr. Alexander Dale (CMLL Department\, Concordia University) will deliver a presentation entitled\, Two Lesbian Brothers: the quest for fortune and glory in the Archaic Greek East. The talk will take place at 600pm in Hall Building 420. It is sponsored by the Concordia Classical Students Association and the Archaeological Institute of America\, Montreal Society.
URL:https://www.archaeological.org/event/public-lecture-dr-alexander-dale-cmll-department-concordia-university/
LOCATION:Concordia University\, H420\, 1455 De Maisonneuve Blvd W\, Montreal\, QC\, H3G-1M8\, Canada
CATEGORIES:Lecture
ATTACH;FMTTYPE=image/jpeg:https://www.archaeological.org/wp-content/uploads/2026/03/Dr.-Alexander-Dale-Lecture.jpg
ORGANIZER;CN="Matt Buell":MAILTO:matthew.buell@concordia.ca
GEO:45.4967191;-73.5785557
X-APPLE-STRUCTURED-LOCATION;VALUE=URI;X-ADDRESS=Concordia University H420 1455 De Maisonneuve Blvd W Montreal QC H3G-1M8 Canada;X-APPLE-RADIUS=500;X-TITLE=1455 De Maisonneuve Blvd W:geo:-73.5785557,45.4967191
END:VEVENT
BEGIN:VEVENT
DTSTART;TZID=America/New_York:20260219T180000
DTEND;TZID=America/New_York:20260219T190000
DTSTAMP:20260423T044131
CREATED:20260213T210729Z
LAST-MODIFIED:20260213T210729Z
UID:10008851-1771524000-1771527600@www.archaeological.org
SUMMARY:Public Lecture: Professor Jean-Michel Roessli (Department of Theological Studies\, Concordia University)
DESCRIPTION:On Thursday\, February 19th\, Professor Jean-Michel Roessli (Department of Theological Studies\, Concordia University) will deliver a presentation entitled\, Orpheus in Early Judaism and Early Christianity: Texts and Images. The talk will take place at 600pm in Hall Building 411 (SGW).
URL:https://www.archaeological.org/event/public-lecture-professor-jean-michel-roessli-department-of-theological-studies-concordia-university/
LOCATION:Concordia University\, H 411\, 1455 De Maisonneuve Blvd W\, Montreal\, QC\, H3G-1M8\, Canada
CATEGORIES:Lecture
ATTACH;FMTTYPE=image/jpeg:https://www.archaeological.org/wp-content/uploads/2026/02/Roessli-Talk-Poster.jpg
ORGANIZER;CN="Matt Buell":MAILTO:matthew.buell@concordia.ca
GEO:45.4967191;-73.5785557
X-APPLE-STRUCTURED-LOCATION;VALUE=URI;X-ADDRESS=Concordia University H 411 1455 De Maisonneuve Blvd W Montreal QC H3G-1M8 Canada;X-APPLE-RADIUS=500;X-TITLE=1455 De Maisonneuve Blvd W:geo:-73.5785557,45.4967191
END:VEVENT
BEGIN:VEVENT
DTSTART;TZID=America/New_York:20251202T160000
DTEND;TZID=America/New_York:20251202T170000
DTSTAMP:20260423T044131
CREATED:20251201T144359Z
LAST-MODIFIED:20251201T144359Z
UID:10008781-1764691200-1764694800@www.archaeological.org
SUMMARY:Lecture: Claire Balandier (Université d’Avignon)
DESCRIPTION:On Tuesday\, December 2nd\, at 400pm Dr. Claire Balandier (Université d’Avignon) will deliver the lecture\, L’Urbanisme de Chypre À L’époque Hellénistique. This lecture will take place in the Centre d’Études Classiques\, Room 515-43 (3744 Rue Jean-Brillant). The lecture will be in French
URL:https://www.archaeological.org/event/lecture-claire-balandier-universite-davignon/
ATTACH;FMTTYPE=image/jpeg:https://www.archaeological.org/wp-content/uploads/2025/11/Claire-Balandier-Conf.jpg
ORGANIZER;CN="Matt Buell":MAILTO:matthew.buell@concordia.ca
LOCATION:https://umontreal.zoom.us/j/87997826260?pwd=ZhvrD3igih5F2Y0Rj3FSelGjbTJCwD.1
END:VEVENT
BEGIN:VEVENT
DTSTART;TZID=America/New_York:20251127T173000
DTEND;TZID=America/New_York:20251127T183000
DTSTAMP:20260423T044131
CREATED:20251201T142743Z
LAST-MODIFIED:20251201T142743Z
UID:10008784-1764264600-1764268200@www.archaeological.org
SUMMARY:Public Lecture: Dr. Scott Gallimore (Wilfrid Laurier University)
DESCRIPTION:On Thursday\, Nov. 27th\, 530-630pm\, Dr. Scott Gallimore will deliver the key-note lecture\, Looking for People Behind the Crafts: Evidence for Production and Industry at Sikyon\, Greece\, as part of a two-day student conference. This lecture will take place at Concordia University in MB 2.130.
URL:https://www.archaeological.org/event/public-lecture-dr-scott-gallimore-wilfrid-laurier-university/
ORGANIZER;CN="Matt Buell":MAILTO:matthew.buell@concordia.ca
END:VEVENT
BEGIN:VEVENT
DTSTART;TZID=America/New_York:20250410T180000
DTEND;TZID=America/New_York:20250410T190000
DTSTAMP:20260423T044131
CREATED:20250404T151203Z
LAST-MODIFIED:20250404T151203Z
UID:10007648-1744308000-1744311600@www.archaeological.org
SUMMARY:Lecture: Susan Downie (Carleton University)\, "Sparta and Totalitarianism"
DESCRIPTION:On Thursday\, April 10th\, at 600pm\, Dr. Susan Downie (Carleton University) will deliver the lecture\, “Sparta and Totalitarianism\,” in room LB 322 of Concordia University’s Webster Library. \nAbstract\nThe ancient Greek city-state of Sparta has never really left the imagination of western civilization. From political philosophers like Plato and Aristotle to modern political parties such as Greece’s Χρυσή Αυγή “Golden Dawn”\, the Spartan state and its citizens have represented an “ideal” for which to strive. What elements of the ancient Spartan state and society have made it the poster-child for modern Totalitarianism? Given the significant problems with our sources about ancient Sparta\, can we ever understand exactly how the state and its citizens functioned\, or must we forever deal with the “Spartan mirage”?
URL:https://www.archaeological.org/event/lecture-susan-downie-carleton-university-sparta-and-totalitarianism/
LOCATION:Concordia University\, LB 322\, 1400 De Maisonneuve Blvd\, Montreal\, Quebec\, H3G 1M8\, Canada
CATEGORIES:Lecture
ORGANIZER;CN="Matt Buell":MAILTO:matthew.buell@concordia.ca
GEO:45.5208162;-73.5556153
X-APPLE-STRUCTURED-LOCATION;VALUE=URI;X-ADDRESS=Concordia University LB 322 1400 De Maisonneuve Blvd Montreal Quebec H3G 1M8 Canada;X-APPLE-RADIUS=500;X-TITLE=1400 De Maisonneuve Blvd:geo:-73.5556153,45.5208162
END:VEVENT
BEGIN:VEVENT
DTSTART;TZID=America/New_York:20250327T180000
DTEND;TZID=America/New_York:20250327T190000
DTSTAMP:20260423T044131
CREATED:20250312T153336Z
LAST-MODIFIED:20250312T160414Z
UID:10007612-1743098400-1743102000@www.archaeological.org
SUMMARY:Argilos After Philip II: Fortifying Lands\, Cultivating Wealth
DESCRIPTION:Following its conquest by Philip II of Macedon in 357 BCE\, the city of Argilos was abandoned\, and its land redistributed to a Macedonian general. Responsible for overseeing his territory within the expanding Macedonian realm\, he also capitalized on the region’s olive oil production\, as evidenced by the remains found on the Acropolis of Argilos. This talk will explore the dual role of Argilos in the post-conquest period\, highlighting its strategic significance and economic exploitation under Macedonian rule. By Laure-Sarah Ethier (Université de Montréal )
URL:https://www.archaeological.org/event/argilos-after-philip-ii-fortifying-lands-cultivating-wealth/
LOCATION:Concordia University\, SGW\, LB-322\, Montreal\, Canada
CATEGORIES:Lecture
ORGANIZER;CN="Matt Buell":MAILTO:matthew.buell@concordia.ca
GEO:33.65455;-117.812315
X-APPLE-STRUCTURED-LOCATION;VALUE=URI;X-ADDRESS=Concordia University SGW LB-322 Montreal Canada;X-APPLE-RADIUS=500;X-TITLE=SGW\, LB-322:geo:-117.812315,33.65455
END:VEVENT
END:VCALENDAR