BEGIN:VCALENDAR
VERSION:2.0
PRODID:-//Archaeological Institute of America - ECPv6.15.20//NONSGML v1.0//EN
CALSCALE:GREGORIAN
METHOD:PUBLISH
X-WR-CALNAME:Archaeological Institute of America
X-ORIGINAL-URL:https://www.archaeological.org
X-WR-CALDESC:Events for Archaeological Institute of America
REFRESH-INTERVAL;VALUE=DURATION:PT1H
X-Robots-Tag:noindex
X-PUBLISHED-TTL:PT1H
BEGIN:VTIMEZONE
TZID:America/Belize
BEGIN:STANDARD
TZOFFSETFROM:-0600
TZOFFSETTO:-0600
TZNAME:CST
DTSTART:20200101T000000
END:STANDARD
END:VTIMEZONE
BEGIN:VEVENT
DTSTART;VALUE=DATE:20211022
DTEND;VALUE=DATE:20211023
DTSTAMP:20260424T054454
CREATED:20211006T170423Z
LAST-MODIFIED:20211006T170451Z
UID:10006146-1634860800-1634947199@www.archaeological.org
SUMMARY:Celebrating Belizean Archaeology
DESCRIPTION:The Belize Institute of Archaeology celebrates International Archaeology Day hosting multiple trivia Fridays (October 8\, 15\, and 22) on social media (IA Facebook page) whereby trivia pertaining to Belizean archaeology will be posted throughout the day. Also\, we will be hosting an interactive competition aimed at bringing awareness to Belize’s archaeological sites. Participants will be tasked to create replicas of iconic Belizean archaeological site buildings using only recycled materials and posting images of their creations on the IA Facebook page.
URL:https://www.archaeological.org/event/celebrating-belizean-archaeology/2021-10-22/
CATEGORIES:International Archaeology Day
ORGANIZER;CN="Melissa Badillo":MAILTO:melissa.badillo@nichbelize.org
END:VEVENT
BEGIN:VEVENT
DTSTART;VALUE=DATE:20211015
DTEND;VALUE=DATE:20211016
DTSTAMP:20260424T054454
CREATED:20211006T170423Z
LAST-MODIFIED:20211006T170451Z
UID:10006145-1634256000-1634342399@www.archaeological.org
SUMMARY:Celebrating Belizean Archaeology
DESCRIPTION:The Belize Institute of Archaeology celebrates International Archaeology Day hosting multiple trivia Fridays (October 8\, 15\, and 22) on social media (IA Facebook page) whereby trivia pertaining to Belizean archaeology will be posted throughout the day. Also\, we will be hosting an interactive competition aimed at bringing awareness to Belize’s archaeological sites. Participants will be tasked to create replicas of iconic Belizean archaeological site buildings using only recycled materials and posting images of their creations on the IA Facebook page.
URL:https://www.archaeological.org/event/celebrating-belizean-archaeology/2021-10-15/
CATEGORIES:International Archaeology Day
ORGANIZER;CN="Melissa Badillo":MAILTO:melissa.badillo@nichbelize.org
END:VEVENT
BEGIN:VEVENT
DTSTART;VALUE=DATE:20211008
DTEND;VALUE=DATE:20211009
DTSTAMP:20260424T054454
CREATED:20211006T170423Z
LAST-MODIFIED:20211006T170451Z
UID:10006144-1633651200-1633737599@www.archaeological.org
SUMMARY:Celebrating Belizean Archaeology
DESCRIPTION:The Belize Institute of Archaeology celebrates International Archaeology Day hosting multiple trivia Fridays (October 8\, 15\, and 22) on social media (IA Facebook page) whereby trivia pertaining to Belizean archaeology will be posted throughout the day. Also\, we will be hosting an interactive competition aimed at bringing awareness to Belize’s archaeological sites. Participants will be tasked to create replicas of iconic Belizean archaeological site buildings using only recycled materials and posting images of their creations on the IA Facebook page.
URL:https://www.archaeological.org/event/celebrating-belizean-archaeology/2021-10-08/
CATEGORIES:International Archaeology Day
ORGANIZER;CN="Melissa Badillo":MAILTO:melissa.badillo@nichbelize.org
END:VEVENT
END:VCALENDAR