BEGIN:VCALENDAR
VERSION:2.0
PRODID:-//Archaeological Institute of America - ECPv6.15.20//NONSGML v1.0//EN
CALSCALE:GREGORIAN
METHOD:PUBLISH
X-ORIGINAL-URL:https://www.archaeological.org
X-WR-CALDESC:Events for Archaeological Institute of America
REFRESH-INTERVAL;VALUE=DURATION:PT1H
X-Robots-Tag:noindex
X-PUBLISHED-TTL:PT1H
BEGIN:VTIMEZONE
TZID:America/Chicago
BEGIN:DAYLIGHT
TZOFFSETFROM:-0600
TZOFFSETTO:-0500
TZNAME:CDT
DTSTART:20210314T080000
END:DAYLIGHT
BEGIN:STANDARD
TZOFFSETFROM:-0500
TZOFFSETTO:-0600
TZNAME:CST
DTSTART:20211107T070000
END:STANDARD
BEGIN:DAYLIGHT
TZOFFSETFROM:-0600
TZOFFSETTO:-0500
TZNAME:CDT
DTSTART:20220313T080000
END:DAYLIGHT
BEGIN:STANDARD
TZOFFSETFROM:-0500
TZOFFSETTO:-0600
TZNAME:CST
DTSTART:20221106T070000
END:STANDARD
BEGIN:DAYLIGHT
TZOFFSETFROM:-0600
TZOFFSETTO:-0500
TZNAME:CDT
DTSTART:20230312T080000
END:DAYLIGHT
BEGIN:STANDARD
TZOFFSETFROM:-0500
TZOFFSETTO:-0600
TZNAME:CST
DTSTART:20231105T070000
END:STANDARD
END:VTIMEZONE
BEGIN:VEVENT
DTSTART;TZID=America/Chicago:20221210T130000
DTEND;TZID=America/Chicago:20221210T130000
DTSTAMP:20260421T104448
CREATED:20220922T142949Z
LAST-MODIFIED:20220922T142949Z
UID:10006081-1670677200-1670677200@www.archaeological.org
SUMMARY:Time Team Adventures and Community Archaeology
DESCRIPTION:ZOOM lecture: “Time Team Adventures and Community Archaeology” by Dr. Alexandra Jones ( Assistant Professor of Practice in History and Anthropology at Goucher College). Room opens at 12:45 and lecture promptly starts at 1 PM. Sign in at 12:45\, please… \nMore Zoom events are listed here on the St. Louis Society webpage.
URL:https://www.archaeological.org/event/time-team-adventures-and-community-archaeology/
CATEGORIES:Lecture
ORGANIZER;CN="Michael Fuller":MAILTO:MFuller@stlcc.edu
END:VEVENT
BEGIN:VEVENT
DTSTART;TZID=America/Chicago:20221105T130000
DTEND;TZID=America/Chicago:20221105T130000
DTSTAMP:20260421T104448
CREATED:20220922T142148Z
LAST-MODIFIED:20220922T142512Z
UID:10006077-1667653200-1667653200@www.archaeological.org
SUMMARY:Roman/Byzantine Ruins at Gadara in Jordan
DESCRIPTION:ZOOM lecture “Roman/Byzantine ruins at Gadara in Jordan” by Sufyan al-Karaimeh (University of Leiden – Netherlands) Room opens at 12:45 and lecture promptly starts at 1 PM. Sign in at 12:45\, please… \nMore Zoom events are listed here on the St. Louis Society webpage.
URL:https://www.archaeological.org/event/roman-byzantine-ruins-at-gadara-in-jordan/
CATEGORIES:Lecture
ATTACH;FMTTYPE=image/png:https://www.archaeological.org/wp-content/uploads/2022/09/St-Louis-Nov-2022-Event-Image.png
ORGANIZER;CN="Michael Fuller":MAILTO:MFuller@stlcc.edu
END:VEVENT
BEGIN:VEVENT
DTSTART;TZID=America/Chicago:20221015T140000
DTEND;TZID=America/Chicago:20221015T180000
DTSTAMP:20260421T104448
CREATED:20220922T141817Z
LAST-MODIFIED:20220922T141924Z
UID:10006075-1665842400-1665856800@www.archaeological.org
SUMMARY:Project Archaeology - welcome to public\, private and home school students
DESCRIPTION:International Archaeology Day lecture “Project Archaeology – welcome to public\, private and home school students” – a presentation by Gail Lundeen\, past president of the Missouri Archaeological Society. Program held at the Sappington House Museum. \nMore events are listed here on the St. Louis Society webpage.
URL:https://www.archaeological.org/event/project-archaeology-welcome-to-public-private-and-home-school-students/
LOCATION:Sappington House Museum\, 1015 S Sappington Rd\, Crestwood\, MO\, 63126
CATEGORIES:Lecture
ATTACH;FMTTYPE=image/png:https://www.archaeological.org/wp-content/uploads/2022/09/St-Louis-Oct-2022-Event-Image.png
ORGANIZER;CN="Michael Fuller":MAILTO:MFuller@stlcc.edu
GEO:38.5710853;-90.3859965
X-APPLE-STRUCTURED-LOCATION;VALUE=URI;X-ADDRESS=Sappington House Museum 1015 S Sappington Rd Crestwood MO 63126;X-APPLE-RADIUS=500;X-TITLE=1015 S Sappington Rd:geo:-90.3859965,38.5710853
END:VEVENT
BEGIN:VEVENT
DTSTART;TZID=America/Chicago:20220924T130000
DTEND;TZID=America/Chicago:20220924T130000
DTSTAMP:20260421T104448
CREATED:20220922T141055Z
LAST-MODIFIED:20220922T141330Z
UID:10006072-1664024400-1664024400@www.archaeological.org
SUMMARY:The Archaeology of Dreams and What It Tells Us about Climate Change
DESCRIPTION:ZOOM Lecture: “The Archaeology of Dreams and What It Tells Us About Climate Change” by Dr. David S. Whitley\, Adjunct Professor in the School of Geographical Sciences at Arizona State University. Zoom room opens at 12:45 and lecture promptly starts at 1 PM. Sign in at 12:45\, please… \nMore Zoom events are listed here on the St. Louis Society webpage.
URL:https://www.archaeological.org/event/the-archaeology-of-dreams-and-what-it-tells-us-about-climate-change/
CATEGORIES:Lecture
ATTACH;FMTTYPE=image/png:https://www.archaeological.org/wp-content/uploads/2022/09/St-Louis-Sep-2022-Event-Image.png
ORGANIZER;CN="Michael Fuller":MAILTO:MFuller@stlcc.edu
END:VEVENT
END:VCALENDAR