BEGIN:VCALENDAR
VERSION:2.0
PRODID:-//Archaeological Institute of America - ECPv6.15.20//NONSGML v1.0//EN
CALSCALE:GREGORIAN
METHOD:PUBLISH
X-ORIGINAL-URL:https://www.archaeological.org
X-WR-CALDESC:Events for Archaeological Institute of America
REFRESH-INTERVAL;VALUE=DURATION:PT1H
X-Robots-Tag:noindex
X-PUBLISHED-TTL:PT1H
BEGIN:VTIMEZONE
TZID:Asia/Yangon
BEGIN:STANDARD
TZOFFSETFROM:+0630
TZOFFSETTO:+0630
TZNAME:+0630
DTSTART:20210101T000000
END:STANDARD
END:VTIMEZONE
BEGIN:VEVENT
DTSTART;VALUE=DATE:20221012
DTEND;VALUE=DATE:20221013
DTSTAMP:20260424T155854
CREATED:20220926T142139Z
LAST-MODIFIED:20220926T142139Z
UID:10006071-1665532800-1665619199@www.archaeological.org
SUMMARY:Awareness on Archaeological  Heritages of caves in Hpa -an
DESCRIPTION:Welcoming the International Archaeology Day 2022\, October 15\,\nWe will perform the event at ToungeLa’Yat Education Gathering Group- EGG Academy in Kawt Kadee Village of Hpa-an Township \, Karen State of Myanmar on 12 October 2022 ( Wednesday). The name of Title is\n” Awareness on Archaeological Heritages of caves in Hpa -an”\nThis event is organized and collaborating together with ToungeLa’Yat Education Gathering Group- EGG Academy\, Myanmar Karsts and Caves Conservancy ( MKCC) and S.S.T ( Supreme Services Team) Tourism Co.\,Ltd. Many stake holders from regional and Youths from ToungeLa’Yat Education Gathering Group-(EGG Academy) will participate in this event. Lead by Dr. Naw Yuzana Win ( PhD in Archaeology). She is one of executive member of Myanmar Karsts and Caves Conservancy ( MKCC) \nAgenda:\nEvent Date: 12 October \,2022 ( Wednesday)\nEvent Title: Awareness on Archaeological Heritages of caves in Hpa -an\nTime: 08:00 am to 05: 30 pm\nVenue: ToungeLa’Yat Education Gathering Group- EGG Academy in Kawt Kadee Village\, Hpa-an Township\, Karen State of Myanmar\n1: 08:00 am to 08:30 am – Registration\n2: 08:30 am to 11:00 am – Awareness raising section about the archaeological values of Natural caves around Hpa-an Township\,\nPresentation by Dr. Naw Yuzana Win ( PhD in Archaeology).\n3: 11:00 am to 12:00 noon \, Lunch break\n4: 12:00 am to 04:00 pm\, Site Visit to:\n#Waibula Cave ( Early Hunters and Gatherers Settlement)*\n# Kawtphyar Cave ( Historical Heritages)\n# Eitsarthaya Cave ( Natural Heritage and Cave Biodiversity Conservation)\n5: 04:00 pm to 05:15 pm\, Group Discussion\n6: 05:15 pm to 05:30 pm\, Closing remark
URL:https://www.archaeological.org/event/awareness-on-archaeological-heritages-of-caves-in-hpa-an/
CATEGORIES:International Archaeology Day
ATTACH;FMTTYPE=image/jpeg:https://www.archaeological.org/wp-content/uploads/2022/09/the-location-map-of-IAD-2022.jpg
ORGANIZER;CN="Mr. Soe Min Aye":MAILTO:marketing@ssttourism.com
END:VEVENT
END:VCALENDAR