BEGIN:VCALENDAR
VERSION:2.0
PRODID:-//Archaeological Institute of America - ECPv6.15.20//NONSGML v1.0//EN
CALSCALE:GREGORIAN
METHOD:PUBLISH
X-WR-CALNAME:Archaeological Institute of America
X-ORIGINAL-URL:https://www.archaeological.org
X-WR-CALDESC:Events for Archaeological Institute of America
REFRESH-INTERVAL;VALUE=DURATION:PT1H
X-Robots-Tag:noindex
X-PUBLISHED-TTL:PT1H
BEGIN:VTIMEZONE
TZID:America/New_York
BEGIN:DAYLIGHT
TZOFFSETFROM:-0500
TZOFFSETTO:-0400
TZNAME:EDT
DTSTART:20250309T070000
END:DAYLIGHT
BEGIN:STANDARD
TZOFFSETFROM:-0400
TZOFFSETTO:-0500
TZNAME:EST
DTSTART:20251102T060000
END:STANDARD
BEGIN:DAYLIGHT
TZOFFSETFROM:-0500
TZOFFSETTO:-0400
TZNAME:EDT
DTSTART:20260308T070000
END:DAYLIGHT
BEGIN:STANDARD
TZOFFSETFROM:-0400
TZOFFSETTO:-0500
TZNAME:EST
DTSTART:20261101T060000
END:STANDARD
BEGIN:DAYLIGHT
TZOFFSETFROM:-0500
TZOFFSETTO:-0400
TZNAME:EDT
DTSTART:20270314T070000
END:DAYLIGHT
BEGIN:STANDARD
TZOFFSETFROM:-0400
TZOFFSETTO:-0500
TZNAME:EST
DTSTART:20271107T060000
END:STANDARD
END:VTIMEZONE
BEGIN:VEVENT
DTSTART;TZID=America/New_York:20260217T173000
DTEND;TZID=America/New_York:20260217T190000
DTSTAMP:20260422T124734
CREATED:20260107T161643Z
LAST-MODIFIED:20260107T161643Z
UID:10008813-1771349400-1771354800@www.archaeological.org
SUMMARY:From Farmers to Kings: The Emergence of Social Hierarchy in Prehistoric Europe
DESCRIPTION:Lecture by William Parkinson; William (Bill) Parkinson is an archaeologist who specializes in European and Eastern Mediterranean Prehistory. His anthropological and archaeological research explores the social dynamics of early village societies and the emergence of early states. He has over 30 years of experience conducting archaeological fieldwork and developing museum exhibitions for the Field Museum. \nThe modern world is plagued with unprecedented levels of social\, economic\, and political inequalities. But these inequities did not happen overnight; in places like southeastern Europe they emerged over the course of thousands of years as the small egalitarian farming villages of the Neolithic gave way to some of the earliest hierarchical kingdoms in the Iron Age. This is the story that was told in the First Kings of Europe exhibition\, an ambitious international collaboration between twenty-six museums in eleven countries in southeastern Europe. In this presentation\, Bill Parkinson gives an overview of his archaeological research into the emergence of social hierarchy in the region\, as well as an overview of the exhibition he co-curated with his long-time collaborator\, Attila Gyucha.
URL:https://www.archaeological.org/event/from-farmers-to-kings-the-emergence-of-social-hierarchy-in-prehistoric-europe-3/
LOCATION:Maier Museum of Art at Randolph College\, 1 Quinlan St\, Lynchburg\, VA\, 24503\, United States
CATEGORIES:AIA Lecture Program
ATTACH;FMTTYPE=image/jpeg:https://www.archaeological.org/wp-content/uploads/2026/01/Archaeological-Institute-of-America-Lecture.jpg
ORGANIZER;CN="Museum":MAILTO:ebryant01@randolphcollege.edu
GEO:37.4391844;-79.1699067
X-APPLE-STRUCTURED-LOCATION;VALUE=URI;X-ADDRESS=Maier Museum of Art at Randolph College 1 Quinlan St Lynchburg VA 24503 United States;X-APPLE-RADIUS=500;X-TITLE=1 Quinlan St:geo:-79.1699067,37.4391844
END:VEVENT
END:VCALENDAR