BEGIN:VCALENDAR
VERSION:2.0
PRODID:-//Archaeological Institute of America - ECPv6.15.20//NONSGML v1.0//EN
CALSCALE:GREGORIAN
METHOD:PUBLISH
X-ORIGINAL-URL:https://www.archaeological.org
X-WR-CALDESC:Events for Archaeological Institute of America
REFRESH-INTERVAL;VALUE=DURATION:PT1H
X-Robots-Tag:noindex
X-PUBLISHED-TTL:PT1H
BEGIN:VTIMEZONE
TZID:America/New_York
BEGIN:DAYLIGHT
TZOFFSETFROM:-0500
TZOFFSETTO:-0400
TZNAME:EDT
DTSTART:20210314T070000
END:DAYLIGHT
BEGIN:STANDARD
TZOFFSETFROM:-0400
TZOFFSETTO:-0500
TZNAME:EST
DTSTART:20211107T060000
END:STANDARD
BEGIN:DAYLIGHT
TZOFFSETFROM:-0500
TZOFFSETTO:-0400
TZNAME:EDT
DTSTART:20220313T070000
END:DAYLIGHT
BEGIN:STANDARD
TZOFFSETFROM:-0400
TZOFFSETTO:-0500
TZNAME:EST
DTSTART:20221106T060000
END:STANDARD
BEGIN:DAYLIGHT
TZOFFSETFROM:-0500
TZOFFSETTO:-0400
TZNAME:EDT
DTSTART:20230312T070000
END:DAYLIGHT
BEGIN:STANDARD
TZOFFSETFROM:-0400
TZOFFSETTO:-0500
TZNAME:EST
DTSTART:20231105T060000
END:STANDARD
END:VTIMEZONE
BEGIN:VEVENT
DTSTART;TZID=America/New_York:20221015T090000
DTEND;TZID=America/New_York:20221015T170000
DTSTAMP:20260421T091749
CREATED:20221014T143101Z
LAST-MODIFIED:20221014T143101Z
UID:10006761-1665824400-1665853200@www.archaeological.org
SUMMARY:International Archaeology Day in Česká Lípa 2022
DESCRIPTION:The Museum and Gallery in Česká Lípa invite guided tour of the permanent exhibitions in Archaeological museum „Šatlava“\, a special exhibition “Clay\, wood and stone”\, focused on the archeology of town houses\, with a presentation of previously unexhibited exhibits from the museum depository.\nThere will also be a traditional archaeological cinema corner with visualizations of the changes in the town of Česká Lípa in the late Middle Ages and at the turn of the 19th and 20th centuries\, and also workshops for children and adults. \nWe are ready for adult and kids. Free entry.
URL:https://www.archaeological.org/event/international-archaeology-day-in-ceska-lipa-2022/
LOCATION:Archaeological museum „Šatlava“ in Česká Lípa / Archeologické muzeum – Šatlava v České Lípě\, Vězeňská 189\, Česká Lípa\, Liberecký kraj\, 470 01\, Czechia
CATEGORIES:International Archaeology Day
ATTACH;FMTTYPE=image/jpeg:https://www.archaeological.org/wp-content/uploads/2022/10/MDA-v-Ceske-Lipe-2022.jpg
ORGANIZER;CN="Petr Jen%C4%8D":MAILTO:petrjenc@centrum.cz
GEO:50.6876092;14.5366792
X-APPLE-STRUCTURED-LOCATION;VALUE=URI;X-ADDRESS=Archaeological museum „Šatlava“ in Česká Lípa / Archeologické muzeum – Šatlava v České Lípě Vězeňská 189 Česká Lípa Liberecký kraj 470 01 Czechia;X-APPLE-RADIUS=500;X-TITLE=Vězeňská 189:geo:14.5366792,50.6876092
END:VEVENT
END:VCALENDAR