BEGIN:VCALENDAR
VERSION:2.0
PRODID:-//Archaeological Institute of America - ECPv6.15.20//NONSGML v1.0//EN
CALSCALE:GREGORIAN
METHOD:PUBLISH
X-ORIGINAL-URL:https://www.archaeological.org
X-WR-CALDESC:Events for Archaeological Institute of America
REFRESH-INTERVAL;VALUE=DURATION:PT1H
X-Robots-Tag:noindex
X-PUBLISHED-TTL:PT1H
BEGIN:VTIMEZONE
TZID:America/Los_Angeles
BEGIN:DAYLIGHT
TZOFFSETFROM:-0800
TZOFFSETTO:-0700
TZNAME:PDT
DTSTART:20210314T100000
END:DAYLIGHT
BEGIN:STANDARD
TZOFFSETFROM:-0700
TZOFFSETTO:-0800
TZNAME:PST
DTSTART:20211107T090000
END:STANDARD
BEGIN:DAYLIGHT
TZOFFSETFROM:-0800
TZOFFSETTO:-0700
TZNAME:PDT
DTSTART:20220313T100000
END:DAYLIGHT
BEGIN:STANDARD
TZOFFSETFROM:-0700
TZOFFSETTO:-0800
TZNAME:PST
DTSTART:20221106T090000
END:STANDARD
BEGIN:DAYLIGHT
TZOFFSETFROM:-0800
TZOFFSETTO:-0700
TZNAME:PDT
DTSTART:20230312T100000
END:DAYLIGHT
BEGIN:STANDARD
TZOFFSETFROM:-0700
TZOFFSETTO:-0800
TZNAME:PST
DTSTART:20231105T090000
END:STANDARD
END:VTIMEZONE
BEGIN:VEVENT
DTSTART;TZID=America/Los_Angeles:20221015T110000
DTEND;TZID=America/Los_Angeles:20221015T140000
DTSTAMP:20260421T184731
CREATED:20221014T142703Z
LAST-MODIFIED:20221014T142703Z
UID:10006759-1665831600-1665842400@www.archaeological.org
SUMMARY:International Archaeology Day at Presidio Trust Park\, San Francisco\, CA
DESCRIPTION:Bring your family to the Presidio of San Francisco to learn about the layered history of this special place! Enjoy guided tours of the live archaeology dig site of El Presidio and the Presidio Archaeology Lab. Activities include exploring the Presidio Officers’ Club\, learning from archaeologists working in the field\, making adobe bricks\, and other crafts and family fun both indoors and out. – https://www.presidio.gov/events/international-archaeology-day
URL:https://www.archaeological.org/event/international-archaeology-day-at-presidio-trust-park-san-francisco-ca/
LOCATION:Presidio Officers’ Club\, 50 Moraga Ave\, San Francisco\, CA\, 94129\, United States
CATEGORIES:International Archaeology Day
ATTACH;FMTTYPE=image/jpeg:https://www.archaeological.org/wp-content/uploads/2022/10/carousel-live-archaeology-dig.jpg
ORGANIZER;CN="Presidio Trust":MAILTO:presidio@presidiotrust.gov
GEO:37.7976061;-122.4588765
X-APPLE-STRUCTURED-LOCATION;VALUE=URI;X-ADDRESS=Presidio Officers’ Club 50 Moraga Ave San Francisco CA 94129 United States;X-APPLE-RADIUS=500;X-TITLE=50 Moraga Ave:geo:-122.4588765,37.7976061
END:VEVENT
END:VCALENDAR