BEGIN:VCALENDAR
VERSION:2.0
PRODID:-//Archaeological Institute of America - ECPv6.15.20//NONSGML v1.0//EN
CALSCALE:GREGORIAN
METHOD:PUBLISH
X-ORIGINAL-URL:https://www.archaeological.org
X-WR-CALDESC:Events for Archaeological Institute of America
REFRESH-INTERVAL;VALUE=DURATION:PT1H
X-Robots-Tag:noindex
X-PUBLISHED-TTL:PT1H
BEGIN:VTIMEZONE
TZID:America/Los_Angeles
BEGIN:DAYLIGHT
TZOFFSETFROM:-0800
TZOFFSETTO:-0700
TZNAME:PDT
DTSTART:20200308T100000
END:DAYLIGHT
BEGIN:STANDARD
TZOFFSETFROM:-0700
TZOFFSETTO:-0800
TZNAME:PST
DTSTART:20201101T090000
END:STANDARD
BEGIN:DAYLIGHT
TZOFFSETFROM:-0800
TZOFFSETTO:-0700
TZNAME:PDT
DTSTART:20210314T100000
END:DAYLIGHT
BEGIN:STANDARD
TZOFFSETFROM:-0700
TZOFFSETTO:-0800
TZNAME:PST
DTSTART:20211107T090000
END:STANDARD
BEGIN:DAYLIGHT
TZOFFSETFROM:-0800
TZOFFSETTO:-0700
TZNAME:PDT
DTSTART:20220313T100000
END:DAYLIGHT
BEGIN:STANDARD
TZOFFSETFROM:-0700
TZOFFSETTO:-0800
TZNAME:PST
DTSTART:20221106T090000
END:STANDARD
BEGIN:DAYLIGHT
TZOFFSETFROM:-0800
TZOFFSETTO:-0700
TZNAME:PDT
DTSTART:20230312T100000
END:DAYLIGHT
BEGIN:STANDARD
TZOFFSETFROM:-0700
TZOFFSETTO:-0800
TZNAME:PST
DTSTART:20231105T090000
END:STANDARD
END:VTIMEZONE
BEGIN:VEVENT
DTSTART;TZID=America/Los_Angeles:20220308T173000
DTEND;TZID=America/Los_Angeles:20220308T173000
DTSTAMP:20260424T155855
CREATED:20210818T164143Z
LAST-MODIFIED:20220209T155309Z
UID:10005815-1646760600-1646760600@www.archaeological.org
SUMMARY:The Archaeology of Ancient Greek Dress
DESCRIPTION:La Follette Lecture
URL:https://www.archaeological.org/event/the-archaeology-of-ancient-greek-dress-2/
CATEGORIES:AIA Lecture Program,Lecture
ORGANIZER;CN="Rebekah Mckay":MAILTO:bekahmckay@berkeley.edu
END:VEVENT
BEGIN:VEVENT
DTSTART;TZID=America/Los_Angeles:20211104T190000
DTEND;TZID=America/Los_Angeles:20211104T190000
DTSTAMP:20260424T155855
CREATED:20210818T164252Z
LAST-MODIFIED:20211029T210504Z
UID:10005927-1636052400-1636052400@www.archaeological.org
SUMMARY:Humans and Alcohol: The Archaeology of a Deeply Entangled Relationship
DESCRIPTION:Norton Lecture
URL:https://www.archaeological.org/event/humans-and-alcohol-the-archaeology-of-a-deeply-entangled-relationship-7/
LOCATION:WEBINAR (San Francisco 1)\, San Francisco\, CA
CATEGORIES:AIA Lecture Program,Lecture
ORGANIZER;CN="Rebekah Mckay":MAILTO:bekahmckay@berkeley.edu
GEO:37.7749295;-122.4194155
END:VEVENT
BEGIN:VEVENT
DTSTART;TZID=America/Los_Angeles:20211005T173000
DTEND;TZID=America/Los_Angeles:20211005T173000
DTSTAMP:20260424T155855
CREATED:20210903T151648Z
LAST-MODIFIED:20211004T205008Z
UID:10005797-1633455000-1633455000@www.archaeological.org
SUMMARY:Sacred Landscapes in Ancient Arcadia
DESCRIPTION:Dr. Mary E. Voyatzis\nProfessor Emerita of Anthropology and Classics at the University of Arizona \nThe mountainous region of Arcadia\, situated in the heart of the Peloponnese\, has attracted considerable attention since antiquity. Many ancient authors described the region in detail\, describing its rich mythology\, unusual gods\, numerous sanctuaries\, engaging history\, diverse geography\, and the fact that its inhabitants were indigenous\, living there even before the moon\, and the original inhabitants of Greece. During the Renaissance\, Arcadia was depicted in art as a beautiful\, pristine\, and magical place with unspoiled wilderness. By the 19th c. European travelers were exploring the region\, and later in the century archaeologists began excavating its various sites. Today we shall look at some recently excavated sites in Arcadia\, focusing on two where the speaker has been involved\, the Sanctuary of Athena Alea at Tegea\, and the Sanctuary of Zeus on Mt. Lykaion. We shall see how archaeological discoveries have contributed significantly to our understanding of the history of Arcadia and enhanced our appreciation of this enchanting mountainous region.
URL:https://www.archaeological.org/event/sacred-landscapes-in-ancient-arcadia/
CATEGORIES:International Archaeology Day,Lecture
ORGANIZER;CN="Rebekah Mckay":MAILTO:bekahmckay@berkeley.edu
END:VEVENT
BEGIN:VEVENT
DTSTART;TZID=America/Los_Angeles:20210907T183000
DTEND;TZID=America/Los_Angeles:20210907T200000
DTSTAMP:20260424T155855
CREATED:20210903T201720Z
LAST-MODIFIED:20210903T201720Z
UID:10005799-1631039400-1631044800@www.archaeological.org
SUMMARY:Reports from the Field
DESCRIPTION:UC Berkeley graduate students kick off the academic year at our annual Reports from the Field event\, reporting on their summer research and excavation experiences at various sites across the globe. Alec Apodaca will be discussing a Native American archaeological site in the San Vicente Redwoods that was damaged during post-fire work related to the CZU Lightning Fire complex of 2020. The damage exposed previously unknown portions of this ancient habitation site that can be studied to learn about how Native people stewarded sources of food\, raw material\, and habitats in the interior areas\, which can be compared to coastal areas and is directly relevant to ongoing historical ecology project between Amah Mutsun Tribal Band and UC Berkeley researchers. Jordan Brown will discuss The Erbil Plain in northern Iraq\, which lies at the edge of the rainfall farming zone. Here\, five millennia of intensive settlement have seen diverse approaches to water management. Some of these strategies appear to have affected the hydrology of the Plain in lasting ways\, mitigating or exacerbating the impact of climatic shifts and constraining the options available to subsequent inhabitants. By utilizing remote-sensing tools and computer-aided analytical techniques\, which facilitate the collection and systematization of such data and form the building blocks of a “telescoping” approach to regional geoarchaeology\, Jordan will discuss the large-scale and long-term interactions between social and natural forces. David Wheeler will share his experience doing fieldwork and museum research in Greece for the last 18 months in the midst of the Coronavirus pandemic. During that time\, he excavated a palatial tholos at Pylos during Greece’s first national lockdown\, helped supervise rescue excavations at the Mycenaean cemetery of Aidonia\, and initiated several 3D scanning projects for Berkeley’s Nemea Center for research\, outreach\, and classroom use in the post-Covid era.
URL:https://www.archaeological.org/event/reports-from-the-field/
CATEGORIES:Lecture
ORGANIZER;CN="Rebekah Mckay":MAILTO:bekahmckay@berkeley.edu
END:VEVENT
END:VCALENDAR