BEGIN:VCALENDAR
VERSION:2.0
PRODID:-//Archaeological Institute of America - ECPv6.15.20//NONSGML v1.0//EN
CALSCALE:GREGORIAN
METHOD:PUBLISH
X-ORIGINAL-URL:https://www.archaeological.org
X-WR-CALDESC:Events for Archaeological Institute of America
REFRESH-INTERVAL;VALUE=DURATION:PT1H
X-Robots-Tag:noindex
X-PUBLISHED-TTL:PT1H
BEGIN:VTIMEZONE
TZID:America/New_York
BEGIN:DAYLIGHT
TZOFFSETFROM:-0500
TZOFFSETTO:-0400
TZNAME:EDT
DTSTART:20210314T070000
END:DAYLIGHT
BEGIN:STANDARD
TZOFFSETFROM:-0400
TZOFFSETTO:-0500
TZNAME:EST
DTSTART:20211107T060000
END:STANDARD
BEGIN:DAYLIGHT
TZOFFSETFROM:-0500
TZOFFSETTO:-0400
TZNAME:EDT
DTSTART:20220313T070000
END:DAYLIGHT
BEGIN:STANDARD
TZOFFSETFROM:-0400
TZOFFSETTO:-0500
TZNAME:EST
DTSTART:20221106T060000
END:STANDARD
BEGIN:DAYLIGHT
TZOFFSETFROM:-0500
TZOFFSETTO:-0400
TZNAME:EDT
DTSTART:20230312T070000
END:DAYLIGHT
BEGIN:STANDARD
TZOFFSETFROM:-0400
TZOFFSETTO:-0500
TZNAME:EST
DTSTART:20231105T060000
END:STANDARD
BEGIN:DAYLIGHT
TZOFFSETFROM:-0500
TZOFFSETTO:-0400
TZNAME:EDT
DTSTART:20240310T070000
END:DAYLIGHT
BEGIN:STANDARD
TZOFFSETFROM:-0400
TZOFFSETTO:-0500
TZNAME:EST
DTSTART:20241103T060000
END:STANDARD
END:VTIMEZONE
BEGIN:VEVENT
DTSTART;TZID=America/New_York:20230403T190000
DTEND;TZID=America/New_York:20230403T203000
DTSTAMP:20260423T051326
CREATED:20230316T130146Z
LAST-MODIFIED:20230316T130200Z
UID:10006229-1680548400-1680553800@www.archaeological.org
SUMMARY:Stymphalos: A Planned City of Ancient Arcadia\, Lecture by Hector Williams (U. British Columbia)
DESCRIPTION:AIA Rodney S. Young Memorial Lecture\nExcavations at ancient Stymphalos\, a small Arcadian late classical city set 2000 feet up in the mountains of the northern Peloponnese\, have uncovered fifteen areas of the city within its sturdy fortification walls. Famously as the site of Herakles’ sixth labour\, killing the Stymphalian birds\, the city also produced two Olympic victors and mercenary forces that served from Carthage to the Middle East. The talk will look at the well built houses of the town\, its theatre and wrestling school\, its sanctuaries and their hundreds of oﬀerings\, the sophisticated city defences\, and temples that included some with marble roof tiles (rare in Greece). It will also present four early Christian cemeteries and their burials\, which throw light on local inhabitants. We also pioneered the use of geophysical exploration in Greece\, revealing an orthogonally planned city of the 4th c. BC.
URL:https://www.archaeological.org/event/stymphalos-a-planned-city-of-ancient-arcadia-lecture-by-hector-williams-u-british-columbia/
CATEGORIES:AIA Lecture Program
ATTACH;FMTTYPE=image/jpeg:https://www.archaeological.org/wp-content/uploads/2023/03/Stymphalos_excavations.jpg
ORGANIZER;CN="Robert Sutton":MAILTO:rfsutton@iupui.edu
END:VEVENT
BEGIN:VEVENT
DTSTART;TZID=America/New_York:20230328T190000
DTEND;TZID=America/New_York:20230328T203000
DTSTAMP:20260423T051326
CREATED:20230316T130000Z
LAST-MODIFIED:20230316T130045Z
UID:10006227-1680030000-1680035400@www.archaeological.org
SUMMARY:Anemurium: a Roman and early Byzantine city on Turkey’s southern shore\, lecture by Hector Williams (U. British Columbia)
DESCRIPTION:George H. Forsyth\, Jr. Memorial Lecture:\nExcavations by the University of British Columbia on Turkey’s southernmost promontory\, Cape Anamur\, have uncovered a picture of life in a modest but prosperous urban community from the third to seventh centuries of our era. Local benefactors built large public baths with exercise grounds\, a theatre\, one of the best preserved odeons (roofed small theatre) in the Roman world\, hundreds of tombs\, four early Christian churches (some with fine mosaic floors)\, houses and a small well preserved set of Byzantine baths. Industrial establishments that produced pottery\, roof tiles
URL:https://www.archaeological.org/event/anemurium-a-roman-and-early-byzantine-city-on-turkeys-southern-shore-lecture-by-hector-williams-u-british-columbia/
CATEGORIES:AIA Lecture Program
ATTACH;FMTTYPE=image/png:https://www.archaeological.org/wp-content/uploads/2023/03/bath-mosaic.png
ORGANIZER;CN="Robert Sutton":MAILTO:rfsutton@iupui.edu
END:VEVENT
BEGIN:VEVENT
DTSTART;TZID=America/New_York:20220215T181500
DTEND;TZID=America/New_York:20220215T193000
DTSTAMP:20260423T051326
CREATED:20220204T151457Z
LAST-MODIFIED:20220204T180053Z
UID:10006288-1644948900-1644953400@www.archaeological.org
SUMMARY:Artifacts and Archaeological Processes: The Lives and Afterlives of Objects in Pompeii
DESCRIPTION:Lecture by Catherine Baker\, Bryn Mawr College\nFrom the chipped corners of an ancient die to the mortar on a reused inscription\, artifacts tell stories. Archaeologists reconstruct these object biographies\, tracing the lives of ancient artifacts from their creation to their final deposition. In this talk\, I explore the stories of some of the artifacts excavated by the Pompeii Archaeological Research Project: Porta Stabia (University of Cincinnati)\, including dice and gaming pieces\, statuettes\, tools of potters\, and even nails. These object biographies shed light not only on the way people first used these objects\, but on their afterlives – the ways in which objects were discarded\, recycled\, and reused. These lives and afterlives of objects\, in turn\, shape the archaeology of a site\, allowing us to trace the complex patterns of use\, reuse\, and discard which characterized the history of one neighborhood in the Roman city of Pompeii.\nHybrid Event. Register at Penn Museum for entry. Proof of vaccination with ID and mask required\nhttps://446.blackbaudhosting.com/446/Artifacts-and-Archaeological-Processes-The-Lives-and-Afterlives-of-Objects-in-Pompeii?_ga=2.51919401.105441994.1643922754-977817837.1643922754.
URL:https://www.archaeological.org/event/artifacts-and-archaeological-processes-the-lives-and-afterlives-of-objects-in-pompeii-2/
LOCATION:Penn Museum\, 3260 South Street\, Philadelphia\, PA\, 19104\, United States
ORGANIZER;CN="Robert Sutton":MAILTO:rfsutton@iupui.edu
GEO:39.949402;-75.191601
X-APPLE-STRUCTURED-LOCATION;VALUE=URI;X-ADDRESS=Penn Museum 3260 South Street Philadelphia PA 19104 United States;X-APPLE-RADIUS=500;X-TITLE=3260 South Street:geo:-75.191601,39.949402
END:VEVENT
END:VCALENDAR