BEGIN:VCALENDAR
VERSION:2.0
PRODID:-//Archaeological Institute of America - ECPv6.15.20//NONSGML v1.0//EN
CALSCALE:GREGORIAN
METHOD:PUBLISH
X-ORIGINAL-URL:https://www.archaeological.org
X-WR-CALDESC:Events for Archaeological Institute of America
REFRESH-INTERVAL;VALUE=DURATION:PT1H
X-Robots-Tag:noindex
X-PUBLISHED-TTL:PT1H
BEGIN:VTIMEZONE
TZID:America/Denver
BEGIN:DAYLIGHT
TZOFFSETFROM:-0700
TZOFFSETTO:-0600
TZNAME:MDT
DTSTART:20200308T090000
END:DAYLIGHT
BEGIN:STANDARD
TZOFFSETFROM:-0600
TZOFFSETTO:-0700
TZNAME:MST
DTSTART:20201101T080000
END:STANDARD
BEGIN:DAYLIGHT
TZOFFSETFROM:-0700
TZOFFSETTO:-0600
TZNAME:MDT
DTSTART:20210314T090000
END:DAYLIGHT
BEGIN:STANDARD
TZOFFSETFROM:-0600
TZOFFSETTO:-0700
TZNAME:MST
DTSTART:20211107T080000
END:STANDARD
BEGIN:DAYLIGHT
TZOFFSETFROM:-0700
TZOFFSETTO:-0600
TZNAME:MDT
DTSTART:20220313T090000
END:DAYLIGHT
BEGIN:STANDARD
TZOFFSETFROM:-0600
TZOFFSETTO:-0700
TZNAME:MST
DTSTART:20221106T080000
END:STANDARD
BEGIN:DAYLIGHT
TZOFFSETFROM:-0700
TZOFFSETTO:-0600
TZNAME:MDT
DTSTART:20230312T090000
END:DAYLIGHT
BEGIN:STANDARD
TZOFFSETFROM:-0600
TZOFFSETTO:-0700
TZNAME:MST
DTSTART:20231105T080000
END:STANDARD
END:VTIMEZONE
BEGIN:VEVENT
DTSTART;TZID=America/Denver:20220414T190000
DTEND;TZID=America/Denver:20220414T190000
DTSTAMP:20260424T155854
CREATED:20210818T164201Z
LAST-MODIFIED:20220223T203421Z
UID:10005843-1649962800-1649962800@www.archaeological.org
SUMMARY:Street Theater: A Pompeian Neighborhood in Five Acts
DESCRIPTION:Russell Lecture
URL:https://www.archaeological.org/event/street-theater-a-pompeian-neighborhood-in-five-acts-2/
LOCATION:CU Boulder ECCR 265\, 2055 Regent Dr\, Boulder\, 80305
CATEGORIES:AIA Lecture Program,Lecture
GEO:40.0044121;-105.2670148
X-APPLE-STRUCTURED-LOCATION;VALUE=URI;X-ADDRESS=CU Boulder ECCR 265 2055 Regent Dr Boulder 80305;X-APPLE-RADIUS=500;X-TITLE=2055 Regent Dr:geo:-105.2670148,40.0044121
END:VEVENT
BEGIN:VEVENT
DTSTART;TZID=America/Denver:20211006T190000
DTEND;TZID=America/Denver:20211006T190000
DTSTAMP:20260424T155854
CREATED:20210818T164224Z
LAST-MODIFIED:20210910T154227Z
UID:10005738-1633546800-1633546800@www.archaeological.org
SUMMARY:An Introduction to the Archaeology of Childhood
DESCRIPTION:
URL:https://www.archaeological.org/event/an-introduction-to-the-archaeology-of-childhood-3/
LOCATION:WEBINAR (Boulder 1)\, Boulder\, CO
CATEGORIES:AIA Lecture Program,International Archaeology Day,Lecture
GEO:40.0149856;-105.2705456
END:VEVENT
END:VCALENDAR