BEGIN:VCALENDAR
VERSION:2.0
PRODID:-//Archaeological Institute of America - ECPv6.15.20//NONSGML v1.0//EN
CALSCALE:GREGORIAN
METHOD:PUBLISH
X-WR-CALNAME:Archaeological Institute of America
X-ORIGINAL-URL:https://www.archaeological.org
X-WR-CALDESC:Events for Archaeological Institute of America
REFRESH-INTERVAL;VALUE=DURATION:PT1H
X-Robots-Tag:noindex
X-PUBLISHED-TTL:PT1H
BEGIN:VTIMEZONE
TZID:America/Belize
BEGIN:STANDARD
TZOFFSETFROM:-0600
TZOFFSETTO:-0600
TZNAME:CST
DTSTART:20200101T000000
END:STANDARD
END:VTIMEZONE
BEGIN:VEVENT
DTSTART;TZID=America/Belize:20211014T073000
DTEND;TZID=America/Belize:20211014T080000
DTSTAMP:20260424T015611
CREATED:20211012T211921Z
LAST-MODIFIED:20211012T211921Z
UID:10006152-1634196600-1634198400@www.archaeological.org
SUMMARY:Heritage Education Network Belize talks Archaeology Laws
DESCRIPTION:Celebrate IAD with Heritage Education Network Belize and 7 New Belize Ltd. Join us for an informative discussion on heritage management legislation with Brandon Usher of “Law man for the Layman” morning show.
URL:https://www.archaeological.org/event/heritage-education-network-belize-talks-archaeology-laws-2/
CATEGORIES:International Archaeology Day
ORGANIZER;CN="Sylvia Batty":MAILTO:sylvia@heritagebelize.org
END:VEVENT
BEGIN:VEVENT
DTSTART;TZID=America/Belize:20211012T073000
DTEND;TZID=America/Belize:20211012T080000
DTSTAMP:20260424T015611
CREATED:20211012T211810Z
LAST-MODIFIED:20211012T211810Z
UID:10005853-1634023800-1634025600@www.archaeological.org
SUMMARY:Heritage Education Network Belize talks Archaeology Laws
DESCRIPTION:Celebrate IAD with Heritage Education Network Belize and 7 New Belize Ltd. Join us for an informative discussion on heritage management legislation with Brandon Usher of “Law man for the Layman” morning show.
URL:https://www.archaeological.org/event/heritage-education-network-belize-talks-archaeology-laws/
CATEGORIES:International Archaeology Day
ORGANIZER;CN="Sylvia Batty":MAILTO:sylvia@heritagebelize.org
END:VEVENT
END:VCALENDAR