BEGIN:VCALENDAR
VERSION:2.0
PRODID:-//Archaeological Institute of America - ECPv6.15.20//NONSGML v1.0//EN
CALSCALE:GREGORIAN
METHOD:PUBLISH
X-WR-CALNAME:Archaeological Institute of America
X-ORIGINAL-URL:https://www.archaeological.org
X-WR-CALDESC:Events for Archaeological Institute of America
REFRESH-INTERVAL;VALUE=DURATION:PT1H
X-Robots-Tag:noindex
X-PUBLISHED-TTL:PT1H
BEGIN:VTIMEZONE
TZID:America/Chicago
BEGIN:DAYLIGHT
TZOFFSETFROM:-0600
TZOFFSETTO:-0500
TZNAME:CDT
DTSTART:20200308T080000
END:DAYLIGHT
BEGIN:STANDARD
TZOFFSETFROM:-0500
TZOFFSETTO:-0600
TZNAME:CST
DTSTART:20201101T070000
END:STANDARD
BEGIN:DAYLIGHT
TZOFFSETFROM:-0600
TZOFFSETTO:-0500
TZNAME:CDT
DTSTART:20210314T080000
END:DAYLIGHT
BEGIN:STANDARD
TZOFFSETFROM:-0500
TZOFFSETTO:-0600
TZNAME:CST
DTSTART:20211107T070000
END:STANDARD
BEGIN:DAYLIGHT
TZOFFSETFROM:-0600
TZOFFSETTO:-0500
TZNAME:CDT
DTSTART:20220313T080000
END:DAYLIGHT
BEGIN:STANDARD
TZOFFSETFROM:-0500
TZOFFSETTO:-0600
TZNAME:CST
DTSTART:20221106T070000
END:STANDARD
BEGIN:DAYLIGHT
TZOFFSETFROM:-0600
TZOFFSETTO:-0500
TZNAME:CDT
DTSTART:20230312T080000
END:DAYLIGHT
BEGIN:STANDARD
TZOFFSETFROM:-0500
TZOFFSETTO:-0600
TZNAME:CST
DTSTART:20231105T070000
END:STANDARD
END:VTIMEZONE
BEGIN:VEVENT
DTSTART;TZID=America/Chicago:20220427T193000
DTEND;TZID=America/Chicago:20220427T203000
DTSTAMP:20260422T072503
CREATED:20210827T153523Z
LAST-MODIFIED:20220305T011433Z
UID:10006025-1651087800-1651091400@www.archaeological.org
SUMMARY:Ritual at the Crossroads: A Sacred Stone in Ancient Athens
DESCRIPTION:Susan Rotroff\, Jarvis Thurston & Mona Van Duyn Professor Emerita\, Washington University\, St. Louis (srotroff@wustl.edu)\nA large\, irregular boulder fenced off by a parapet of stone slabs lies at a crossroads on the north side of the Agora (the public square) of ancient Athens. When excavated\, in the 1970s\, I\, t was covered with hundreds of small vessels\, placed there in the latter part of the 5th century BCE\, along with an eclectic collection of unusual objects\, including gilded pebbles\, knucklebones\, writing styli\, and fragments of broken sculpture. The lecturer and her colleagues at the Agora have embarked on a detailed study of the monument\, now nicknamed the Crossroads Enclosure. Although it was located at one of the busiest spots in the city\, its ancient identity remains a mystery. This lecture examines the architecture\, contents\, position\, and environment of the Enclosure\, looking for clues to that identity and the nature of the rituals and other activities that took place there\, and placing it within its historical context in the turbulent last decades of the 5th century BCE.\nThis lecture is hosted by Knox College in Galesburg\, IL.\nIt will be presented virtually.\nInstructions for accessing the lecture are forthcoming.
URL:https://www.archaeological.org/event/ritual-at-the-crossroads-a-sacred-stone-in-ancient-athens-2/
CATEGORIES:Lecture
ORGANIZER;CN="Tom Sienkewicz":MAILTO:tjsienkewicz@monmouthcollege.edu
END:VEVENT
BEGIN:VEVENT
DTSTART;TZID=America/Chicago:20220426T193000
DTEND;TZID=America/Chicago:20220426T210000
DTSTAMP:20260422T072503
CREATED:20220107T145625Z
LAST-MODIFIED:20220305T011250Z
UID:10005882-1651001400-1651006800@www.archaeological.org
SUMMARY:“Dreams\, Drugs\, and Fumigations: Doctoring in Ancient Athens”
DESCRIPTION:In ancient Athens\, as today\, people got sick. Suffering from anything from epidemic disease and accidents to chronic illness and passing indisposition\, they required treatment. Much of what we know about that treatment comes from texts\, particularly the body of medical lore known as the Hippocratic Corpus\, which began to be written down in the 5th century BC. But the practice of medicine also left an archaeological trail\, from the well-known healing sanctuaries to simple artifacts associated with medical treatment. This lecture examines some of this evidence\, focusing particularly on objects preserved in the trash-heaps of Athens (and other cities) — including the equipment of a family of healers who lived just to the south of the city’s agora (public square) — to shed a more intimate light on the practice and practitioners of the healing arts.\nSusan Rotroff\, Jarvis Thurston & Mona Van Duyn Professor Emerita\, Washington University\, St. Louis (srotroff@wustl.edu).\nGoogle Meet joining info\nVideo call link: https://meet.google.com/qjq-qcfi-tnm\nOr dial: ‪(US) +1 470-207-5898‬ PIN: ‪775 460 413‬#\nMore phone numbers: https://tel.meet/qjq-qcfi-tnm?pin=3546236027796
URL:https://www.archaeological.org/event/dreams-drugs-and-fumigations-doctoring-in-ancient-athens-2/
CATEGORIES:Lecture
ORGANIZER;CN="Tom Sienkewicz":MAILTO:tjsienkewicz@monmouthcollege.edu
END:VEVENT
BEGIN:VEVENT
DTSTART;TZID=America/Chicago:20220303T163000
DTEND;TZID=America/Chicago:20220303T180000
DTSTAMP:20260422T072503
CREATED:20220228T210405Z
LAST-MODIFIED:20220228T210405Z
UID:10006329-1646325000-1646330400@www.archaeological.org
SUMMARY:Etruscans at the Crossroads:  The Lost Cities of Tuscany
DESCRIPTION:Zoomed lecture\, free and open to the public.\nRachel Horner Brackett Lecture – Etruscans at the Crossroads\nThursday\, March 3 · 4:30 – 6:00pm\nGoogle Meet joining info\nVideo call link: https://meet.google.com/ncy-ymyr-fjy\nOr dial: ‪(US) +1 240-428-7995‬ PIN: ‪770 814 570‬#\nMore phone numbers: https://tel.meet/ncy-ymyr-fjy?pin=2102514701672
URL:https://www.archaeological.org/event/etruscans-at-the-crossroads-the-lost-cities-of-tuscany/
CATEGORIES:AIA Lecture Program
ATTACH;FMTTYPE=image/png:https://www.archaeological.org/wp-content/uploads/2022/02/Dr.-Rachel-Horner-Brackett-Flyer-1.png
ORGANIZER;CN="Tom Sienkewicz":MAILTO:tjsienkewicz@monmouthcollege.edu
END:VEVENT
BEGIN:VEVENT
DTSTART;TZID=America/Chicago:20220301T193000
DTEND;TZID=America/Chicago:20220301T210000
DTSTAMP:20260422T072503
CREATED:20220107T145524Z
LAST-MODIFIED:20220107T145524Z
UID:10006260-1646163000-1646168400@www.archaeological.org
SUMMARY:“In the Footsteps of Roman Soldiers: Excavations at Vindolanda and the Archaeological Landscape of Hadrian’s Wall”
DESCRIPTION:In the past few decades the Roman fort at Vindolanda has had some of the most extraordinary finds from the northern frontier of the Roman Empire that have truly changed our understanding of life in the Roman army. The site lies near Hadrian’s Wall in a remote countryside in Northumberland\, England and was part of the original frontier line in this location in the late first century CE. Decades of excavation at the site have given us an extraordinary view into the lives of soldiers living in this frontier region. Greene has excavated at Vindolanda since 2002\, directing trenches in new areas of the site for several years\, and will give a presentation focusing on the recent excavations and new hypotheses from this work. Highlights of the presentation concentrate on the extraordinary finds from the site\, including Roman shoes\, numerous inscriptions and artifacts\, as well as the unparalleled corpus of writing tablets (letters and military records)\, to reveal what life was like on the edge of the Roman empire and how the site has changed many accepted views of life in the Roman army.\nSpeaker: Elizabeth Greene\, University of Western Ontario\nTo join the virtual meeting\, go to https://knox-edu.zoom.us/j/89207455252?pwd=dGl1TDYxdXZLRGM1OHZXTDh2Q01EZz09
URL:https://www.archaeological.org/event/in-the-footsteps-of-roman-soldiers-excavations-at-vindolanda-and-the-archaeological-landscape-of-hadrians-wall-3/
CATEGORIES:Lecture
ORGANIZER;CN="Tom Sienkewicz":MAILTO:tjsienkewicz@monmouthcollege.edu
END:VEVENT
BEGIN:VEVENT
DTSTART;TZID=America/Chicago:20211118T193000
DTEND;TZID=America/Chicago:20211118T203000
DTSTAMP:20260422T072503
CREATED:20210811T145641Z
LAST-MODIFIED:20210826T011226Z
UID:10005700-1637263800-1637267400@www.archaeological.org
SUMMARY:“Masada: From Jewish Revolt to Modern Myth”
DESCRIPTION:Sienkewicz Lecture on Roman Archaeology\nJodi Magness\, Kenan Distinguished Professor for Teaching Excellence in Early Judaism\, University of North Carolina at Chapel Hill (magness@email.unc.edu)\nIn the first century B.C.E.\, Herod the Great\, who ruled Judea as client king on behalf of Rome\, built a fortified palace atop the mountain of Masada overlooking the Dead Sea. Seventy years after Herod’s death\, the First Jewish Revolt against Rome broke out and Jewish rebels occupied Masada. According to the ancient historian Flavius Josephus\, at the end of the revolt the Romans besieged the mountain and the Jewish rebels committed mass suicide. In this slide-illustrated lecture\, we survey the history and archaeology of Masada\, including the results of excavations in the Roman siege works which Magness co-directed in 1995. We conclude by considering the current debates surrounding Josephus’s mass suicide story.\nThursday\, November 18\, 2021\, 7:30 pm\, Pattee Auditorium\, Room 100 Center for Science and Business (CSB)\, Monmouth College\, Monmouth\, IL 6142\nPlans are to zoom this lecture live. Watch this space for further information.
URL:https://www.archaeological.org/event/masada-from-jewish-revolt-to-modern-myth/
LOCATION:Monmouth College\, IL\, 61462\, United States
CATEGORIES:Lecture
ORGANIZER;CN="Tom Sienkewicz":MAILTO:tjsienkewicz@monmouthcollege.edu
GEO:40.9127408;-90.6396942
END:VEVENT
BEGIN:VEVENT
DTSTART;TZID=America/Chicago:20211103T193000
DTEND;TZID=America/Chicago:20211103T193000
DTSTAMP:20260422T072503
CREATED:20210811T144039Z
LAST-MODIFIED:20211102T145648Z
UID:10005699-1635967800-1635967800@www.archaeological.org
SUMMARY:POSTPONED!!! “Archaeology through Art: Early Modern Japanese Ship Construction”
DESCRIPTION:THIS LECTURE HAS BEEN POSTPONED UNTIL SOMETIME IN THE SPRING.\nMichelle Damian\, Assistant Professor of History\, Monmouth College (mdamian@monmouthcollege.edu)\nMaritime trade and transport flourished during Japan’s early modern (Edo\, 1603 – 1868) period\, connecting the urban centers of Osaka and Edo with the farthest reaches of Hokkaido and Kyushu. The omnipresent nature and variety of styles of boats\, from local ferries\, to fishing vessels\, to large trade ships are recorded diligently in hundreds of woodblock prints by numerous different artists. Careful analysis of the construction styles and contexts of these vessels in the prints\, in conjunction with contemporary ships’ treatises\, extant artifacts in museum collections\, and ethnographic research suggests that shipwrights strove to create visually striking watercraft that were adapted to the waters they plied. This lecture will highlight some of the distinctive features of Japanese ship construction and explore the role that different vessels play in the early modern maritime cultural landscape.\nWednesday\, November 3\, 2021\, 7:30 pm\, Trustees’ Room (Room 302)\, Alumni Hall\, Knox College\, Galesburg\, IL 61401\nPlans are to zoom this lecture live. Watch this space for more information.
URL:https://www.archaeological.org/event/archaeology-through-art-early-modern-japanese-ship-construction-2/
CATEGORIES:Lecture
ORGANIZER;CN="Tom Sienkewicz":MAILTO:tjsienkewicz@monmouthcollege.edu
END:VEVENT
BEGIN:VEVENT
DTSTART;TZID=America/Chicago:20211020T193000
DTEND;TZID=America/Chicago:20211020T203000
DTSTAMP:20260422T072503
CREATED:20210809T161233Z
LAST-MODIFIED:20211006T200109Z
UID:10005695-1634758200-1634761800@www.archaeological.org
SUMMARY:“Illuminating the Past:  An Application of Data Science to Archaeology”
DESCRIPTION:Michael C. Sostarecz\, Professor of Mathematics\, Monmouth College (msostarecz@gmail.com)\nReflectance Transformation Imaging (RTI) is an imaging technique used to non-invasively bring out surface details on artifacts. This lecture will share improvements on how the data is collected\, an original model to combine the experimental images\, and new options for post-processing. The artifacts presented will include Greco-Egyptian pottery from the Ashmolean and British Museums\, arrow points from Monmouth College’s Native American Lithic Collection\, and Greek coins from the College’s Shields Collection. With a focus on qualitative comparisons to current models for RTI\, this presentation will be geared towards a general audience. Planned extensions of the project involve forensic science\, dinosaurs\, and scuba diving\, albeit probably not at the same time.\nWednesday\, October 20\, 2021\, 7:30 pm at the Warren County Historical Museum\, 238 S. Sunny Lane\, Monmouth\, IL 61462\nLive and on ZOOM: Meeting ID 605 178 8810 Passcode 3xQBD4
URL:https://www.archaeological.org/event/illuminating-the-past-an-application-of-data-science-to-archaeology/
LOCATION:Warren County History Museum\, 238 S. Sunny Lane\, Monmouth\, IL\, 61462\, United States
CATEGORIES:International Archaeology Day
ATTACH;FMTTYPE=image/jpeg:https://www.archaeological.org/wp-content/uploads/2021/08/Illuminating.jpg
ORGANIZER;CN="Tom Sienkewicz":MAILTO:tjsienkewicz@monmouthcollege.edu
GEO:40.9102111;-90.6605222
X-APPLE-STRUCTURED-LOCATION;VALUE=URI;X-ADDRESS=Warren County History Museum 238 S. Sunny Lane Monmouth IL 61462 United States;X-APPLE-RADIUS=500;X-TITLE=238 S. Sunny Lane:geo:-90.6605222,40.9102111
END:VEVENT
BEGIN:VEVENT
DTSTART;TZID=America/Chicago:20210916T193000
DTEND;TZID=America/Chicago:20210916T203000
DTSTAMP:20260422T072503
CREATED:20210809T161559Z
LAST-MODIFIED:20210826T005325Z
UID:10005698-1631820600-1631824200@www.archaeological.org
SUMMARY:“Feeding Cahokia”
DESCRIPTION:James Godde\, Professor of Biology\, Monmouth College (jgodde@monmouthcollege.edu)\nEvery year\, the Biology Department at Monmouth College teaches a half-semester course entitled Topics in the History of Biology. This past fall\, the specific focus was “Feeding Cahokia: Agricultural Technology of Native Americans during the Mississippian Period”. The class focused on a book written by Gayle J. Fritz\, emeritus professor of anthropology at Washington University in St. Louis. Lectures typically took place outdoors at the Monmouth City Cemetery\, with trips to LeSuer Nature Preserve\, the Monmouth College garden\, as well as the Monmouth College farm. Sometimes the class met indoors in the CSB Nutrition Lab where we cooked some of the dishes that Cahokian peoples may have eaten. The class culminated with a trip to Cahokia itself in order to see the location that we had studied for the preceding 7 weeks.\nThursday\, September 16\, 2021\, 7:30 pm at the Warren County Historical Museum\, 238 S. Sunny Lane\, Monmouth\, IL 61462\nThis event is both in-person and virtual.  To attend virtually\, go to   https://us02web.zoom.us/j/6071788810?pwd=NXZ5R2h0ZG5qcUdnbXlKbjFtM2poZz09  \nMeeting ID 607 178 8810\nPasscode 3xQ8D4
URL:https://www.archaeological.org/event/feeding-cahokia/
LOCATION:Warren County History Museum\, 238 S. Sunny Lane\, Monmouth\, IL\, 61462\, United States
CATEGORIES:Lecture
ATTACH;FMTTYPE=image/jpeg:https://www.archaeological.org/wp-content/uploads/2021/08/Feeding-Cahokia-Godde-Flyer10241024_1-2.jpg
ORGANIZER;CN="Tom Sienkewicz":MAILTO:tjsienkewicz@monmouthcollege.edu
GEO:40.9102111;-90.6605222
X-APPLE-STRUCTURED-LOCATION;VALUE=URI;X-ADDRESS=Warren County History Museum 238 S. Sunny Lane Monmouth IL 61462 United States;X-APPLE-RADIUS=500;X-TITLE=238 S. Sunny Lane:geo:-90.6605222,40.9102111
END:VEVENT
END:VCALENDAR