BEGIN:VCALENDAR
VERSION:2.0
PRODID:-//Archaeological Institute of America - ECPv6.15.20//NONSGML v1.0//EN
CALSCALE:GREGORIAN
METHOD:PUBLISH
X-WR-CALNAME:Archaeological Institute of America
X-ORIGINAL-URL:https://www.archaeological.org
X-WR-CALDESC:Events for Archaeological Institute of America
REFRESH-INTERVAL;VALUE=DURATION:PT1H
X-Robots-Tag:noindex
X-PUBLISHED-TTL:PT1H
BEGIN:VTIMEZONE
TZID:America/New_York
BEGIN:DAYLIGHT
TZOFFSETFROM:-0500
TZOFFSETTO:-0400
TZNAME:EDT
DTSTART:20210314T070000
END:DAYLIGHT
BEGIN:STANDARD
TZOFFSETFROM:-0400
TZOFFSETTO:-0500
TZNAME:EST
DTSTART:20211107T060000
END:STANDARD
BEGIN:DAYLIGHT
TZOFFSETFROM:-0500
TZOFFSETTO:-0400
TZNAME:EDT
DTSTART:20220313T070000
END:DAYLIGHT
BEGIN:STANDARD
TZOFFSETFROM:-0400
TZOFFSETTO:-0500
TZNAME:EST
DTSTART:20221106T060000
END:STANDARD
BEGIN:DAYLIGHT
TZOFFSETFROM:-0500
TZOFFSETTO:-0400
TZNAME:EDT
DTSTART:20230312T070000
END:DAYLIGHT
BEGIN:STANDARD
TZOFFSETFROM:-0400
TZOFFSETTO:-0500
TZNAME:EST
DTSTART:20231105T060000
END:STANDARD
END:VTIMEZONE
BEGIN:VTIMEZONE
TZID:America/Los_Angeles
BEGIN:DAYLIGHT
TZOFFSETFROM:-0800
TZOFFSETTO:-0700
TZNAME:PDT
DTSTART:20210314T100000
END:DAYLIGHT
BEGIN:STANDARD
TZOFFSETFROM:-0700
TZOFFSETTO:-0800
TZNAME:PST
DTSTART:20211107T090000
END:STANDARD
BEGIN:DAYLIGHT
TZOFFSETFROM:-0800
TZOFFSETTO:-0700
TZNAME:PDT
DTSTART:20220313T100000
END:DAYLIGHT
BEGIN:STANDARD
TZOFFSETFROM:-0700
TZOFFSETTO:-0800
TZNAME:PST
DTSTART:20221106T090000
END:STANDARD
BEGIN:DAYLIGHT
TZOFFSETFROM:-0800
TZOFFSETTO:-0700
TZNAME:PDT
DTSTART:20230312T100000
END:DAYLIGHT
BEGIN:STANDARD
TZOFFSETFROM:-0700
TZOFFSETTO:-0800
TZNAME:PST
DTSTART:20231105T090000
END:STANDARD
END:VTIMEZONE
BEGIN:VEVENT
DTSTART;TZID=America/New_York:20220401T193000
DTEND;TZID=America/New_York:20220401T210000
DTSTAMP:20260424T064356
CREATED:20220124T145155Z
LAST-MODIFIED:20220124T145155Z
UID:10005899-1648841400-1648846800@www.archaeological.org
SUMMARY:Ridgeway lecture: Petsas House\, Mycenae: pottery\, production\, and the palatial economy of the 14th c. BCE
DESCRIPTION:Ridgeway lecture: Kim Shelton\, UC Berkeley: \nPetsas House\, Mycenae: pottery\, production\, and the palatial economy of the 14th c. BCE \nThis lecture will present a wide variety of material from the current excavations at Mycenae which provides insight into the production of pottery in a late bronze age workshop\, the reconstructed demographics and decision-making process of the pottery industry\, and the role of Petsas House in the socio-economic life of the palatial center and beyond.
URL:https://www.archaeological.org/event/ridgeway-lecture-petsas-house-mycenae-pottery-production-and-the-palatial-economy-of-the-14th-c-bce/
LOCATION:University of Puget Sound\, Tahoma Room\, Thomson Hall\, 1500 N Warner St\, Tacoma\, WA\, 98416\, United States
ORGANIZER;CN="Ulrike Krotscheck":MAILTO:ulrikek@evergreen.edu
GEO:47.2639174;-122.4811764
X-APPLE-STRUCTURED-LOCATION;VALUE=URI;X-ADDRESS=University of Puget Sound Tahoma Room Thomson Hall 1500 N Warner St Tacoma WA 98416 United States;X-APPLE-RADIUS=500;X-TITLE=1500 N Warner St:geo:-122.4811764,47.2639174
END:VEVENT
BEGIN:VEVENT
DTSTART;TZID=America/New_York:20220305T133000
DTEND;TZID=America/New_York:20220305T150000
DTSTAMP:20260424T064356
CREATED:20220124T145120Z
LAST-MODIFIED:20220124T145120Z
UID:10005898-1646487000-1646492400@www.archaeological.org
SUMMARY:The Angkorian World: Polity and Cosmos in Southeast Asia
DESCRIPTION:The Angkorian World: Polity and Cosmos in Southeast Asia\, with Miriam Stark\, UH Manoa
URL:https://www.archaeological.org/event/the-angkorian-world-polity-and-cosmos-in-southeast-asia-2/
LOCATION:University of Puget Sound\, Tahoma Room\, Thomson Hall\, 1500 N Warner St\, Tacoma\, WA\, 98416\, United States
ORGANIZER;CN="Ulrike Krotscheck":MAILTO:ulrikek@evergreen.edu
GEO:47.2639174;-122.4811764
X-APPLE-STRUCTURED-LOCATION;VALUE=URI;X-ADDRESS=University of Puget Sound Tahoma Room Thomson Hall 1500 N Warner St Tacoma WA 98416 United States;X-APPLE-RADIUS=500;X-TITLE=1500 N Warner St:geo:-122.4811764,47.2639174
END:VEVENT
BEGIN:VEVENT
DTSTART;TZID=America/Los_Angeles:20220122T193000
DTEND;TZID=America/Los_Angeles:20220122T203000
DTSTAMP:20260424T064356
CREATED:20220112T134657Z
LAST-MODIFIED:20220114T202204Z
UID:10005884-1642879800-1642883400@www.archaeological.org
SUMMARY:VIRTUAL: AIA Annual Faculty Lecture: “Mixed multitudes”: Displacement and belonging in ancient Sicily\, with Prof. Randall Souza (Seattle University)
DESCRIPTION:The inhabitants of the ancient Mediterranean were mobile\, and many of them lived in or passed through the large island of Sicily\, which sits between the eastern and western Mediterranean basins and nearly unites the continents of Europe and Africa. Some moved more voluntarily\, others less so\, and still others were relocated with no choice in the matter\, expelled as refugees or enslaved and sold. These displacements stretched\, reorganized\, and dissolved existing communities\, but also created new ones; moving people change the social and political landscape around them. Given the extent of human mobility in Sicily\, urban centers on the island can be viewed less as static entities where stable communities automatically persisted\, and more as contingent sites in which inherently fragile communities were continually re-imagined. In this talk Prof. Souza examines several key episodes of dislocation in order to illuminate gradual developments affecting citizenship and belonging in the context of high mobility. He will suggest that one of the principal effects of movement across territorial boundaries and the resulting interaction across social boundaries was to erode the island’s internal divisions. This process in turn left Sicily itself to assume greater relevance over time as a source of belonging. \nProf. Randall Souza is an Assistant Professor of History at Seattle University. \nPlease use this link to register and receive the Zoom invitation: https://washington.zoom.us/meeting/register/tJItd-Cuqj0vG927x1OnABEcst-g6PXloCnd
URL:https://www.archaeological.org/event/virtual-aia-annual-faculty-lecture-mixed-multitudes-displacement-and-belonging-in-ancient-sicily-with-prof-randall-souza-seattle-university/
CATEGORIES:AIA Lecture Program
ORGANIZER;CN="Ulrike Krotscheck":MAILTO:ulrikek@evergreen.edu
END:VEVENT
END:VCALENDAR