BEGIN:VCALENDAR
VERSION:2.0
PRODID:-//Archaeological Institute of America - ECPv6.15.20//NONSGML v1.0//EN
CALSCALE:GREGORIAN
METHOD:PUBLISH
X-WR-CALNAME:Archaeological Institute of America
X-ORIGINAL-URL:https://www.archaeological.org
X-WR-CALDESC:Events for Archaeological Institute of America
REFRESH-INTERVAL;VALUE=DURATION:PT1H
X-Robots-Tag:noindex
X-PUBLISHED-TTL:PT1H
BEGIN:VTIMEZONE
TZID:America/Chicago
BEGIN:DAYLIGHT
TZOFFSETFROM:-0600
TZOFFSETTO:-0500
TZNAME:CDT
DTSTART:20220313T080000
END:DAYLIGHT
BEGIN:STANDARD
TZOFFSETFROM:-0500
TZOFFSETTO:-0600
TZNAME:CST
DTSTART:20221106T070000
END:STANDARD
BEGIN:DAYLIGHT
TZOFFSETFROM:-0600
TZOFFSETTO:-0500
TZNAME:CDT
DTSTART:20230312T080000
END:DAYLIGHT
BEGIN:STANDARD
TZOFFSETFROM:-0500
TZOFFSETTO:-0600
TZNAME:CST
DTSTART:20231105T070000
END:STANDARD
BEGIN:DAYLIGHT
TZOFFSETFROM:-0600
TZOFFSETTO:-0500
TZNAME:CDT
DTSTART:20240310T080000
END:DAYLIGHT
BEGIN:STANDARD
TZOFFSETFROM:-0500
TZOFFSETTO:-0600
TZNAME:CST
DTSTART:20241103T070000
END:STANDARD
END:VTIMEZONE
BEGIN:VTIMEZONE
TZID:America/New_York
BEGIN:DAYLIGHT
TZOFFSETFROM:-0500
TZOFFSETTO:-0400
TZNAME:EDT
DTSTART:20210314T070000
END:DAYLIGHT
BEGIN:STANDARD
TZOFFSETFROM:-0400
TZOFFSETTO:-0500
TZNAME:EST
DTSTART:20211107T060000
END:STANDARD
BEGIN:DAYLIGHT
TZOFFSETFROM:-0500
TZOFFSETTO:-0400
TZNAME:EDT
DTSTART:20220313T070000
END:DAYLIGHT
BEGIN:STANDARD
TZOFFSETFROM:-0400
TZOFFSETTO:-0500
TZNAME:EST
DTSTART:20221106T060000
END:STANDARD
BEGIN:DAYLIGHT
TZOFFSETFROM:-0500
TZOFFSETTO:-0400
TZNAME:EDT
DTSTART:20230312T070000
END:DAYLIGHT
BEGIN:STANDARD
TZOFFSETFROM:-0400
TZOFFSETTO:-0500
TZNAME:EST
DTSTART:20231105T060000
END:STANDARD
END:VTIMEZONE
BEGIN:VEVENT
DTSTART;TZID=America/Chicago:20231021T100000
DTEND;TZID=America/Chicago:20231021T140000
DTSTAMP:20260424T115017
CREATED:20231009T160015Z
LAST-MODIFIED:20231020T140846Z
UID:10006577-1697882400-1697896800@www.archaeological.org
SUMMARY:Archeology Day Fair at Hot Springs National Park
DESCRIPTION:Join archeologists from Ouachita National Forest\, the Arkansas Archeological Society\, and Hot Springs National Park on Arlington Lawn as we celebrate International Archeology Day with demonstrations and activities for people of all ages.\nActivities will include “Show & Tell” with artifacts\, raw materials and replicas\, cordage bracelet making\, sandbox excavations\, an archeology obstacle course\, and more. As an added bonus\, kids can earn an Archeology Junior Ranger Badge by completing the activities!
URL:https://www.archaeological.org/event/archeology-day-fair-at-hot-springs-national-park/
LOCATION:Arlington Lawn\, 369 Central Ave\, Hot Springs\, AR\, 71901\, United States
CATEGORIES:Education,International Archaeology Day
ATTACH;FMTTYPE=image/jpeg:https://www.archaeological.org/wp-content/uploads/2023/10/158B4058.jpg
ORGANIZER;CN="Victoria Reichard":MAILTO:victoria_reichard@nps.gov
GEO:34.5118959;-93.0535937
X-APPLE-STRUCTURED-LOCATION;VALUE=URI;X-ADDRESS=Arlington Lawn 369 Central Ave Hot Springs AR 71901 United States;X-APPLE-RADIUS=500;X-TITLE=369 Central Ave:geo:-93.0535937,34.5118959
END:VEVENT
BEGIN:VEVENT
DTSTART;TZID=America/New_York:20221015T100000
DTEND;TZID=America/New_York:20221015T140000
DTSTAMP:20260424T115017
CREATED:20220829T133450Z
LAST-MODIFIED:20220829T133450Z
UID:10006029-1665828000-1665842400@www.archaeological.org
SUMMARY:Archeology Day at Hot Springs National Park
DESCRIPTION:Join archeologists from Ouachita National Forest\, the Arkansas Archeological Society\, and Hot Springs National Park as we celebrate International Archeology Day with a day of demonstrations and activities appropriate for people of all ages. As an added bonus\, kids can earn an Archeology Junior Ranger Badge by completing the activities!
URL:https://www.archaeological.org/event/archeology-day-at-hot-springs-national-park/
LOCATION:Fordyce Visitor Center\, 369 Central Ave\, Hot Springs\, AR\, 71901\, United States
CATEGORIES:International Archaeology Day
ATTACH;FMTTYPE=image/jpeg:https://www.archaeological.org/wp-content/uploads/2022/08/158B1053.jpg
ORGANIZER;CN="Victoria Reichard":MAILTO:victoria_reichard@nps.gov
GEO:34.513718;-93.0534596
X-APPLE-STRUCTURED-LOCATION;VALUE=URI;X-ADDRESS=Fordyce Visitor Center 369 Central Ave Hot Springs AR 71901 United States;X-APPLE-RADIUS=500;X-TITLE=369 Central Ave:geo:-93.0534596,34.513718
END:VEVENT
END:VCALENDAR