BEGIN:VCALENDAR
VERSION:2.0
PRODID:-//Archaeological Institute of America - ECPv6.15.20//NONSGML v1.0//EN
CALSCALE:GREGORIAN
METHOD:PUBLISH
X-ORIGINAL-URL:https://www.archaeological.org
X-WR-CALDESC:Events for Archaeological Institute of America
REFRESH-INTERVAL;VALUE=DURATION:PT1H
X-Robots-Tag:noindex
X-PUBLISHED-TTL:PT1H
BEGIN:VTIMEZONE
TZID:America/Chicago
BEGIN:DAYLIGHT
TZOFFSETFROM:-0600
TZOFFSETTO:-0500
TZNAME:CDT
DTSTART:20200308T080000
END:DAYLIGHT
BEGIN:STANDARD
TZOFFSETFROM:-0500
TZOFFSETTO:-0600
TZNAME:CST
DTSTART:20201101T070000
END:STANDARD
BEGIN:DAYLIGHT
TZOFFSETFROM:-0600
TZOFFSETTO:-0500
TZNAME:CDT
DTSTART:20210314T080000
END:DAYLIGHT
BEGIN:STANDARD
TZOFFSETFROM:-0500
TZOFFSETTO:-0600
TZNAME:CST
DTSTART:20211107T070000
END:STANDARD
BEGIN:DAYLIGHT
TZOFFSETFROM:-0600
TZOFFSETTO:-0500
TZNAME:CDT
DTSTART:20220313T080000
END:DAYLIGHT
BEGIN:STANDARD
TZOFFSETFROM:-0500
TZOFFSETTO:-0600
TZNAME:CST
DTSTART:20221106T070000
END:STANDARD
END:VTIMEZONE
BEGIN:VEVENT
DTSTART;TZID=America/Chicago:20211016T110000
DTEND;TZID=America/Chicago:20211016T150000
DTSTAMP:20260424T143205
CREATED:20211001T151004Z
LAST-MODIFIED:20211001T151004Z
UID:10006112-1634382000-1634396400@www.archaeological.org
SUMMARY:Joint Archeology Day and Junior Ranger Jamboree
DESCRIPTION:This family-focused day will highlight the importance of archeology in parks and will be full of hands-on activities\, archeological displays\, opportunities to get dirty\, hands-on workshops\, and guided hikes\, and collaborations with surrounding agencies and parks.
URL:https://www.archaeological.org/event/joint-archeology-day-and-junior-ranger-jamboree/
LOCATION:Arlington Lawn\, 369 Central Ave\, Hot Springs\, AR\, 71901\, United States
CATEGORIES:International Archaeology Day
ORGANIZER;CN="Victoria Reichard":MAILTO:victoria_reichard@nps.gov
GEO:34.5118959;-93.0535937
X-APPLE-STRUCTURED-LOCATION;VALUE=URI;X-ADDRESS=Arlington Lawn 369 Central Ave Hot Springs AR 71901 United States;X-APPLE-RADIUS=500;X-TITLE=369 Central Ave:geo:-93.0535937,34.5118959
END:VEVENT
END:VCALENDAR