BEGIN:VCALENDAR
VERSION:2.0
PRODID:-//Archaeological Institute of America - ECPv6.1.1//NONSGML v1.0//EN
CALSCALE:GREGORIAN
METHOD:PUBLISH
X-WR-CALNAME:Archaeological Institute of America
X-ORIGINAL-URL:https://www.archaeological.org
X-WR-CALDESC:Events for Archaeological Institute of America
REFRESH-INTERVAL;VALUE=DURATION:PT1H
X-Robots-Tag:noindex
X-PUBLISHED-TTL:PT1H
BEGIN:VTIMEZONE
TZID:America/New_York
BEGIN:DAYLIGHT
TZOFFSETFROM:-0500
TZOFFSETTO:-0400
TZNAME:EDT
DTSTART:20230312T070000
END:DAYLIGHT
BEGIN:STANDARD
TZOFFSETFROM:-0400
TZOFFSETTO:-0500
TZNAME:EST
DTSTART:20231105T060000
END:STANDARD
TZID:America/Denver
BEGIN:DAYLIGHT
TZOFFSETFROM:-0700
TZOFFSETTO:-0600
TZNAME:MDT
DTSTART:20230312T090000
END:DAYLIGHT
BEGIN:STANDARD
TZOFFSETFROM:-0600
TZOFFSETTO:-0700
TZNAME:MST
DTSTART:20231105T080000
END:STANDARD
END:VTIMEZONE
BEGIN:VEVENT
DTSTART;VALUE=DATE:20230523
DTEND;VALUE=DATE:20230607
DTSTAMP:20230621T065216
CREATED:20220831T150154Z
LAST-MODIFIED:20220831T150154Z
UID:155135-1684800000-1686095999@www.archaeological.org
SUMMARY:Morocco: From the Desert to the Sea
DESCRIPTION:Join us for a unique look at the history\, architecture\, archaeology\, and art of Morocco in the company of Professor Emeritus Trevor Marchand and a professional national guide/tour manager. Explore the magnificent landscapes that helped form the country’s ancient and modern cultures\, from the wild Atlantic coast to the High Atlas Mountains\, dense cedar forests\,\nand vast Sahara Desert. It is a land of extraordinary contrasts\, and on this custom-designed itinerary you will visit all of the country’s best-known historic sites\, including six that are inscribed on UNESCO’s World Heritage List\, as well as bustling casbahs\, medinas\, and souks.
URL:https://www.archaeological.org/event/morocco-from-the-desert-to-the-sea/
CATEGORIES:AIA Tours / Travel Program
ATTACH;FMTTYPE=image/png:https://www.archaeological.org/wp-content/uploads/2022/08/MoroccoCoverflow_2023.png
ORGANIZER;CN="Emily%20Clever":MAILTO:aia@studytours.org
END:VEVENT
BEGIN:VEVENT
DTSTART;TZID=America/New_York:20230525T170000
DTEND;TZID=America/New_York:20230525T210000
DTSTAMP:20230621T065216
CREATED:20230510T000946Z
LAST-MODIFIED:20230510T192956Z
UID:220633-1685034000-1685048400@www.archaeological.org
SUMMARY:ArtsThursdays at HMSC
DESCRIPTION:Explore the Harvard Museums of Science & Culture at night! Enjoy free admission at two HMSC museums as part of ArtsThursdays. All ages are welcome. \nHarvard Museum of Natural History\nVisit the new exhibits Swimming with Sharks and In Search of Thoreau’s Flowers\, as well as the world-famous Glass Flowers. Find your birthstone in the newly renovated mineral gallery\, see large tigers\, and view dinosaur fossils in the paleontology gallery. \nPeabody Museum of Archaeology & Ethnology\nExplore towering Maya sculptures in the Latin American galleries and see the new exhibit\, Shehuo: Community Fire\, featuring contemporary photographs of Shehuo\, the rural Chinese festival transformed by economic forces. See nineteenth-century Plains Indian warrior art in an exhibit co-curated by Hunkpapa Lakota artist and tribal educator Butch Thunder Hawk. \nArtsThursdays is a university-wide initiative supported by Harvard University Committee on the Arts (HUCA). This program is part of HMSC’s 10-Year Anniversary celebration. \nPhoto: EJSP Visual | Julieta Sarmiento
URL:https://www.archaeological.org/event/artsthursdays-at-hmsc/
LOCATION:Peabody Museum of Archaeology and Ethnology\, 11 Divinity Avenue\, Cambridge\, MA\, 02138\, United States
CATEGORIES:Other Event
ATTACH;FMTTYPE=image/jpeg:https://www.archaeological.org/wp-content/uploads/2023/05/05-25-ArtsThursday-ESJP_Visual_Julieta_Sarmiento-detail.jpg
ORGANIZER;CN="Harvard%20Museums%20of%20Science%20%26amp%3Bamp%3B%20Culture":MAILTO:hmscpr@hmsc.harvard.edu
GEO:42.377512;-71.1141269
X-APPLE-STRUCTURED-LOCATION;VALUE=URI;X-ADDRESS=Peabody Museum of Archaeology and Ethnology 11 Divinity Avenue Cambridge MA 02138 United States;X-APPLE-RADIUS=500;X-TITLE=11 Divinity Avenue:geo:-71.1141269,42.377512
END:VEVENT
BEGIN:VEVENT
DTSTART;VALUE=DATE:20230526
DTEND;VALUE=DATE:20230605
DTSTAMP:20230621T065216
CREATED:20220906T124011Z
LAST-MODIFIED:20230131T152121Z
UID:156405-1685059200-1685923199@www.archaeological.org
SUMMARY:Cruising Scotland to the Faroe Islands and Iceland-Pre & Post-tour options available!
DESCRIPTION:Travel with archaeologist Mary MacLeod Rivett and discover the myths and stories of the Nordic Vikings and the Gaels of Scotland\, from the misty peaks of Scotland to the rarely visited Faroe Islands and on through the “fire and ice” of Iceland. Cruising the North Atlantic Ocean from Glasgow\, Scotland\, to the remote Faroe Islands and then to Reykjavík\, Iceland\, you will enjoy the luxuries of the exclusively chartered\, five star Le Bellot small ship. On this new specially curated 10-day Cruising Scotland to the Faroe Islands and Iceland cruise you will explore the mighty Norse-Gael kingdom’s legendary impact on Scotland\, Iceland and the Faroe Islands. \nMain tour highlights include:\n• Cruising to the Isle of Iona the birthplace of Christianity in Scotland\, and stroll through the serene\, restored abbey and see the churchyard’s intricate Celtic crosses.\n• An excursion to the 5\,000-year-old Neolithic ruins of the Standing Stones of Callanish.\n• Visiting the village of Sumba and the Akraberg lighthouse to look for puffins\, kittiwakes\, gannets\, and migrating warblers.\n• Embarking on especially designed boats for a private cruise and the chance to touch ice blocks broken from Breidamerkurjőkull\, one of Vatnajőkoll’s glacier outlets.
URL:https://www.archaeological.org/event/cruising-scotland-to-the-faroe-islands-and-iceland-pre-post-tour-options-available/
CATEGORIES:AIA Tours / Travel Program
ATTACH;FMTTYPE=image/png:https://www.archaeological.org/wp-content/uploads/2022/09/ScotIcelandGOH-coverflow-lecturer.png
ORGANIZER;CN="Emily%20Clever":MAILTO:aia@studytours.org
END:VEVENT
BEGIN:VEVENT
DTSTART;TZID=America/Denver:20230527T130000
DTEND;TZID=America/Denver:20230527T150000
DTSTAMP:20230621T065216
CREATED:20230227T140637Z
LAST-MODIFIED:20230227T140637Z
UID:202831-1685192400-1685199600@www.archaeological.org
SUMMARY:The Archaeological Technicians of Quft and the Art of Excavation as Cultural Heritage in Egypt
DESCRIPTION:Abstract: \nThe small town of Quft in southern Upper Egypt is unique in the history of archaeology for having developed a specialized craft industry of highly skilled archaeological excavators\, whose skills and networks in the field have been passed down through several generations of family “guilds” from the late nineteenth century to today. This talk traces the historical origins of the Qufti excavation system\, as well as the economic trajectory of its rise and decline as an archaeological “commodity;” describes the documentation and historical record it has left behind; and makes the case for conceptualizing the Quftis’ work as a kind of intangible cultural heritage in Egypt. \nBio: \nWendy is an historian of archaeology and modern Egypt. She is currently writing a history of archaeology and the Egyptian economy under the khedives (c.1850-1914)\, based on her doctoral research at the University of Pennsylvania. She has written several articles on the history of archaeological labor and fieldwork and is also a member of the Institute of Fine Arts\, NYU excavations at Abydos\, Egypt\, and the Arabic Diaries Project of the Harvard University-MFA\, Boston Expedition to Egypt and Sudan Archive. She holds a PhD in History from the University of Pennsylvania\, an MA in Museology from the University of Washington\, and a BA in Linguistics and Anthropology from the University of Washington.
URL:https://www.archaeological.org/event/the-archaeological-technicians-of-quft-and-the-art-of-excavation-as-cultural-heritage-in-egypt/
CATEGORIES:AIA Lecture Program
ORGANIZER;CN="Aaron%20Theis":MAILTO:info@aiadenver.org
END:VEVENT
BEGIN:VEVENT
DTSTART;VALUE=DATE:20230530
DTEND;VALUE=DATE:20230611
DTSTAMP:20230621T065216
CREATED:20220817T130617Z
LAST-MODIFIED:20230609T183003Z
UID:151702-1685404800-1686441599@www.archaeological.org
SUMMARY:From Stonehenge to Carnac: Megaliths\, Monuments & Tombs of Wessex & Brittany
DESCRIPTION:Explore the extraordinary prehistoric sites of Wessex\, England\, and Brittany\, France with AIA lecturer and host Dr. Ian Tattersall. Amidst beautiful landscapes see world renowned\, as well as lesser known\, Neolithic and Bronze Age megaliths and monuments such as enigmatic rings of giant standing stones and remarkable chambered tombs.\nHighlights Include:\n• Stonehenge\, the world’s most famous megalithic site\, which is a UNESCO World Heritage Site together with Avebury\, a unique Neolithic henge that includes Europe’s largest prehistoric stone circle.\n• Enigmatic chambered tombs such as West Kennet Long Barrow.\n• Carnac\, with more than 3\,000 prehistoric standing stones\, the world’s largest collection of megalithic monuments.\n• The uninhabited island of Gavrinis\, with a magnificent passage tomb that is lined with elaborately engraved\, vertical stones.\n• Several outstanding museum collections including prehistoric necklaces\, pendants\, polished stone axes\, and more.\n• The UNESCO World Heritage Site of Mont-Saint-Michel\, an imposing abbey built on a tidal island.\n• Charming villages\, medieval churches\, and beautiful landscapes of coastlines and rolling hills.\n• The tour begins in London and ends in Paris! Arrive early and/or stay longer to explore these cities independently.
URL:https://www.archaeological.org/event/from-stonehenge-to-carnac-megaliths-monuments-tombs-of-wessex-brittany/
CATEGORIES:AIA Tours / Travel Program
ATTACH;FMTTYPE=image/png:https://www.archaeological.org/wp-content/uploads/2022/08/Megaliths5-23_coverflow-e1686335389922.png
ORGANIZER;CN="Brittany%20Walters":MAILTO:aia@studytours.org
END:VEVENT
END:VCALENDAR