BEGIN:VCALENDAR
VERSION:2.0
PRODID:-//Archaeological Institute of America - ECPv6.15.20//NONSGML v1.0//EN
CALSCALE:GREGORIAN
METHOD:PUBLISH
X-ORIGINAL-URL:https://www.archaeological.org
X-WR-CALDESC:Events for Archaeological Institute of America
REFRESH-INTERVAL;VALUE=DURATION:PT1H
X-Robots-Tag:noindex
X-PUBLISHED-TTL:PT1H
BEGIN:VTIMEZONE
TZID:America/Chicago
BEGIN:DAYLIGHT
TZOFFSETFROM:-0600
TZOFFSETTO:-0500
TZNAME:CDT
DTSTART:20240310T080000
END:DAYLIGHT
BEGIN:STANDARD
TZOFFSETFROM:-0500
TZOFFSETTO:-0600
TZNAME:CST
DTSTART:20241103T070000
END:STANDARD
BEGIN:DAYLIGHT
TZOFFSETFROM:-0600
TZOFFSETTO:-0500
TZNAME:CDT
DTSTART:20250309T080000
END:DAYLIGHT
BEGIN:STANDARD
TZOFFSETFROM:-0500
TZOFFSETTO:-0600
TZNAME:CST
DTSTART:20251102T070000
END:STANDARD
BEGIN:DAYLIGHT
TZOFFSETFROM:-0600
TZOFFSETTO:-0500
TZNAME:CDT
DTSTART:20260308T080000
END:DAYLIGHT
BEGIN:STANDARD
TZOFFSETFROM:-0500
TZOFFSETTO:-0600
TZNAME:CST
DTSTART:20261101T070000
END:STANDARD
END:VTIMEZONE
BEGIN:VTIMEZONE
TZID:America/Winnipeg
BEGIN:DAYLIGHT
TZOFFSETFROM:-0600
TZOFFSETTO:-0500
TZNAME:CDT
DTSTART:20230312T080000
END:DAYLIGHT
BEGIN:STANDARD
TZOFFSETFROM:-0500
TZOFFSETTO:-0600
TZNAME:CST
DTSTART:20231105T070000
END:STANDARD
BEGIN:DAYLIGHT
TZOFFSETFROM:-0600
TZOFFSETTO:-0500
TZNAME:CDT
DTSTART:20240310T080000
END:DAYLIGHT
BEGIN:STANDARD
TZOFFSETFROM:-0500
TZOFFSETTO:-0600
TZNAME:CST
DTSTART:20241103T070000
END:STANDARD
BEGIN:DAYLIGHT
TZOFFSETFROM:-0600
TZOFFSETTO:-0500
TZNAME:CDT
DTSTART:20250309T080000
END:DAYLIGHT
BEGIN:STANDARD
TZOFFSETFROM:-0500
TZOFFSETTO:-0600
TZNAME:CST
DTSTART:20251102T070000
END:STANDARD
END:VTIMEZONE
BEGIN:VEVENT
DTSTART;TZID=America/Chicago:20251019T150000
DTEND;TZID=America/Chicago:20251019T170000
DTSTAMP:20260422T171520
CREATED:20250919T222438Z
LAST-MODIFIED:20251014T133729Z
UID:10008594-1760886000-1760893200@www.archaeological.org
SUMMARY:The Impact of Roman Military Presence on the Arid Landscapes of Southern Jordan and Israel
DESCRIPTION:Martha Sharp Joukowsky Lectureship
URL:https://www.archaeological.org/event/the-impact-of-roman-military-presence-on-the-arid-landscapes-of-southern-jordan-and-israel-3/
LOCATION:118 St Johns College\, University of Manitoba\, 65 Chancellors Cir\, Winnipeg\, Manitoba\, R3T 2N2
CATEGORIES:AIA Lecture Program,Lecture
ORGANIZER;CN="AIA":MAILTO:lectures@archaeological.org
GEO:49.80926;-97.13442
X-APPLE-STRUCTURED-LOCATION;VALUE=URI;X-ADDRESS=118 St Johns College University of Manitoba 65 Chancellors Cir Winnipeg Manitoba R3T 2N2;X-APPLE-RADIUS=500;X-TITLE=65 Chancellors Cir:geo:-97.13442,49.80926
END:VEVENT
BEGIN:VEVENT
DTSTART;TZID=America/Winnipeg:20240303T150000
DTEND;TZID=America/Winnipeg:20240303T150000
DTSTAMP:20260422T171520
CREATED:20230818T205433Z
LAST-MODIFIED:20240130T144938Z
UID:10006939-1709478000-1709478000@www.archaeological.org
SUMMARY:The People of the Roman Frontiers: Investigating Multicultural Populations in the Western Roman Empire Through Archaeology
DESCRIPTION:Santen lecture
URL:https://www.archaeological.org/event/winnipeg-society-national-lecture-program-lecture/
LOCATION:118 St Johns College\, University of Manitoba\, 65 Chancellors Cir\, Winnipeg\, Manitoba\, R3T 2N2
CATEGORIES:AIA Lecture Program,Lecture
ORGANIZER;CN="AIA":MAILTO:lectures@archaeological.org
GEO:49.80926;-97.13442
X-APPLE-STRUCTURED-LOCATION;VALUE=URI;X-ADDRESS=118 St Johns College University of Manitoba 65 Chancellors Cir Winnipeg Manitoba R3T 2N2;X-APPLE-RADIUS=500;X-TITLE=65 Chancellors Cir:geo:-97.13442,49.80926
END:VEVENT
END:VCALENDAR