BEGIN:VCALENDAR
VERSION:2.0
PRODID:-//Archaeological Institute of America - ECPv6.15.20//NONSGML v1.0//EN
CALSCALE:GREGORIAN
METHOD:PUBLISH
X-ORIGINAL-URL:https://www.archaeological.org
X-WR-CALDESC:Events for Archaeological Institute of America
REFRESH-INTERVAL;VALUE=DURATION:PT1H
X-Robots-Tag:noindex
X-PUBLISHED-TTL:PT1H
BEGIN:VTIMEZONE
TZID:America/New_York
BEGIN:DAYLIGHT
TZOFFSETFROM:-0500
TZOFFSETTO:-0400
TZNAME:EDT
DTSTART:20230312T070000
END:DAYLIGHT
BEGIN:STANDARD
TZOFFSETFROM:-0400
TZOFFSETTO:-0500
TZNAME:EST
DTSTART:20231105T060000
END:STANDARD
BEGIN:DAYLIGHT
TZOFFSETFROM:-0500
TZOFFSETTO:-0400
TZNAME:EDT
DTSTART:20240310T070000
END:DAYLIGHT
BEGIN:STANDARD
TZOFFSETFROM:-0400
TZOFFSETTO:-0500
TZNAME:EST
DTSTART:20241103T060000
END:STANDARD
BEGIN:DAYLIGHT
TZOFFSETFROM:-0500
TZOFFSETTO:-0400
TZNAME:EDT
DTSTART:20250309T070000
END:DAYLIGHT
BEGIN:STANDARD
TZOFFSETFROM:-0400
TZOFFSETTO:-0500
TZNAME:EST
DTSTART:20251102T060000
END:STANDARD
BEGIN:DAYLIGHT
TZOFFSETFROM:-0500
TZOFFSETTO:-0400
TZNAME:EDT
DTSTART:20260308T070000
END:DAYLIGHT
BEGIN:STANDARD
TZOFFSETFROM:-0400
TZOFFSETTO:-0500
TZNAME:EST
DTSTART:20261101T060000
END:STANDARD
BEGIN:DAYLIGHT
TZOFFSETFROM:-0500
TZOFFSETTO:-0400
TZNAME:EDT
DTSTART:20270314T070000
END:DAYLIGHT
BEGIN:STANDARD
TZOFFSETFROM:-0400
TZOFFSETTO:-0500
TZNAME:EST
DTSTART:20271107T060000
END:STANDARD
END:VTIMEZONE
BEGIN:VEVENT
DTSTART;TZID=America/New_York:20260416T180000
DTEND;TZID=America/New_York:20260416T193000
DTSTAMP:20260421T093009
CREATED:20250922T150137Z
LAST-MODIFIED:20260416T151806Z
UID:10008662-1776362400-1776367800@www.archaeological.org
SUMMARY:Provincial Coin Portraits of Roman Imperial Women and the Portrait Dissemination System
DESCRIPTION:William E. Metcalf Lectures in Numismatics
URL:https://www.archaeological.org/event/tba-south-pennsylvania-carlisle/
LOCATION:Althouse #106\, Dickinson College\, 22 North West Street\, Carlisle\, PA\, 17013\, United States
CATEGORIES:AIA Lecture Program,Lecture
ORGANIZER;CN="Andrew Dufton":MAILTO:duftona@dickinson.edu
GEO:40.202208;-77.1938
X-APPLE-STRUCTURED-LOCATION;VALUE=URI;X-ADDRESS=Althouse #106 Dickinson College 22 North West Street Carlisle PA 17013 United States;X-APPLE-RADIUS=500;X-TITLE=22 North West Street:geo:-77.1938,40.202208
END:VEVENT
BEGIN:VEVENT
DTSTART;TZID=America/New_York:20240321T180000
DTEND;TZID=America/New_York:20240321T180000
DTSTAMP:20260421T093009
CREATED:20230818T203838Z
LAST-MODIFIED:20240307T195748Z
UID:10006932-1711044000-1711044000@www.archaeological.org
SUMMARY:Archaeology\, Museums\, and War in the 21st Century
DESCRIPTION:Norton lecture
URL:https://www.archaeological.org/event/objects-of-power-on-the-edge-of-the-maya-world-memory-memorialization-and-the-making-of-a-dynasty-at-the-classic-maya-center-of-copan-honduras-2/
LOCATION:Althouse #106\, Dickinson College\, 22 North West Street\, Carlisle\, PA\, 17013\, United States
CATEGORIES:AIA Lecture Program,Lecture
ORGANIZER;CN="AIA":MAILTO:lectures@archaeological.org
GEO:40.202208;-77.1938
X-APPLE-STRUCTURED-LOCATION;VALUE=URI;X-ADDRESS=Althouse #106 Dickinson College 22 North West Street Carlisle PA 17013 United States;X-APPLE-RADIUS=500;X-TITLE=22 North West Street:geo:-77.1938,40.202208
END:VEVENT
END:VCALENDAR