BEGIN:VCALENDAR
VERSION:2.0
PRODID:-//Archaeological Institute of America - ECPv6.15.20//NONSGML v1.0//EN
CALSCALE:GREGORIAN
METHOD:PUBLISH
X-ORIGINAL-URL:https://www.archaeological.org
X-WR-CALDESC:Events for Archaeological Institute of America
REFRESH-INTERVAL;VALUE=DURATION:PT1H
X-Robots-Tag:noindex
X-PUBLISHED-TTL:PT1H
BEGIN:VTIMEZONE
TZID:America/Los_Angeles
BEGIN:DAYLIGHT
TZOFFSETFROM:-0800
TZOFFSETTO:-0700
TZNAME:PDT
DTSTART:20210314T100000
END:DAYLIGHT
BEGIN:STANDARD
TZOFFSETFROM:-0700
TZOFFSETTO:-0800
TZNAME:PST
DTSTART:20211107T090000
END:STANDARD
BEGIN:DAYLIGHT
TZOFFSETFROM:-0800
TZOFFSETTO:-0700
TZNAME:PDT
DTSTART:20220313T100000
END:DAYLIGHT
BEGIN:STANDARD
TZOFFSETFROM:-0700
TZOFFSETTO:-0800
TZNAME:PST
DTSTART:20221106T090000
END:STANDARD
BEGIN:DAYLIGHT
TZOFFSETFROM:-0800
TZOFFSETTO:-0700
TZNAME:PDT
DTSTART:20230312T100000
END:DAYLIGHT
BEGIN:STANDARD
TZOFFSETFROM:-0700
TZOFFSETTO:-0800
TZNAME:PST
DTSTART:20231105T090000
END:STANDARD
BEGIN:DAYLIGHT
TZOFFSETFROM:-0800
TZOFFSETTO:-0700
TZNAME:PDT
DTSTART:20240310T100000
END:DAYLIGHT
BEGIN:STANDARD
TZOFFSETFROM:-0700
TZOFFSETTO:-0800
TZNAME:PST
DTSTART:20241103T090000
END:STANDARD
BEGIN:DAYLIGHT
TZOFFSETFROM:-0800
TZOFFSETTO:-0700
TZNAME:PDT
DTSTART:20250309T100000
END:DAYLIGHT
BEGIN:STANDARD
TZOFFSETFROM:-0700
TZOFFSETTO:-0800
TZNAME:PST
DTSTART:20251102T090000
END:STANDARD
BEGIN:DAYLIGHT
TZOFFSETFROM:-0800
TZOFFSETTO:-0700
TZNAME:PDT
DTSTART:20260308T100000
END:DAYLIGHT
BEGIN:STANDARD
TZOFFSETFROM:-0700
TZOFFSETTO:-0800
TZNAME:PST
DTSTART:20261101T090000
END:STANDARD
BEGIN:DAYLIGHT
TZOFFSETFROM:-0800
TZOFFSETTO:-0700
TZNAME:PDT
DTSTART:20270314T100000
END:DAYLIGHT
BEGIN:STANDARD
TZOFFSETFROM:-0700
TZOFFSETTO:-0800
TZNAME:PST
DTSTART:20271107T090000
END:STANDARD
END:VTIMEZONE
BEGIN:VEVENT
DTSTART;TZID=America/Los_Angeles:20260207T080000
DTEND;TZID=America/Los_Angeles:20260207T170000
DTSTAMP:20260421T105301
CREATED:20260209T155739Z
LAST-MODIFIED:20260209T155739Z
UID:10008849-1770451200-1770483600@www.archaeological.org
SUMMARY:Provenance Research in the Fight Against Looting
DESCRIPTION:The American Research Center in Egypt\, Northern California chapter\, and the UC Berkeley Department of Middle Eastern Languages and Cultures invite you to attend a Zoom lecture by Sara Aly\, Griffith Institute: \n“Provenance Research in the Fight Against Looting”\nSunday\, February 22 2026\, 3 PM PST \nRegister in advance for this lecture:\nhttps://us02web.zoom.us/meeting/register/MvauTi1wT0OHniyDLJXJHw \nAfter registering\, you will receive a confirmation email containing information about joining the lecture. \nThere are a few things you should know before you join the lecture: \n* Advance registration is required. When you click on the link to “Register in advance for this lecture” you will receive instructions by email on how and when to join\, along with a link on which you will click to join the meeting. Save the email\, as you will need the link it contains to join the meeting. Please register now. Please do not share the join link with anyone\, it is unique to your email address. Try to join at least 10 minutes before the meeting. When you do join the meeting\, be prepared to be put in the waiting room until the lecture starts at 3 pm. This is a security measure. \n* If you haven’t already installed Zoom\, you should download and install the Zoom program (app) well before you try to join the meeting. There IS an option to use your web browser to join the meeting instead of the Zoom program\, but the browser interface is limited and depends greatly on what browser and what operating system you’re using. \n* For tutorials on how to use Zoom\, go to https://learn-zoom.us/show-me. In particular\, “Joining a Zoom Meeting” should show you what you need to do to join our lecture. \n* All meeting attendees can communicate with everyone\, or with individual participants\, using the chat window\, which can be opened by clicking on the chat button and which you can probably find at the bottom middle of your Zoom viewing screen. Participants will be encouraged to hold their questions for the speaker until after the lecture\, and will also be encouraged to address their questions for the speaker to everyone\, not just to the speaker\, so that all can see them. “Everyone” is the default chat option. \nIf you have any questions\, please email glenn@glennmeyer.net or arcencZoom@gmail.com. \nAbout the Lecture: \nSince the days when the pharaohs ruled over Egypt\, funerary materials have been affected by the greed of people. An enormous amount of wealth was invested in preparations for the afterlife\, but often this richness represented by gold and precious minerals in the funerary equipment became the booty of many\, rather than the resting place for one. Unfortunately\, the scale of destruction due to the ongoing looting is greater today than ever and several illegally sourced artefacts from Egypt constantly appear on the art market. Authorities consistently work to detect these objects by tracing the activity of dealers and galleries\, but a lot still needs to be done. Source countries require tougher laws and international legislation needs to become stricter. Moreover\, the knowledge of specialists must be employed in a systematic way to assist in the rescue of these objects. Museum curators should implement due diligence\, learn about the art market\, and understand how to conduct provenance research. This practice helps with the identification of looted artefacts by analysing an object and comparing it with published examples of the same kind\, allowing its origins to be identified and some lost archaeological context to be recovered. \nAbout the Speaker: \nSara Aly’s research focuses on the circulation of illicitly sourced Egyptian artefacts on the art market\, following a collaboration that started 6 years ago with the Circulating Artefacts project at the British Museum. Her MA dissertation at the University of Manchester (2023) examined upper coffin fragments appearing on the art market. Since 2023\, she has been a member of the Franco-Egyptian Archaeological Mission of Western Thebes\, working at the Ramesseum\, where she analyses coffin and cartonnage fragments. From 2023 to 2025 she worked as an Art Market Expert at the British Museum helping to identify and recover missing items from the museum’s collection. Now based at the Griffith Institute\, Sara is studying the archival material of J.J. Clère related to his documentation of Egyptian objects in the possession of antiquities dealers and collectors between the 1930s and the 1980s. \nAbout Northern California ARCE: \nFor more information\, please visit https://www.youtube.com/@NorthernCaliforniaARCE\, https://www.facebook.com/NorthernCaliforniaARCE\, https://arce-nc.org\, https://bsky.app/profile/khentiamentiu.bsky.social\, and https://khentiamentiu.org. To join the chapter or renew your membership\, please go to https://arce.org/membership/ and select “Berkeley\, CA” as your chapter when you sign up.
URL:https://www.archaeological.org/event/provenance-research-in-the-fight-against-looting/
LOCATION:ARCE-NC Lectures\, Rm 126 Social Sciences Bldg.\, UC Berkeley\, Berkeley\, CA\, 94720\, United States
CATEGORIES:Lecture
ATTACH;FMTTYPE=image/jpeg:https://www.archaeological.org/wp-content/uploads/2026/02/Trafficking.jpg
ORGANIZER;CN="Glenn Meyer":MAILTO:arcencZoom@gmail.com
GEO:37.8718992;-122.2585399
X-APPLE-STRUCTURED-LOCATION;VALUE=URI;X-ADDRESS=ARCE-NC Lectures Rm 126 Social Sciences Bldg. UC Berkeley Berkeley CA 94720 United States;X-APPLE-RADIUS=500;X-TITLE=Rm 126 Social Sciences Bldg.\, UC Berkeley:geo:-122.2585399,37.8718992
END:VEVENT
BEGIN:VEVENT
DTSTART;TZID=America/Los_Angeles:20260125T150000
DTEND;TZID=America/Los_Angeles:20260125T160000
DTSTAMP:20260421T105301
CREATED:20260120T134446Z
LAST-MODIFIED:20260121T222248Z
UID:10008823-1769353200-1769356800@www.archaeological.org
SUMMARY:“She is the Son of Bastet”: Gender in Papyrus Louvre 32308
DESCRIPTION:The American Research Center in Egypt\, Northern California chapter\, and the UC Berkeley Department of Middle Eastern Languages and Cultures invite you to attend a lecture by Rachel Barnas\, UC Berkeley: \n“She is the Son of Bastet”: Gender in Papyrus Louvre 32308\nSunday\, January 25\, 2026\, 3 PM PST\nMELC Lounge\, Room 254 Social Sciences Building\, UC Berkeley\nBecause of nearby construction\, please allow extra time to park your vehicle. \nThis is an in-person lecture and is not virtual. No registration is required.\nThe lecture will be recorded for later publication on the chapter’s YouTube channel. https://www.youtube.com/@NorthernCaliforniaARCE \nAbout the Lecture: \nMagic was a tool for dealing with a host of everyday problems in ancient Egypt\, from headaches and snakebites to bad luck and nightmares\, and employed a wide variety of strategies accordingly. Underlying many of these different strategies was a shared reliance on the power of analogy\, which was used to impose a desirable mythological template on immediate\, everyday reality. To accomplish this superposition\, tools\, problems\, and even the speaker or subject of a spell could all be assigned mythic identities\, ensuring that success was already predestined. \nWhat happened\, though\, when there was a mismatch between the divine identity needed and some aspect of the subject’s everyday self? This situation presents itself in the case of one amuletic papyrus\, Papyrus Louvre 32308\, in which a female patient is cast as multiple male deities. Such casting raises a number of questions: Was this gender conflict seen as a problem? How does the text navigate this apparent conflict? Why not just pick some female deities and avoid the problem altogether? Exploring the answers to these questions through close reading of the Louvre papyrus and comparison to similar spells can help us refine our notions of when the bounds of gender could or could not be pushed in ancient Egypt and why\, revealing just how much ancient magical texts can tell us about their users. \nAbout the Speaker: \nRachel Barnas is a PhD candidate in the Middle Eastern Languages and Cultures department at UC Berkeley. She received her B.A. in Near Eastern Languages and Cultures from Yale University in 2013 and her M.A. in Near & Middle Eastern Civilizations from the University of Toronto in 2020\, both with a focus in Egyptology. Her dissertation project examines patterns of literary and grammatical device usage in Ramesside non-funerary magical texts\, as a means of analyzing the relationship between how the ancient Egyptians used language and how they experienced and understood their world. She has also worked in both curation and epigraphy\, including as Terrace Research Associate at the Boston Museum of Fine Arts and as a member of the IFAO team documenting the tomb of Padiamenope (TT33). \nAbout Northern California ARCE: \nFor more information\, please visit https://www.youtube.com/@NorthernCaliforniaARCE\, https://www.facebook.com/NorthernCaliforniaARCE\, https://arce-nc.org\, https://bsky.app/profile/khentiamentiu.bsky.social\, and https://khentiamentiu.org. To join the chapter or renew your membership\, please go to https://arce.org/membership/ and select “Berkeley\, CA” as your chapter when you sign up.
URL:https://www.archaeological.org/event/she-is-the-son-of-bastet-gender-in-papyrus-louvre-32308/
LOCATION:ARCE-NC Lectures\, Rm 126 Social Sciences Bldg.\, UC Berkeley\, Berkeley\, CA\, 94720\, United States
CATEGORIES:Lecture
ATTACH;FMTTYPE=image/jpeg:https://www.archaeological.org/wp-content/uploads/2026/01/PapyrusLouvreE32308.jpg
ORGANIZER;CN="Glenn Meyer":MAILTO:arcencZoom@gmail.com
GEO:37.8718992;-122.2585399
X-APPLE-STRUCTURED-LOCATION;VALUE=URI;X-ADDRESS=ARCE-NC Lectures Rm 126 Social Sciences Bldg. UC Berkeley Berkeley CA 94720 United States;X-APPLE-RADIUS=500;X-TITLE=Rm 126 Social Sciences Bldg.\, UC Berkeley:geo:-122.2585399,37.8718992
END:VEVENT
BEGIN:VEVENT
DTSTART;TZID=America/Los_Angeles:20240915T150000
DTEND;TZID=America/Los_Angeles:20240915T160000
DTSTAMP:20260421T105301
CREATED:20240826T131333Z
LAST-MODIFIED:20240904T030142Z
UID:10007156-1726412400-1726416000@www.archaeological.org
SUMMARY:In the Shadow of Egypt’s Last Pyramid: Uncovering the Ahmose Cemetery and Its Historical Implications
DESCRIPTION:The American Research Center in Egypt\, Northern California chapter\, and the UC Berkeley Department of Middle Eastern Languages and Cultures invite you to attend a lecture by Emily Smith-Sangster\, Princeton University: \nIn the Shadow of Egypt’s Last Pyramid:\nUncovering the Ahmose Cemetery and Its Historical Implications \nSunday September 15\, 2024\, 3 PM Pacific Daylight Time \nRoom 175 Social Sciences Building\, UC Berkeley \nThis in-person lecture will be recorded for later publication on YouTube. \nAbout the Lecture: \nIn early 2023\, the Abydos South Project (ASP) began its inaugural season working on a plot of land to the local north of the Ahmose Pyramid. The goal of the season was to explore this area of the concession in the hopes of better understanding its use history. This area\, previously unexcavated save for shallow test trenching in 1966 by the EAO\, and surface collection in 1993 by the Ahmose and Tetisheri Project\, had been identified as the possible location of the Ahmose Pyramid Town. \nASP’s excavations\, however\, discovered that this area was\, in fact\, a large elite necropolis used for an exceedingly brief period of time. While analysis is still in progress\, it is clear that this discovery offers significant data that will help us develop our understanding of expressions of elite agency and identity in the cemeteries of Abydos\, while also allowing us to further contextualize elite activity at this site within the wider history of the early New Kingdom. \nThis lecture will discuss these excavations and resulting discoveries\, while also highlighting the impact this discovery will have on our understanding of the Ahmose period at Abydos and beyond. \nAbout the Speaker: \nEmily Smith-Sangster is a Ph.D. Candidate in Egyptian Art and Archaeology at Princeton University and Associate Director of the Abydos South Project. Her dissertation investigates the construction and expression of post-mortem identity during the early New Kingdom at Abydos\, with a particular focus on the Ahmose Cemetery. Her work interacts with themes of landscape\, sensorialism\, gender\, and embodiment. \n————-\nParking is available in UC lots all day on weekends\, for a fee. Ticket dispensing machines accept debit or credit cards. Parking is available in lots around the Social Sciences Building\, and in lots along Bancroft. A map of the campus is available online at http://www.berkeley.edu/map/ . \nAbout ARCE-NC: \nFor more information\, please visit https://www.youtube.com/@NorthernCaliforniaARCE\, https://facebook.com/NorthernCaliforniaARCE/\, https://twitter.com/ARCENCPostings\, and https://khentiamentiu.org.
URL:https://www.archaeological.org/event/in-the-shadow-of-egypts-last-pyramid-uncovering-the-ahmose-cemetery-and-its-historical-implications/
LOCATION:ARCE-NC Lectures\, Rm 126 Social Sciences Bldg.\, UC Berkeley\, Berkeley\, CA\, 94720\, United States
CATEGORIES:Lecture
ATTACH;FMTTYPE=image/jpeg:https://www.archaeological.org/wp-content/uploads/2024/08/SmithSangster-Cover-Image-768x512-1.jpg
ORGANIZER;CN="Glenn Meyer":MAILTO:arcencZoom@gmail.com
GEO:37.8718992;-122.2585399
X-APPLE-STRUCTURED-LOCATION;VALUE=URI;X-ADDRESS=ARCE-NC Lectures Rm 126 Social Sciences Bldg. UC Berkeley Berkeley CA 94720 United States;X-APPLE-RADIUS=500;X-TITLE=Rm 126 Social Sciences Bldg.\, UC Berkeley:geo:-122.2585399,37.8718992
END:VEVENT
BEGIN:VEVENT
DTSTART;TZID=America/Los_Angeles:20221211T150000
DTEND;TZID=America/Los_Angeles:20221211T160000
DTSTAMP:20260421T105301
CREATED:20221111T172200Z
LAST-MODIFIED:20221111T172200Z
UID:10006770-1670770800-1670774400@www.archaeological.org
SUMMARY:A Gateway into the Desert: History\, Exploration\, and Cyclical Rediscovery of Wadi Tumilat
DESCRIPTION:The American Research Center in Egypt\, Northern California Chapter\, and the Near Eastern Studies Department\, University of California\, Berkeley\, invite you to attend a lecture by Dr. Aleksandra Ksiezak\, University of Toronto\, CSU San Bernardino: \n“A Gateway into the Desert: History\, Exploration\, and Cyclical Rediscovery of Wadi Tumilat” \nSunday\, December 11\, 2022\, 3 PM Pacific Standard Time\nRoom 126 Social Sciences Building (formerly Barrows Hall)\nUC Berkeley \nNo Zoom meeting is scheduled for this lecture. \nAbout the Lecture: \nOnce a distributary of the Nile\, Wadi Tumilat is a dry river valley in the Eastern Nile Delta. In antiquity\, the wadi was a major communication artery for trade between Egypt and her neighbours to the east\, and its importance was recognized by many great strategic minds of their day. Across Wadi Tumilat are numerous archaeological sites\, dating from the 3rd millennium BCE to the Late Roman Period. Accompanying them was a navigable canal—an impressive waterway that not only provided the arid valley with water but allowed transportation of goods and people in and out of Egypt. While the ancient canal and its surrounding ruins were a source of fascination for ancient geographers\, and historians\, and were recorded in their writings\, it took centuries for these antiquities to re-emerge in the letters\, reports\, and memoirs of early European travellers to Egypt. \nThis lecture aims to summarize the history of the discovery of Wadi Tumilat and our understanding of its place in Egyptian archaeology. \nAbout the Speaker: \nDr. Aleksandra Ksiezak is a field archaeologist\, Egyptologist\, and ceramicist specializing in macro-and microscopic analyses of Egyptian and Nubian pottery. She obtained her Ph.D. in Egyptology at the University of Toronto (Department of Near and Middle Eastern Civilizations) where she focused on the analysis of the ceramic material from the Second Intermediate Period Hyksos settlement at Tell el-Maskhuta excavated by the Wadi Tumilat Project (WTP) during the late 1970s/early 80s. She is currently involved in research on the identification and study of the Middle Bronze Age trade routes involving Wadi Tumilat through the identification of imported objects and their local imitations identified at Tell el-Maskhuta and the neighbouring sites. Both her past and present research deal with the broader question of migration and mobility in Egypt\, the Sinai Peninsula\, and the Levant during the Bronze Age. She currently holds the position of W. Benson Harer Egyptology Scholar in Residence at California State University\, San Bernardino. \n——————- \nParking is available in UC lots all day on weekends\, for a fee. Ticket dispensing machines accept debit or credit cards. Parking is available in lots around the Social Sciences Building\, and in lots along Bancroft. A map of the campus is available online at http://www.berkeley.edu/map/ \nAbout ARCE-NC: \nFor more information\, please visit https://facebook.com/NorthernCaliforniaARCE/\, https://arce-nc.org/\, https://twitter.com/ARCENCPostings\, or https://khentiamentiu.org. To join the chapter or renew your membership\, please go to https://www.arce.org/general-membership and select “Berkeley\, CA” as your chapter when you sign up.
URL:https://www.archaeological.org/event/a-gateway-into-the-desert-history-exploration-and-cyclical-rediscovery-of-wadi-tumilat/
LOCATION:ARCE-NC Lectures\, Rm 126 Social Sciences Bldg.\, UC Berkeley\, Berkeley\, CA\, 94720\, United States
CATEGORIES:Lecture
ATTACH;FMTTYPE=image/jpeg:https://www.archaeological.org/wp-content/uploads/2022/11/Dominique-Adolphe-Grenet-de-Joigny-Necho-2-Canal.jpg
ORGANIZER;CN="Glenn Meyer":MAILTO:arcencZoom@gmail.com
GEO:37.8718992;-122.2585399
X-APPLE-STRUCTURED-LOCATION;VALUE=URI;X-ADDRESS=ARCE-NC Lectures Rm 126 Social Sciences Bldg. UC Berkeley Berkeley CA 94720 United States;X-APPLE-RADIUS=500;X-TITLE=Rm 126 Social Sciences Bldg.\, UC Berkeley:geo:-122.2585399,37.8718992
END:VEVENT
END:VCALENDAR