BEGIN:VCALENDAR
VERSION:2.0
PRODID:-//Archaeological Institute of America - ECPv6.15.20//NONSGML v1.0//EN
CALSCALE:GREGORIAN
METHOD:PUBLISH
X-WR-CALNAME:Archaeological Institute of America
X-ORIGINAL-URL:https://www.archaeological.org
X-WR-CALDESC:Events for Archaeological Institute of America
REFRESH-INTERVAL;VALUE=DURATION:PT1H
X-Robots-Tag:noindex
X-PUBLISHED-TTL:PT1H
BEGIN:VTIMEZONE
TZID:America/Chicago
BEGIN:DAYLIGHT
TZOFFSETFROM:-0600
TZOFFSETTO:-0500
TZNAME:CDT
DTSTART:20220313T080000
END:DAYLIGHT
BEGIN:STANDARD
TZOFFSETFROM:-0500
TZOFFSETTO:-0600
TZNAME:CST
DTSTART:20221106T070000
END:STANDARD
BEGIN:DAYLIGHT
TZOFFSETFROM:-0600
TZOFFSETTO:-0500
TZNAME:CDT
DTSTART:20230312T080000
END:DAYLIGHT
BEGIN:STANDARD
TZOFFSETFROM:-0500
TZOFFSETTO:-0600
TZNAME:CST
DTSTART:20231105T070000
END:STANDARD
BEGIN:DAYLIGHT
TZOFFSETFROM:-0600
TZOFFSETTO:-0500
TZNAME:CDT
DTSTART:20240310T080000
END:DAYLIGHT
BEGIN:STANDARD
TZOFFSETFROM:-0500
TZOFFSETTO:-0600
TZNAME:CST
DTSTART:20241103T070000
END:STANDARD
END:VTIMEZONE
BEGIN:VEVENT
DTSTART;TZID=America/Chicago:20230927T180000
DTEND;TZID=America/Chicago:20230927T180000
DTSTAMP:20260422T170158
CREATED:20230818T162502Z
LAST-MODIFIED:20230925T134545Z
UID:10006891-1695837600-1695837600@www.archaeological.org
SUMMARY:Currents and Commodities: How Oceanographic Effects Influenced the Prehistoric Colonization of Islands
DESCRIPTION:
URL:https://www.archaeological.org/event/central-texas-society-national-lecture-program-lecture/
LOCATION:ART 1.110\, UT Austin Campus\, 2301 SAN JACINTO BLVD\, Au\, TX\, 78712
CATEGORIES:AIA Lecture Program,Lecture
GEO:30.2862557;-97.7329957
X-APPLE-STRUCTURED-LOCATION;VALUE=URI;X-ADDRESS=ART 1.110 UT Austin Campus 2301 SAN JACINTO BLVD Au TX 78712;X-APPLE-RADIUS=500;X-TITLE=2301 SAN JACINTO BLVD:geo:-97.7329957,30.2862557
END:VEVENT
END:VCALENDAR