BEGIN:VCALENDAR
VERSION:2.0
PRODID:-//Archaeological Institute of America - ECPv6.15.20//NONSGML v1.0//EN
CALSCALE:GREGORIAN
METHOD:PUBLISH
X-WR-CALNAME:Archaeological Institute of America
X-ORIGINAL-URL:https://www.archaeological.org
X-WR-CALDESC:Events for Archaeological Institute of America
REFRESH-INTERVAL;VALUE=DURATION:PT1H
X-Robots-Tag:noindex
X-PUBLISHED-TTL:PT1H
BEGIN:VTIMEZONE
TZID:America/New_York
BEGIN:DAYLIGHT
TZOFFSETFROM:-0500
TZOFFSETTO:-0400
TZNAME:EDT
DTSTART:20210314T070000
END:DAYLIGHT
BEGIN:STANDARD
TZOFFSETFROM:-0400
TZOFFSETTO:-0500
TZNAME:EST
DTSTART:20211107T060000
END:STANDARD
BEGIN:DAYLIGHT
TZOFFSETFROM:-0500
TZOFFSETTO:-0400
TZNAME:EDT
DTSTART:20220313T070000
END:DAYLIGHT
BEGIN:STANDARD
TZOFFSETFROM:-0400
TZOFFSETTO:-0500
TZNAME:EST
DTSTART:20221106T060000
END:STANDARD
BEGIN:DAYLIGHT
TZOFFSETFROM:-0500
TZOFFSETTO:-0400
TZNAME:EDT
DTSTART:20230312T070000
END:DAYLIGHT
BEGIN:STANDARD
TZOFFSETFROM:-0400
TZOFFSETTO:-0500
TZNAME:EST
DTSTART:20231105T060000
END:STANDARD
BEGIN:DAYLIGHT
TZOFFSETFROM:-0500
TZOFFSETTO:-0400
TZNAME:EDT
DTSTART:20240310T070000
END:DAYLIGHT
BEGIN:STANDARD
TZOFFSETFROM:-0400
TZOFFSETTO:-0500
TZNAME:EST
DTSTART:20241103T060000
END:STANDARD
END:VTIMEZONE
BEGIN:VEVENT
DTSTART;TZID=America/New_York:20231021T100000
DTEND;TZID=America/New_York:20231021T150000
DTSTAMP:20260421T060846
CREATED:20230929T141520Z
LAST-MODIFIED:20231003T185833Z
UID:10007007-1697882400-1697900400@www.archaeological.org
SUMMARY:History Under Our Feet: A Day of Archaeology at Audubon State Historic Site
DESCRIPTION:Saturday\, October 21\, 10am-3pm\n$ = $5 grounds fee\nFamily Friendly \nWhat clues to the past lie just beneath your feet\, waiting to be discovered? How can archaeology give voice to the enslaved people of Oakley who have historically been silenced? And why are archaeologists so crazy about pottery anyway?! \nJoin us for a day dedicated to the archaeology of Oakley Plantation. An experienced archaeologist will guide you through a recreated dig carefully modeled after the actual slave cabin excavations. Learn the significance of the site and the methods used for excavating\, and afterwards\, you will be able to sift the dirt\, map the site\, and discover the forgotten lives of Oakley for yourself.
URL:https://www.archaeological.org/event/history-under-our-feet-a-day-of-archaeology-at-audubon-state-historic-site/
LOCATION:Audubon State Historic Site\, 11788 La Hwy 965\, St. Francisville\, LA\, 70775\, United States
CATEGORIES:International Archaeology Day
ORGANIZER;CN="John House":MAILTO:audubon@crt.state.la.us
GEO:30.7974347;-91.3081521
X-APPLE-STRUCTURED-LOCATION;VALUE=URI;X-ADDRESS=Audubon State Historic Site 11788 La Hwy 965 St. Francisville LA 70775 United States;X-APPLE-RADIUS=500;X-TITLE=11788 La Hwy 965:geo:-91.3081521,30.7974347
END:VEVENT
BEGIN:VEVENT
DTSTART;TZID=America/New_York:20221030T100000
DTEND;TZID=America/New_York:20221030T160000
DTSTAMP:20260421T060846
CREATED:20220930T181450Z
LAST-MODIFIED:20220930T181450Z
UID:10006729-1667124000-1667145600@www.archaeological.org
SUMMARY:Audubon State Historic Site's Revolutionary War in Louisiana
DESCRIPTION:Saturday\, October 29\, 10am-4pm\nSunday\, October 30\, 10am-4pm\n$ = $5 grounds fee\nFamily Friendly \nVisit Audubon State Historic Site and step into the American Revolutionary War! Explore Louisiana’s role in the revolution and the 243rd Anniversary of the siege and battle for Baton Rouge through Living History Demonstrations. Special activities include militia drills throughout the day and musket ball-making demonstrations\, open hearth cooking\, life of a soldier and more. \nFor more information\, visit:\nhttps://www.facebook.com/events/2894057277406974
URL:https://www.archaeological.org/event/audubon-state-historic-sites-revolutionary-war-in-louisiana-2/
LOCATION:Audubon State Historic Site\, 11788 La Hwy 965\, St. Francisville\, LA\, 70775\, United States
CATEGORIES:International Archaeology Day
ORGANIZER;CN="Maegan Smith":MAILTO:archaeology@crt.la.gov
GEO:30.7974347;-91.3081521
X-APPLE-STRUCTURED-LOCATION;VALUE=URI;X-ADDRESS=Audubon State Historic Site 11788 La Hwy 965 St. Francisville LA 70775 United States;X-APPLE-RADIUS=500;X-TITLE=11788 La Hwy 965:geo:-91.3081521,30.7974347
END:VEVENT
BEGIN:VEVENT
DTSTART;TZID=America/New_York:20221029T100000
DTEND;TZID=America/New_York:20221029T160000
DTSTAMP:20260421T060846
CREATED:20220930T161825Z
LAST-MODIFIED:20220930T161825Z
UID:10006716-1667037600-1667059200@www.archaeological.org
SUMMARY:Audubon State Historic Site's Revolutionary War in Louisiana
DESCRIPTION:Saturday\, October 29\, 10am-4pm\nSunday\, October 30\, 10am-4pm\n$ = $5 grounds fee\nFamily Friendly \nVisit Audubon State Historic Site and step into the American Revolutionary War! Explore Louisiana’s role in the revolution and the 243rd Anniversary of the siege and battle for Baton Rouge through Living History Demonstrations. Special activities include militia drills throughout the day and musket ball-making demonstrations\, open hearth cooking\, life of a soldier and more. \nFor more information\, visit:\nhttps://www.facebook.com/events/2894057277406974
URL:https://www.archaeological.org/event/audubon-state-historic-sites-revolutionary-war-in-louisiana/
LOCATION:Audubon State Historic Site\, 11788 La Hwy 965\, St. Francisville\, LA\, 70775\, United States
CATEGORIES:International Archaeology Day
ORGANIZER;CN="Maegan Smith":MAILTO:archaeology@crt.la.gov
GEO:30.7974347;-91.3081521
X-APPLE-STRUCTURED-LOCATION;VALUE=URI;X-ADDRESS=Audubon State Historic Site 11788 La Hwy 965 St. Francisville LA 70775 United States;X-APPLE-RADIUS=500;X-TITLE=11788 La Hwy 965:geo:-91.3081521,30.7974347
END:VEVENT
END:VCALENDAR