BEGIN:VCALENDAR
VERSION:2.0
PRODID:-//Archaeological Institute of America - ECPv6.15.20//NONSGML v1.0//EN
CALSCALE:GREGORIAN
METHOD:PUBLISH
X-WR-CALNAME:Archaeological Institute of America
X-ORIGINAL-URL:https://www.archaeological.org
X-WR-CALDESC:Events for Archaeological Institute of America
REFRESH-INTERVAL;VALUE=DURATION:PT1H
X-Robots-Tag:noindex
X-PUBLISHED-TTL:PT1H
BEGIN:VTIMEZONE
TZID:America/Nome
BEGIN:DAYLIGHT
TZOFFSETFROM:-0900
TZOFFSETTO:-0800
TZNAME:AKDT
DTSTART:20230312T110000
END:DAYLIGHT
BEGIN:STANDARD
TZOFFSETFROM:-0800
TZOFFSETTO:-0900
TZNAME:AKST
DTSTART:20231105T100000
END:STANDARD
BEGIN:DAYLIGHT
TZOFFSETFROM:-0900
TZOFFSETTO:-0800
TZNAME:AKDT
DTSTART:20240310T110000
END:DAYLIGHT
BEGIN:STANDARD
TZOFFSETFROM:-0800
TZOFFSETTO:-0900
TZNAME:AKST
DTSTART:20241103T100000
END:STANDARD
BEGIN:DAYLIGHT
TZOFFSETFROM:-0900
TZOFFSETTO:-0800
TZNAME:AKDT
DTSTART:20250309T110000
END:DAYLIGHT
BEGIN:STANDARD
TZOFFSETFROM:-0800
TZOFFSETTO:-0900
TZNAME:AKST
DTSTART:20251102T100000
END:STANDARD
END:VTIMEZONE
BEGIN:VEVENT
DTSTART;VALUE=DATE:20241019
DTEND;VALUE=DATE:20241020
DTSTAMP:20260424T183753
CREATED:20241018T155453Z
LAST-MODIFIED:20241018T164514Z
UID:10007347-1729296000-1729382399@www.archaeological.org
SUMMARY:Open to Public: Archaeological Dig at the Barracks
DESCRIPTION:The public is invited to participate in archaeology at the Barracks for International Archaeology Day\, October 19\, 2024. Opportunities to help and observe are from 10:00 a.m. to 4:00 p.m. \nThe City of Lewisburg and the Greenbrier Historical Society are sponsoring an archaeological survey of the Barracks property in Lewisburg  (934 N. Jefferson\, intersection of N. Jefferson and East Randoph streets)\,  partially funded by a grant from the West Virginia Department of Arts\, Culture\, and History. \nThe Barracks property was within Camp Union\, the 1774 gathering of over 1\,300 militia in preparation for the march to Point Pleasant\, whose 250th anniversary was commemorated there on Saturday\, September 28\, 2024\, with period reenactments and a special exhibit. The Barracks property is also just downhill from the most likely location of Fort Savannah\, built in 1776.  The investigation will be looking for any remains from these 18th century occupations\, as well as the 19th century industrial uses of the area. \nContact archaeologist Dr. Kim Arbogast McBride at kim.mcbride@uky.edu or call the North House Museum at 304 645-3398 for more information.
URL:https://www.archaeological.org/event/barracks/
LOCATION:Barracks\, 934 N. Jefferson St.\, Lewisburg\, WV\, 24901\, United States
CATEGORIES:International Archaeology Day
ATTACH;FMTTYPE=image/jpeg:https://www.archaeological.org/wp-content/uploads/2024/10/barracks-building-close-up.jpg
ORGANIZER;CN="Kim A. McBride":MAILTO:kim.mcbride@uky.edu
GEO:37.8080729;-80.435091
X-APPLE-STRUCTURED-LOCATION;VALUE=URI;X-ADDRESS=Barracks 934 N. Jefferson St. Lewisburg WV 24901 United States;X-APPLE-RADIUS=500;X-TITLE=934 N. Jefferson St.:geo:-80.435091,37.8080729
END:VEVENT
END:VCALENDAR