BEGIN:VCALENDAR
VERSION:2.0
PRODID:-//Archaeological Institute of America - ECPv6.15.20//NONSGML v1.0//EN
CALSCALE:GREGORIAN
METHOD:PUBLISH
X-WR-CALNAME:Archaeological Institute of America
X-ORIGINAL-URL:https://www.archaeological.org
X-WR-CALDESC:Events for Archaeological Institute of America
REFRESH-INTERVAL;VALUE=DURATION:PT1H
X-Robots-Tag:noindex
X-PUBLISHED-TTL:PT1H
BEGIN:VTIMEZONE
TZID:America/Anchorage
BEGIN:DAYLIGHT
TZOFFSETFROM:-0900
TZOFFSETTO:-0800
TZNAME:AKDT
DTSTART:20210314T110000
END:DAYLIGHT
BEGIN:STANDARD
TZOFFSETFROM:-0800
TZOFFSETTO:-0900
TZNAME:AKST
DTSTART:20211107T100000
END:STANDARD
BEGIN:DAYLIGHT
TZOFFSETFROM:-0900
TZOFFSETTO:-0800
TZNAME:AKDT
DTSTART:20220313T110000
END:DAYLIGHT
BEGIN:STANDARD
TZOFFSETFROM:-0800
TZOFFSETTO:-0900
TZNAME:AKST
DTSTART:20221106T100000
END:STANDARD
BEGIN:DAYLIGHT
TZOFFSETFROM:-0900
TZOFFSETTO:-0800
TZNAME:AKDT
DTSTART:20230312T110000
END:DAYLIGHT
BEGIN:STANDARD
TZOFFSETFROM:-0800
TZOFFSETTO:-0900
TZNAME:AKST
DTSTART:20231105T100000
END:STANDARD
BEGIN:DAYLIGHT
TZOFFSETFROM:-0900
TZOFFSETTO:-0800
TZNAME:AKDT
DTSTART:20240310T110000
END:DAYLIGHT
BEGIN:STANDARD
TZOFFSETFROM:-0800
TZOFFSETTO:-0900
TZNAME:AKST
DTSTART:20241103T100000
END:STANDARD
BEGIN:DAYLIGHT
TZOFFSETFROM:-0900
TZOFFSETTO:-0800
TZNAME:AKDT
DTSTART:20250309T110000
END:DAYLIGHT
BEGIN:STANDARD
TZOFFSETFROM:-0800
TZOFFSETTO:-0900
TZNAME:AKST
DTSTART:20251102T100000
END:STANDARD
END:VTIMEZONE
BEGIN:VEVENT
DTSTART;TZID=America/Anchorage:20241012T100000
DTEND;TZID=America/Anchorage:20241012T140000
DTSTAMP:20260421T091747
CREATED:20241009T145107Z
LAST-MODIFIED:20241009T145107Z
UID:10007305-1728727200-1728741600@www.archaeological.org
SUMMARY:International Archaeology Day at the Campbell Creek Science Center
DESCRIPTION:10 a.m.–2 p.m – Open house with educational booths \n10–11:45 a.m. – WWII history interpretive walk \nNoon– “A Beautiful Journey” movie showing followed by a\nshort presentation by Dr. Maria Williams on the uses of\nbirch and other materials from the boreal forest. \nAll events take place at Campbell Creek Science Center\, 5600 Science Center Drive\, Anchorage\, AK 99507
URL:https://www.archaeological.org/event/international-archaeology-day-at-the-campbell-creek-science-center/
LOCATION:BLM Campbell Creek Science Center\, 5600 Science Center Drive\, Anchorage\, AK\, 99507\, United States
CATEGORIES:Education,International Archaeology Day
GEO:61.163853;-149.776875
X-APPLE-STRUCTURED-LOCATION;VALUE=URI;X-ADDRESS=BLM Campbell Creek Science Center 5600 Science Center Drive Anchorage AK 99507 United States;X-APPLE-RADIUS=500;X-TITLE=5600 Science Center Drive:geo:-149.776875,61.163853
END:VEVENT
BEGIN:VEVENT
DTSTART;TZID=America/Anchorage:20231021T100000
DTEND;TZID=America/Anchorage:20231021T140000
DTSTAMP:20260421T091747
CREATED:20231016T142843Z
LAST-MODIFIED:20231016T142843Z
UID:10007038-1697882400-1697896800@www.archaeological.org
SUMMARY:Archaeology Day at the BLM Campbell Creek Science Center
DESCRIPTION:Learn to hunt using an atlatl and spear\, meet Pingo Peat (a 14-ft. tall Ice Age mammoth)\, find out what animal bones found at archaeological sites can tell us about the past\, learn how archaeologists excavate sites\, join us for a World War Two interpretive walk\, and much more! The event is open house-style. This event is free and open to the public.
URL:https://www.archaeological.org/event/archaeology-day-at-the-blm-campbell-creek-science-center-3/
LOCATION:BLM Campbell Creek Science Center\, 5600 Science Center Drive\, Anchorage\, AK\, 99507\, United States
CATEGORIES:International Archaeology Day
ORGANIZER;CN="Campbell Creek Science Center":MAILTO:sciencecenter@blm.gov
GEO:61.163853;-149.776875
X-APPLE-STRUCTURED-LOCATION;VALUE=URI;X-ADDRESS=BLM Campbell Creek Science Center 5600 Science Center Drive Anchorage AK 99507 United States;X-APPLE-RADIUS=500;X-TITLE=5600 Science Center Drive:geo:-149.776875,61.163853
END:VEVENT
BEGIN:VEVENT
DTSTART;TZID=America/Anchorage:20221015T100000
DTEND;TZID=America/Anchorage:20221015T140000
DTSTAMP:20260421T091747
CREATED:20221013T164930Z
LAST-MODIFIED:20221013T164930Z
UID:10006750-1665828000-1665842400@www.archaeological.org
SUMMARY:International Archaeology Day
DESCRIPTION:Celebrate International Archaeology Day at the Campbell Creek Science Center with the Bureau of Land Management and its partners! Throw a spear with an atlatl\, unravel the mysteries of old bones\, move like a mammoth\, and more! Fun for the whole family! This open house-style event is free and open to the public.
URL:https://www.archaeological.org/event/international-archaeology-day-21/
LOCATION:BLM Campbell Creek Science Center\, 5600 Science Center Drive\, Anchorage\, AK\, 99507\, United States
CATEGORIES:Education,International Archaeology Day
ATTACH;FMTTYPE=image/jpeg:https://www.archaeological.org/wp-content/uploads/2022/10/IMG_2072.jpg
ORGANIZER;CN="Luise Woelflein":MAILTO:lwoelfle@blm.gov
GEO:61.163853;-149.776875
X-APPLE-STRUCTURED-LOCATION;VALUE=URI;X-ADDRESS=BLM Campbell Creek Science Center 5600 Science Center Drive Anchorage AK 99507 United States;X-APPLE-RADIUS=500;X-TITLE=5600 Science Center Drive:geo:-149.776875,61.163853
END:VEVENT
END:VCALENDAR