BEGIN:VCALENDAR
VERSION:2.0
PRODID:-//Archaeological Institute of America - ECPv6.15.20//NONSGML v1.0//EN
CALSCALE:GREGORIAN
METHOD:PUBLISH
X-WR-CALNAME:Archaeological Institute of America
X-ORIGINAL-URL:https://www.archaeological.org
X-WR-CALDESC:Events for Archaeological Institute of America
REFRESH-INTERVAL;VALUE=DURATION:PT1H
X-Robots-Tag:noindex
X-PUBLISHED-TTL:PT1H
BEGIN:VTIMEZONE
TZID:America/Chicago
BEGIN:DAYLIGHT
TZOFFSETFROM:-0600
TZOFFSETTO:-0500
TZNAME:CDT
DTSTART:20220313T080000
END:DAYLIGHT
BEGIN:STANDARD
TZOFFSETFROM:-0500
TZOFFSETTO:-0600
TZNAME:CST
DTSTART:20221106T070000
END:STANDARD
BEGIN:DAYLIGHT
TZOFFSETFROM:-0600
TZOFFSETTO:-0500
TZNAME:CDT
DTSTART:20230312T080000
END:DAYLIGHT
BEGIN:STANDARD
TZOFFSETFROM:-0500
TZOFFSETTO:-0600
TZNAME:CST
DTSTART:20231105T070000
END:STANDARD
BEGIN:DAYLIGHT
TZOFFSETFROM:-0600
TZOFFSETTO:-0500
TZNAME:CDT
DTSTART:20240310T080000
END:DAYLIGHT
BEGIN:STANDARD
TZOFFSETFROM:-0500
TZOFFSETTO:-0600
TZNAME:CST
DTSTART:20241103T070000
END:STANDARD
END:VTIMEZONE
BEGIN:VEVENT
DTSTART;TZID=America/Chicago:20231014T090000
DTEND;TZID=America/Chicago:20231014T160000
DTSTAMP:20260423T064822
CREATED:20230706T154802Z
LAST-MODIFIED:20230706T154802Z
UID:10006861-1697274000-1697299200@www.archaeological.org
SUMMARY:Boonville Days: Texas Heritage Festival
DESCRIPTION:Join the Brazos Valley Museum of Natural History on October 14\, 2023\, for the 18th annual Boonville Days: Texas Heritage Festival!\nFrom 9 am – 4 pm learn about Brazos County’s pioneer history: visit with characters in period costume\, enjoy cowboys\, reenactors\, musicians\, dancers\, artisans\, and much more.\nVisitors will also have the opportunity to observe demonstrations of frontier skills and trades including flint-knapping\, spinning\, weaving\, quilting\, and blacksmithing.\nThis is a family-friendly event\, so there will be free pony rides\, train rides\, and other activities for children. The Museum will be open free with more exhibits\, activities\, and demonstrators inside!
URL:https://www.archaeological.org/event/boonville-days-texas-heritage-festival-2/
LOCATION:Brazos Valley Museum of Natural History\, 3232 Briarcrest Drive\, Bryan\, TX\, 77802\, United States
CATEGORIES:International Archaeology Day
ATTACH;FMTTYPE=image/jpeg:https://www.archaeological.org/wp-content/uploads/2023/07/Boonville-Days-13.jpg
ORGANIZER;CN="Viola Luo":MAILTO:events@brazosvalleymuseum.org
GEO:30.6666965;-96.3208627
X-APPLE-STRUCTURED-LOCATION;VALUE=URI;X-ADDRESS=Brazos Valley Museum of Natural History 3232 Briarcrest Drive Bryan TX 77802 United States;X-APPLE-RADIUS=500;X-TITLE=3232 Briarcrest Drive:geo:-96.3208627,30.6666965
END:VEVENT
BEGIN:VEVENT
DTSTART;TZID=America/Chicago:20231014T090000
DTEND;TZID=America/Chicago:20231014T160000
DTSTAMP:20260423T064822
CREATED:20230703T154755Z
LAST-MODIFIED:20230919T191144Z
UID:10006860-1697274000-1697299200@www.archaeological.org
SUMMARY:Boonville Days: Texas Heritage Festival
DESCRIPTION:Join the Brazos Valley Museum of Natural History on October 14\, 2023\, for the 18th annual Boonville Days: Texas Heritage Festival! \nTo kick off the festival\, runners and walkers of all ages are welcome to join in the 15th Annual Buffalo Stampede Half Marathon & 5K Race at 7:30 am starting at the Brazos Center. \nAfter the race\, the entire family can enjoy other fun activities highlighting Texas History at this free heritage festival! From 9 am – 4 pm learn about Brazos County’s pioneer history: visit with characters in period costume\, enjoy cowboys\, reenactors\, musicians\, dancers\, artisans\, and much more. \nVisitors will also have the opportunity to observe demonstrations of frontier skills and trades including flint-knapping\, spinning\, weaving\, quilting\, and blacksmithing. \nThis is a family-friendly event\, so there will be free pony rides\, train rides\, and other activities for children. \nThe Museum will be open free with more exhibits\, activities\, and demonstrators inside!
URL:https://www.archaeological.org/event/boonville-days-texas-heritage-festival/
LOCATION:Brazos Valley Museum of Natural History\, 3232 Briarcrest Drive\, Bryan\, TX\, 77802\, United States
CATEGORIES:International Archaeology Day,Workshop
ATTACH;FMTTYPE=image/jpeg:https://www.archaeological.org/wp-content/uploads/2023/06/Boonville-Days-13.jpg
ORGANIZER;CN="Viola Luo":MAILTO:events@brazosvalleymuseum.org
GEO:30.6666965;-96.3208627
X-APPLE-STRUCTURED-LOCATION;VALUE=URI;X-ADDRESS=Brazos Valley Museum of Natural History 3232 Briarcrest Drive Bryan TX 77802 United States;X-APPLE-RADIUS=500;X-TITLE=3232 Briarcrest Drive:geo:-96.3208627,30.6666965
END:VEVENT
END:VCALENDAR